BEGIN:VCALENDAR
VERSION:2.0
PRODID:-//SV de Raadsheer - ECPv6.0.8//NONSGML v1.0//EN
CALSCALE:GREGORIAN
METHOD:PUBLISH
X-WR-CALNAME:SV de Raadsheer
X-ORIGINAL-URL:http://www.sv-deraadsheer.nl
X-WR-CALDESC:Evenementen voor SV de Raadsheer
REFRESH-INTERVAL;VALUE=DURATION:PT1H
X-Robots-Tag:noindex
X-PUBLISHED-TTL:PT1H
BEGIN:VTIMEZONE
TZID:Europe/Paris
BEGIN:DAYLIGHT
TZOFFSETFROM:+0100
TZOFFSETTO:+0200
TZNAME:CEST
DTSTART:20240331T010000
END:DAYLIGHT
BEGIN:STANDARD
TZOFFSETFROM:+0200
TZOFFSETTO:+0100
TZNAME:CET
DTSTART:20241027T010000
END:STANDARD
END:VTIMEZONE
BEGIN:VEVENT
DTSTART;TZID=Europe/Paris:20241123T120000
DTEND;TZID=Europe/Paris:20241123T180000
DTSTAMP:20260422T004229
CREATED:20240517T090131Z
LAST-MODIFIED:20240830T095712Z
UID:18992-1732363200-1732384800@www.sv-deraadsheer.nl
SUMMARY:Externe competitie
DESCRIPTION:Ronde 4\nDe Baronie 2 – De Raadsheer 1\nBergen op Zoom 3 – De Raadsheer 2\nDe Raadsheer 3 – nnb \n  Lees verder ...
URL:http://www.sv-deraadsheer.nl/item/externe-competitie-2024-11-23/
CATEGORIES:Externe Schaak Competitie,Senioren
END:VEVENT
END:VCALENDAR