BEGIN:VCALENDAR
VERSION:2.0
PRODID:-//SV de Raadsheer - ECPv6.0.8//NONSGML v1.0//EN
CALSCALE:GREGORIAN
METHOD:PUBLISH
X-WR-CALNAME:SV de Raadsheer
X-ORIGINAL-URL:http://www.sv-deraadsheer.nl
X-WR-CALDESC:Evenementen voor SV de Raadsheer
REFRESH-INTERVAL;VALUE=DURATION:PT1H
X-Robots-Tag:noindex
X-PUBLISHED-TTL:PT1H
BEGIN:VTIMEZONE
TZID:Europe/Paris
BEGIN:DAYLIGHT
TZOFFSETFROM:+0100
TZOFFSETTO:+0200
TZNAME:CEST
DTSTART:20250330T010000
END:DAYLIGHT
BEGIN:STANDARD
TZOFFSETFROM:+0200
TZOFFSETTO:+0100
TZNAME:CET
DTSTART:20251026T010000
END:STANDARD
END:VTIMEZONE
BEGIN:VEVENT
DTSTART;TZID=Europe/Paris:20251109T094500
DTEND;TZID=Europe/Paris:20251109T123000
DTSTAMP:20260420T053037
CREATED:20250919T101603Z
LAST-MODIFIED:20250919T101603Z
UID:20372-1762681500-1762691400@www.sv-deraadsheer.nl
SUMMARY:Schaakles
DESCRIPTION:Schaakles I: 09:45-10:45 \nSchaakles II: 11:30-12:30 \n  Lees verder ...
URL:http://www.sv-deraadsheer.nl/item/schaakles-2025-11-09/
CATEGORIES:Jeugd,Schaakles
ORGANIZER;CN="Inge%20Oostvogels":MAILTO:inge@sv-deraadsheer.nl
END:VEVENT
BEGIN:VEVENT
DTSTART;TZID=Europe/Paris:20251109T104500
DTEND;TZID=Europe/Paris:20251109T113000
DTSTAMP:20260420T053037
CREATED:20250919T095334Z
LAST-MODIFIED:20250919T095334Z
UID:20360-1762685100-1762687800@www.sv-deraadsheer.nl
SUMMARY:Jeugdcompetitie
DESCRIPTION:Najaarscompetitie ronde 7 \n  Lees verder ...
URL:http://www.sv-deraadsheer.nl/item/jeugdcompetitie-2025-11-09/
CATEGORIES:Interne Jeugd Schaak Competitie,Jeugd
ORGANIZER;CN="Inge%20Oostvogels":MAILTO:inge@sv-deraadsheer.nl
END:VEVENT
END:VCALENDAR