BEGIN:VCALENDAR
VERSION:2.0
PRODID:-//SV de Raadsheer - ECPv6.0.8//NONSGML v1.0//EN
CALSCALE:GREGORIAN
METHOD:PUBLISH
X-WR-CALNAME:SV de Raadsheer
X-ORIGINAL-URL:http://www.sv-deraadsheer.nl
X-WR-CALDESC:Evenementen voor SV de Raadsheer
REFRESH-INTERVAL;VALUE=DURATION:PT1H
X-Robots-Tag:noindex
X-PUBLISHED-TTL:PT1H
BEGIN:VTIMEZONE
TZID:Europe/Paris
BEGIN:DAYLIGHT
TZOFFSETFROM:+0100
TZOFFSETTO:+0200
TZNAME:CEST
DTSTART:20130331T010000
END:DAYLIGHT
BEGIN:STANDARD
TZOFFSETFROM:+0200
TZOFFSETTO:+0100
TZNAME:CET
DTSTART:20131027T010000
END:STANDARD
BEGIN:DAYLIGHT
TZOFFSETFROM:+0100
TZOFFSETTO:+0200
TZNAME:CEST
DTSTART:20140330T010000
END:DAYLIGHT
BEGIN:STANDARD
TZOFFSETFROM:+0200
TZOFFSETTO:+0100
TZNAME:CET
DTSTART:20141026T010000
END:STANDARD
END:VTIMEZONE
BEGIN:VEVENT
DTSTART;VALUE=DATE:20131003
DTEND;VALUE=DATE:20131004
DTSTAMP:20260426T053204
CREATED:20131003T213409Z
LAST-MODIFIED:20131003T213554Z
UID:610-1380758400-1380844799@www.sv-deraadsheer.nl
SUMMARY:Grand-Prix Jeugd Toernooi
DESCRIPTION:Lees verder ...
URL:http://www.sv-deraadsheer.nl/item/grand-prix-jeugd-toernooi/
CATEGORIES:Jeugd,Jeugd Schaak Toernooi
ORGANIZER;CN="Niek%20Oostvogels":MAILTO:niek@sv-deraadsheer.nl
END:VEVENT
BEGIN:VEVENT
DTSTART;TZID=Europe/Paris:20131013T100000
DTEND;TZID=Europe/Paris:20131013T120000
DTSTAMP:20260426T053204
CREATED:20131008T201338Z
LAST-MODIFIED:20131020T190338Z
UID:699-1381658400-1381665600@www.sv-deraadsheer.nl
SUMMARY:Jeugdcompetitie Ronde 3
DESCRIPTION:Lees verder ...
URL:http://www.sv-deraadsheer.nl/item/jeugdcompetitie-ronde-3/
LOCATION:Hotel Eetcafé De Roskam\, Molenstraat 1\, Zundert\, 4881 CP\, Nederland
CATEGORIES:Interne Jeugd Schaak Competitie,Jeugd
ORGANIZER;CN="Inge%20Oostvogels":MAILTO:inge@sv-deraadsheer.nl
END:VEVENT
BEGIN:VEVENT
DTSTART;TZID=Europe/Paris:20131018T194500
DTEND;TZID=Europe/Paris:20131018T235500
DTSTAMP:20260426T053204
CREATED:20130929T194253Z
LAST-MODIFIED:20131008T201954Z
UID:467-1382125500-1382140500@www.sv-deraadsheer.nl
SUMMARY:Simultaan tegen Loek van Wely
DESCRIPTION:Beste Raadsheren\, \nMet trots kan ik jullie melden dat schaakgrootmeester Loek van Wely op vrijdagavond 18 oktober een simultaan komt geven tegen onze schaakvereniging de Raadsheer.   Lees verder ...
URL:http://www.sv-deraadsheer.nl/item/simultaan-tegen-loek-van-wely/
LOCATION:Hotel Eetcafé De Roskam\, Molenstraat 1\, Zundert\, 4881 CP\, Nederland
CATEGORIES:Jeugd,Schaak Toernooien,Senioren
ORGANIZER;CN="Frank%20Verkooijen":MAILTO:frank@sv-deraadsheer.nl
END:VEVENT
BEGIN:VEVENT
DTSTART;TZID=Europe/Paris:20131020T110000
DTEND;TZID=Europe/Paris:20131020T120000
DTSTAMP:20260426T053204
CREATED:20131008T201538Z
LAST-MODIFIED:20131020T191147Z
UID:701-1382266800-1382270400@www.sv-deraadsheer.nl
SUMMARY:Jeugdcompetitie Ronde 4
DESCRIPTION:Lees verder ...
URL:http://www.sv-deraadsheer.nl/item/jeugdcompetitie-ronde-4/
LOCATION:Hotel Eetcafé De Roskam\, Molenstraat 1\, Zundert\, 4881 CP\, Nederland
CATEGORIES:Interne Jeugd Schaak Competitie,Jeugd
ORGANIZER;CN="Inge%20Oostvogels":MAILTO:inge@sv-deraadsheer.nl
END:VEVENT
BEGIN:VEVENT
DTSTART;TZID=Europe/Paris:20131027T110000
DTEND;TZID=Europe/Paris:20131027T120000
DTSTAMP:20260426T053204
CREATED:20131008T201844Z
LAST-MODIFIED:20131020T191113Z
UID:702-1382871600-1382875200@www.sv-deraadsheer.nl
SUMMARY:Jeugdcompetitie Ronde 5
DESCRIPTION:Lees verder ...
URL:http://www.sv-deraadsheer.nl/item/jeugdcompetitie-ronde-5/
LOCATION:Hotel Eetcafé De Roskam\, Molenstraat 1\, Zundert\, 4881 CP\, Nederland
CATEGORIES:Interne Jeugd Schaak Competitie,Jeugd
ORGANIZER;CN="Inge%20Oostvogels":MAILTO:inge@sv-deraadsheer.nl
END:VEVENT
BEGIN:VEVENT
DTSTART;TZID=Europe/Paris:20131027T130000
DTEND;TZID=Europe/Paris:20131027T163000
DTSTAMP:20260426T053204
CREATED:20131015T185158Z
LAST-MODIFIED:20131020T191529Z
UID:875-1382878800-1382891400@www.sv-deraadsheer.nl
SUMMARY:Districtskampioenschap
DESCRIPTION:Middels dit districtskampioenschap kun je je plaatsen voor de Brabantse Kampioenschappen\, voor veel jeugdspelers hét hoogtepunt van het seizoen. Opgave hiervoor kan bij Niek of Inge.   Lees verder ...
URL:http://www.sv-deraadsheer.nl/item/districtskampioenschap/
CATEGORIES:Jeugd,Jeugd Schaak Toernooi
END:VEVENT
BEGIN:VEVENT
DTSTART;TZID=Europe/Paris:20131103T110000
DTEND;TZID=Europe/Paris:20131103T120000
DTSTAMP:20260426T053204
CREATED:20131013T170442Z
LAST-MODIFIED:20131020T191043Z
UID:751-1383476400-1383480000@www.sv-deraadsheer.nl
SUMMARY:Jeugdcompetitie
DESCRIPTION:Lees verder ...
URL:http://www.sv-deraadsheer.nl/item/jeugdcompetitie/
LOCATION:Hotel Eetcafé De Roskam\, Molenstraat 1\, Zundert\, 4881 CP\, Nederland
CATEGORIES:Interne Jeugd Schaak Competitie,Jeugd
ORGANIZER;CN="Inge%20Oostvogels":MAILTO:inge@sv-deraadsheer.nl
END:VEVENT
BEGIN:VEVENT
DTSTART;TZID=Europe/Paris:20131110T110000
DTEND;TZID=Europe/Paris:20131110T120000
DTSTAMP:20260426T053204
CREATED:20131015T184320Z
LAST-MODIFIED:20131020T191014Z
UID:869-1384081200-1384084800@www.sv-deraadsheer.nl
SUMMARY:Jeugdcompetitie
DESCRIPTION:Lees verder ...
URL:http://www.sv-deraadsheer.nl/item/jeugdcompetitie-2/
LOCATION:Hotel Eetcafé De Roskam\, Molenstraat 1\, Zundert\, 4881 CP\, Nederland
CATEGORIES:Interne Jeugd Schaak Competitie,Jeugd
ORGANIZER;CN="Inge%20Oostvogels":MAILTO:inge@sv-deraadsheer.nl
END:VEVENT
BEGIN:VEVENT
DTSTART;TZID=Europe/Paris:20131117T110000
DTEND;TZID=Europe/Paris:20131117T120000
DTSTAMP:20260426T053204
CREATED:20131015T184446Z
LAST-MODIFIED:20131020T190944Z
UID:870-1384686000-1384689600@www.sv-deraadsheer.nl
SUMMARY:Jeugdcompetitie
DESCRIPTION:Lees verder ...
URL:http://www.sv-deraadsheer.nl/item/jeugdcompetitie-3/
LOCATION:Hotel Eetcafé De Roskam\, Molenstraat 1\, Zundert\, 4881 CP\, Nederland
CATEGORIES:Interne Jeugd Schaak Competitie,Jeugd
ORGANIZER;CN="Inge%20Oostvogels":MAILTO:inge@sv-deraadsheer.nl
END:VEVENT
BEGIN:VEVENT
DTSTART;TZID=Europe/Paris:20131124T110000
DTEND;TZID=Europe/Paris:20131124T120000
DTSTAMP:20260426T053205
CREATED:20131015T184522Z
LAST-MODIFIED:20131020T190521Z
UID:871-1385290800-1385294400@www.sv-deraadsheer.nl
SUMMARY:Jeugdcompetitie
DESCRIPTION:Lees verder ...
URL:http://www.sv-deraadsheer.nl/item/jeugdcompetitie-4/
LOCATION:Hotel Eetcafé De Roskam\, Molenstraat 1\, Zundert\, 4881 CP\, Nederland
CATEGORIES:Interne Jeugd Schaak Competitie,Jeugd
ORGANIZER;CN="Niek%20Oostvogels":MAILTO:niek@sv-deraadsheer.nl
END:VEVENT
BEGIN:VEVENT
DTSTART;TZID=Europe/Paris:20131201T000000
DTEND;TZID=Europe/Paris:20131201T000000
DTSTAMP:20260426T053205
CREATED:20131113T214226Z
LAST-MODIFIED:20131113T214226Z
UID:1232-1385856000-1385856000@www.sv-deraadsheer.nl
SUMMARY:Brabants Snelschaakkampioenschap
DESCRIPTION:NBSB Jeugd Snelschaken categorie ABCDE \n  Lees verder ...
URL:http://www.sv-deraadsheer.nl/item/brabants-snelschaakkampioenschap/
LOCATION:Unnamed Venue\, Kaatsheuvel
CATEGORIES:Jeugd,Jeugd Schaak Toernooi
END:VEVENT
BEGIN:VEVENT
DTSTART;TZID=Europe/Paris:20131201T100000
DTEND;TZID=Europe/Paris:20131201T170000
DTSTAMP:20260426T053205
CREATED:20131113T213943Z
LAST-MODIFIED:20131125T200758Z
UID:1231-1385892000-1385917200@www.sv-deraadsheer.nl
SUMMARY:Halve Finale Brabants Jeugdkampioenschap
DESCRIPTION:Halve Finale Persoonlijk Kampioenschap Jeugd categorie ABCDE \n  Lees verder ...
URL:http://www.sv-deraadsheer.nl/item/halve-finale-brabants-jeugdkampioenschap-2/
LOCATION:Multifunctioneel Centrum De Werft\, Huygenstraat 73\, Kaatsheuvel\, 5171 EP\, Nederland
CATEGORIES:Jeugd,Jeugd Schaak Toernooi
END:VEVENT
BEGIN:VEVENT
DTSTART;TZID=Europe/Paris:20131201T103000
DTEND;TZID=Europe/Paris:20131201T140000
DTSTAMP:20260426T053205
CREATED:20131020T185446Z
LAST-MODIFIED:20131124T122505Z
UID:996-1385893800-1385906400@www.sv-deraadsheer.nl
SUMMARY:Sinterklaas simultaan
DESCRIPTION:Lees verder ...
URL:http://www.sv-deraadsheer.nl/item/sinterklaas-simultaan/
LOCATION:Hotel Eetcafé De Roskam\, Molenstraat 1\, Zundert\, 4881 CP\, Nederland
CATEGORIES:Jeugd
ORGANIZER;CN="Inge%20Oostvogels":MAILTO:inge@sv-deraadsheer.nl
END:VEVENT
BEGIN:VEVENT
DTSTART;TZID=Europe/Paris:20131208T110000
DTEND;TZID=Europe/Paris:20131208T120000
DTSTAMP:20260426T053205
CREATED:20131015T184857Z
LAST-MODIFIED:20131020T190612Z
UID:872-1386500400-1386504000@www.sv-deraadsheer.nl
SUMMARY:Jeugdcompetitie
DESCRIPTION:Lees verder ...
URL:http://www.sv-deraadsheer.nl/item/jeugdcompetitie-5/
LOCATION:Hotel Eetcafé De Roskam\, Molenstraat 1\, Zundert\, 4881 CP\, Nederland
CATEGORIES:Interne Jeugd Schaak Competitie,Jeugd
ORGANIZER;CN="Inge%20Oostvogels":MAILTO:inge@sv-deraadsheer.nl
END:VEVENT
BEGIN:VEVENT
DTSTART;TZID=Europe/Paris:20131215T000000
DTEND;TZID=Europe/Paris:20131215T000000
DTSTAMP:20260426T053205
CREATED:20131113T214603Z
LAST-MODIFIED:20131113T214603Z
UID:1234-1387065600-1387065600@www.sv-deraadsheer.nl
SUMMARY:Brabants Meisjeskampioenschap
DESCRIPTION:NBSB Meisjeskampioenschappen \n  Lees verder ...
URL:http://www.sv-deraadsheer.nl/item/brabants-meisjeskampioenschap/
LOCATION:Unnamed Venue\, Waalwijk
CATEGORIES:Jeugd,Jeugd Schaak Toernooi
END:VEVENT
BEGIN:VEVENT
DTSTART;TZID=Europe/Paris:20131215T110000
DTEND;TZID=Europe/Paris:20131215T120000
DTSTAMP:20260426T053205
CREATED:20131015T184938Z
LAST-MODIFIED:20131020T190428Z
UID:873-1387105200-1387108800@www.sv-deraadsheer.nl
SUMMARY:Jeugdcompetitie
DESCRIPTION:Lees verder ...
URL:http://www.sv-deraadsheer.nl/item/jeugdcompetitie-6/
LOCATION:Hotel Eetcafé De Roskam\, Molenstraat 1\, Zundert\, 4881 CP\, Nederland
CATEGORIES:Interne Jeugd Schaak Competitie,Jeugd
ORGANIZER;CN="Inge%20Oostvogels":MAILTO:inge@sv-deraadsheer.nl
END:VEVENT
BEGIN:VEVENT
DTSTART;TZID=Europe/Paris:20131215T130000
DTEND;TZID=Europe/Paris:20131215T170000
DTSTAMP:20260426T053205
CREATED:20131015T190458Z
LAST-MODIFIED:20131125T195209Z
UID:877-1387112400-1387126800@www.sv-deraadsheer.nl
SUMMARY:Grand Prix 1
DESCRIPTION:Lees verder ...
URL:http://www.sv-deraadsheer.nl/item/grand-prix-2/
LOCATION:Unnamed Venue\, Breda
CATEGORIES:Jeugd,Jeugd Schaak Toernooi
END:VEVENT
BEGIN:VEVENT
DTSTART;TZID=Europe/Paris:20131222T110000
DTEND;TZID=Europe/Paris:20131222T120000
DTSTAMP:20260426T053205
CREATED:20131015T185017Z
LAST-MODIFIED:20131020T190403Z
UID:874-1387710000-1387713600@www.sv-deraadsheer.nl
SUMMARY:Jeugdcompetitie
DESCRIPTION:Lees verder ...
URL:http://www.sv-deraadsheer.nl/item/jeugdcompetitie-7/
LOCATION:Hotel Eetcafé De Roskam\, Molenstraat 1\, Zundert\, 4881 CP\, Nederland
CATEGORIES:Interne Jeugd Schaak Competitie,Jeugd
ORGANIZER;CN="Inge%20Oostvogels":MAILTO:inge@sv-deraadsheer.nl
END:VEVENT
BEGIN:VEVENT
DTSTART;TZID=Europe/Paris:20131227T100000
DTEND;TZID=Europe/Paris:20131227T170000
DTSTAMP:20260426T053205
CREATED:20131020T192427Z
LAST-MODIFIED:20131125T200340Z
UID:998-1388138400-1388163600@www.sv-deraadsheer.nl
SUMMARY:PK Jeugd ABCD
DESCRIPTION:Persoonlijk Kampioenschap Jeugd categorie ABCD \n  Lees verder ...
URL:http://www.sv-deraadsheer.nl/item/pk-jeugd-abcd/
LOCATION:Multifunctioneel Centrum De Werft\, Huygenstraat 73\, Kaatsheuvel\, 5171 EP\, Nederland
CATEGORIES:Jeugd,Jeugd Schaak Toernooi
END:VEVENT
BEGIN:VEVENT
DTSTART;TZID=Europe/Paris:20131228T100000
DTEND;TZID=Europe/Paris:20131228T170000
DTSTAMP:20260426T053205
CREATED:20131020T192626Z
LAST-MODIFIED:20131125T200325Z
UID:1000-1388224800-1388250000@www.sv-deraadsheer.nl
SUMMARY:PK Jeugd ABCD
DESCRIPTION:Persoonlijk Kampioenschap Jeugd categorie ABCD \n  Lees verder ...
URL:http://www.sv-deraadsheer.nl/item/pk-jeugd-abcd-2/
LOCATION:Multifunctioneel Centrum De Werft\, Huygenstraat 73\, Kaatsheuvel\, 5171 EP\, Nederland
CATEGORIES:Jeugd,Jeugd Schaak Toernooi
END:VEVENT
BEGIN:VEVENT
DTSTART;TZID=Europe/Paris:20131229T000000
DTEND;TZID=Europe/Paris:20131229T000000
DTSTAMP:20260426T053205
CREATED:20131113T214845Z
LAST-MODIFIED:20131113T214900Z
UID:1236-1388275200-1388275200@www.sv-deraadsheer.nl
SUMMARY:Kerstvakantie
DESCRIPTION:GEEN Jeugdcompetitie \n  Lees verder ...
URL:http://www.sv-deraadsheer.nl/item/kerstvakantie/
CATEGORIES:Jeugd,Vakantie
END:VEVENT
BEGIN:VEVENT
DTSTART;TZID=Europe/Paris:20131229T100000
DTEND;TZID=Europe/Paris:20131229T170000
DTSTAMP:20260426T053205
CREATED:20131020T192904Z
LAST-MODIFIED:20131125T200307Z
UID:1002-1388311200-1388336400@www.sv-deraadsheer.nl
SUMMARY:PK Jeugd ABCD
DESCRIPTION:Persoonlijk Kampioenschap Jeugd categorie ABCD \n  Lees verder ...
URL:http://www.sv-deraadsheer.nl/item/pk-jeugd-abcd-4/
LOCATION:Multifunctioneel Centrum De Werft\, Huygenstraat 73\, Kaatsheuvel\, 5171 EP\, Nederland
CATEGORIES:Jeugd,Jeugd Schaak Toernooi
END:VEVENT
BEGIN:VEVENT
DTSTART;TZID=Europe/Paris:20131230T100000
DTEND;TZID=Europe/Paris:20131230T170000
DTSTAMP:20260426T053205
CREATED:20131020T192714Z
LAST-MODIFIED:20131125T200209Z
UID:1001-1388397600-1388422800@www.sv-deraadsheer.nl
SUMMARY:PK Jeugd ABCE
DESCRIPTION:Persoonlijk Kampioenschap Jeugd categorie ABCE \n  Lees verder ...
URL:http://www.sv-deraadsheer.nl/item/pk-jeugd-abcd-3/
LOCATION:Multifunctioneel Centrum De Werft\, Huygenstraat 73\, Kaatsheuvel\, 5171 EP\, Nederland
CATEGORIES:Jeugd,Jeugd Schaak Toernooi
END:VEVENT
BEGIN:VEVENT
DTSTART;TZID=Europe/Paris:20140105T100000
DTEND;TZID=Europe/Paris:20140105T170000
DTSTAMP:20260426T053205
CREATED:20131020T193029Z
LAST-MODIFIED:20131125T200119Z
UID:1003-1388916000-1388941200@www.sv-deraadsheer.nl
SUMMARY:PK Jeugd E
DESCRIPTION:Persoonlijk Kampioenschap Jeugd categorie E \n  Lees verder ...
URL:http://www.sv-deraadsheer.nl/item/pk-jeugd-e/
LOCATION:Multifunctioneel Centrum De Werft\, Huygenstraat 73\, Kaatsheuvel\, 5171 EP\, Nederland
CATEGORIES:Jeugd,Jeugd Schaak Toernooi
END:VEVENT
BEGIN:VEVENT
DTSTART;TZID=Europe/Paris:20140105T110000
DTEND;TZID=Europe/Paris:20140105T120000
DTSTAMP:20260426T053205
CREATED:20131020T184927Z
LAST-MODIFIED:20131020T190257Z
UID:994-1388919600-1388923200@www.sv-deraadsheer.nl
SUMMARY:Jeugdcompetitie
DESCRIPTION:Lees verder ...
URL:http://www.sv-deraadsheer.nl/item/jeugdcompetitie-8/
LOCATION:Hotel Eetcafé De Roskam\, Molenstraat 1\, Zundert\, 4881 CP\, Nederland
CATEGORIES:Interne Jeugd Schaak Competitie,Jeugd
ORGANIZER;CN="Inge%20Oostvogels":MAILTO:inge@sv-deraadsheer.nl
END:VEVENT
BEGIN:VEVENT
DTSTART;TZID=Europe/Paris:20140112T110000
DTEND;TZID=Europe/Paris:20140112T120000
DTSTAMP:20260426T053205
CREATED:20131020T193620Z
LAST-MODIFIED:20131020T193620Z
UID:1004-1389524400-1389528000@www.sv-deraadsheer.nl
SUMMARY:Jeugdcompetitie
DESCRIPTION:Lees verder ...
URL:http://www.sv-deraadsheer.nl/item/jeugdcompetitie-9/
LOCATION:Hotel Eetcafé De Roskam\, Molenstraat 1\, Zundert\, 4881 CP\, Nederland
CATEGORIES:Interne Jeugd Schaak Competitie,Jeugd
ORGANIZER;CN="Inge%20Oostvogels":MAILTO:inge@sv-deraadsheer.nl
END:VEVENT
BEGIN:VEVENT
DTSTART;TZID=Europe/Paris:20140119T110000
DTEND;TZID=Europe/Paris:20140119T120000
DTSTAMP:20260426T053205
CREATED:20131020T193708Z
LAST-MODIFIED:20131020T193708Z
UID:1005-1390129200-1390132800@www.sv-deraadsheer.nl
SUMMARY:Jeugdcompetitie
DESCRIPTION:Lees verder ...
URL:http://www.sv-deraadsheer.nl/item/jeugdcompetitie-10/
LOCATION:Hotel Eetcafé De Roskam\, Molenstraat 1\, Zundert\, 4881 CP\, Nederland
CATEGORIES:Interne Jeugd Schaak Competitie,Jeugd
ORGANIZER;CN="Inge%20Oostvogels":MAILTO:inge@sv-deraadsheer.nl
END:VEVENT
BEGIN:VEVENT
DTSTART;TZID=Europe/Paris:20140119T130000
DTEND;TZID=Europe/Paris:20140119T170000
DTSTAMP:20260426T053205
CREATED:20131020T194252Z
LAST-MODIFIED:20131218T190152Z
UID:1007-1390136400-1390150800@www.sv-deraadsheer.nl
SUMMARY:Grand Prix 2
DESCRIPTION:Lees verder ...
URL:http://www.sv-deraadsheer.nl/item/grand-prix-3/
LOCATION:Unnamed Venue\, Oosterhout
CATEGORIES:Jeugd,Jeugd Schaak Toernooi
END:VEVENT
BEGIN:VEVENT
DTSTART;TZID=Europe/Paris:20140126T110000
DTEND;TZID=Europe/Paris:20140126T120000
DTSTAMP:20260426T053205
CREATED:20131020T193810Z
LAST-MODIFIED:20131020T193810Z
UID:1006-1390734000-1390737600@www.sv-deraadsheer.nl
SUMMARY:Jeugdcompetitie
DESCRIPTION:Lees verder ...
URL:http://www.sv-deraadsheer.nl/item/jeugdcompetitie-11/
LOCATION:Hotel Eetcafé De Roskam\, Molenstraat 1\, Zundert\, 4881 CP\, Nederland
CATEGORIES:Interne Jeugd Schaak Competitie,Jeugd
ORGANIZER;CN="Inge%20Oostvogels":MAILTO:inge@sv-deraadsheer.nl
END:VEVENT
BEGIN:VEVENT
DTSTART;TZID=Europe/Paris:20140202T110000
DTEND;TZID=Europe/Paris:20140202T120000
DTSTAMP:20260426T053205
CREATED:20131027T212258Z
LAST-MODIFIED:20131027T212258Z
UID:1041-1391338800-1391342400@www.sv-deraadsheer.nl
SUMMARY:Jeugdcompetitie
DESCRIPTION:Lees verder ...
URL:http://www.sv-deraadsheer.nl/item/jeugdcompetitie-12/
LOCATION:Hotel Eetcafé De Roskam\, Molenstraat 1\, Zundert\, 4881 CP\, Nederland
CATEGORIES:Interne Jeugd Schaak Competitie,Jeugd
ORGANIZER;CN="Inge%20Oostvogels":MAILTO:inge@sv-deraadsheer.nl
END:VEVENT
END:VCALENDAR