BEGIN:VCALENDAR
VERSION:2.0
PRODID:-//SV de Raadsheer - ECPv6.0.8//NONSGML v1.0//EN
CALSCALE:GREGORIAN
METHOD:PUBLISH
X-WR-CALNAME:SV de Raadsheer
X-ORIGINAL-URL:http://www.sv-deraadsheer.nl
X-WR-CALDESC:Evenementen voor SV de Raadsheer
REFRESH-INTERVAL;VALUE=DURATION:PT1H
X-Robots-Tag:noindex
X-PUBLISHED-TTL:PT1H
BEGIN:VTIMEZONE
TZID:Europe/Paris
BEGIN:DAYLIGHT
TZOFFSETFROM:+0100
TZOFFSETTO:+0200
TZNAME:CEST
DTSTART:20140330T010000
END:DAYLIGHT
BEGIN:STANDARD
TZOFFSETFROM:+0200
TZOFFSETTO:+0100
TZNAME:CET
DTSTART:20141026T010000
END:STANDARD
END:VTIMEZONE
BEGIN:VEVENT
DTSTART;TZID=Europe/Paris:20140105T100000
DTEND;TZID=Europe/Paris:20140105T170000
DTSTAMP:20260423T000622
CREATED:20131020T193029Z
LAST-MODIFIED:20131125T200119Z
UID:1003-1388916000-1388941200@www.sv-deraadsheer.nl
SUMMARY:PK Jeugd E
DESCRIPTION:Persoonlijk Kampioenschap Jeugd categorie E \n  Lees verder ...
URL:http://www.sv-deraadsheer.nl/item/pk-jeugd-e/
LOCATION:Multifunctioneel Centrum De Werft\, Huygenstraat 73\, Kaatsheuvel\, 5171 EP\, Nederland
CATEGORIES:Jeugd,Jeugd Schaak Toernooi
END:VEVENT
BEGIN:VEVENT
DTSTART;TZID=Europe/Paris:20140105T110000
DTEND;TZID=Europe/Paris:20140105T120000
DTSTAMP:20260423T000622
CREATED:20131020T184927Z
LAST-MODIFIED:20131020T190257Z
UID:994-1388919600-1388923200@www.sv-deraadsheer.nl
SUMMARY:Jeugdcompetitie
DESCRIPTION:Lees verder ...
URL:http://www.sv-deraadsheer.nl/item/jeugdcompetitie-8/
LOCATION:Hotel Eetcafé De Roskam\, Molenstraat 1\, Zundert\, 4881 CP\, Nederland
CATEGORIES:Interne Jeugd Schaak Competitie,Jeugd
ORGANIZER;CN="Inge%20Oostvogels":MAILTO:inge@sv-deraadsheer.nl
END:VEVENT
BEGIN:VEVENT
DTSTART;TZID=Europe/Paris:20140112T110000
DTEND;TZID=Europe/Paris:20140112T120000
DTSTAMP:20260423T000622
CREATED:20131020T193620Z
LAST-MODIFIED:20131020T193620Z
UID:1004-1389524400-1389528000@www.sv-deraadsheer.nl
SUMMARY:Jeugdcompetitie
DESCRIPTION:Lees verder ...
URL:http://www.sv-deraadsheer.nl/item/jeugdcompetitie-9/
LOCATION:Hotel Eetcafé De Roskam\, Molenstraat 1\, Zundert\, 4881 CP\, Nederland
CATEGORIES:Interne Jeugd Schaak Competitie,Jeugd
ORGANIZER;CN="Inge%20Oostvogels":MAILTO:inge@sv-deraadsheer.nl
END:VEVENT
BEGIN:VEVENT
DTSTART;TZID=Europe/Paris:20140119T110000
DTEND;TZID=Europe/Paris:20140119T120000
DTSTAMP:20260423T000622
CREATED:20131020T193708Z
LAST-MODIFIED:20131020T193708Z
UID:1005-1390129200-1390132800@www.sv-deraadsheer.nl
SUMMARY:Jeugdcompetitie
DESCRIPTION:Lees verder ...
URL:http://www.sv-deraadsheer.nl/item/jeugdcompetitie-10/
LOCATION:Hotel Eetcafé De Roskam\, Molenstraat 1\, Zundert\, 4881 CP\, Nederland
CATEGORIES:Interne Jeugd Schaak Competitie,Jeugd
ORGANIZER;CN="Inge%20Oostvogels":MAILTO:inge@sv-deraadsheer.nl
END:VEVENT
BEGIN:VEVENT
DTSTART;TZID=Europe/Paris:20140119T130000
DTEND;TZID=Europe/Paris:20140119T170000
DTSTAMP:20260423T000622
CREATED:20131020T194252Z
LAST-MODIFIED:20131218T190152Z
UID:1007-1390136400-1390150800@www.sv-deraadsheer.nl
SUMMARY:Grand Prix 2
DESCRIPTION:Lees verder ...
URL:http://www.sv-deraadsheer.nl/item/grand-prix-3/
LOCATION:Unnamed Venue\, Oosterhout
CATEGORIES:Jeugd,Jeugd Schaak Toernooi
END:VEVENT
BEGIN:VEVENT
DTSTART;TZID=Europe/Paris:20140126T110000
DTEND;TZID=Europe/Paris:20140126T120000
DTSTAMP:20260423T000622
CREATED:20131020T193810Z
LAST-MODIFIED:20131020T193810Z
UID:1006-1390734000-1390737600@www.sv-deraadsheer.nl
SUMMARY:Jeugdcompetitie
DESCRIPTION:Lees verder ...
URL:http://www.sv-deraadsheer.nl/item/jeugdcompetitie-11/
LOCATION:Hotel Eetcafé De Roskam\, Molenstraat 1\, Zundert\, 4881 CP\, Nederland
CATEGORIES:Interne Jeugd Schaak Competitie,Jeugd
ORGANIZER;CN="Inge%20Oostvogels":MAILTO:inge@sv-deraadsheer.nl
END:VEVENT
BEGIN:VEVENT
DTSTART;TZID=Europe/Paris:20140202T110000
DTEND;TZID=Europe/Paris:20140202T120000
DTSTAMP:20260423T000622
CREATED:20131027T212258Z
LAST-MODIFIED:20131027T212258Z
UID:1041-1391338800-1391342400@www.sv-deraadsheer.nl
SUMMARY:Jeugdcompetitie
DESCRIPTION:Lees verder ...
URL:http://www.sv-deraadsheer.nl/item/jeugdcompetitie-12/
LOCATION:Hotel Eetcafé De Roskam\, Molenstraat 1\, Zundert\, 4881 CP\, Nederland
CATEGORIES:Interne Jeugd Schaak Competitie,Jeugd
ORGANIZER;CN="Inge%20Oostvogels":MAILTO:inge@sv-deraadsheer.nl
END:VEVENT
BEGIN:VEVENT
DTSTART;TZID=Europe/Paris:20140209T110000
DTEND;TZID=Europe/Paris:20140209T120000
DTSTAMP:20260423T000622
CREATED:20131027T212413Z
LAST-MODIFIED:20131027T212413Z
UID:1042-1391943600-1391947200@www.sv-deraadsheer.nl
SUMMARY:Jeugdcompetitie
DESCRIPTION:Lees verder ...
URL:http://www.sv-deraadsheer.nl/item/jeugdcompetitie-13/
LOCATION:Hotel Eetcafé De Roskam\, Molenstraat 1\, Zundert\, 4881 CP\, Nederland
CATEGORIES:Interne Jeugd Schaak Competitie,Jeugd
ORGANIZER;CN="Inge%20Oostvogels":MAILTO:inge@sv-deraadsheer.nl
END:VEVENT
BEGIN:VEVENT
DTSTART;TZID=Europe/Paris:20140216T110000
DTEND;TZID=Europe/Paris:20140216T120000
DTSTAMP:20260423T000622
CREATED:20131027T212448Z
LAST-MODIFIED:20131027T212448Z
UID:1043-1392548400-1392552000@www.sv-deraadsheer.nl
SUMMARY:Jeugdcompetitie
DESCRIPTION:Lees verder ...
URL:http://www.sv-deraadsheer.nl/item/jeugdcompetitie-14/
LOCATION:Hotel Eetcafé De Roskam\, Molenstraat 1\, Zundert\, 4881 CP\, Nederland
CATEGORIES:Interne Jeugd Schaak Competitie,Jeugd
ORGANIZER;CN="Inge%20Oostvogels":MAILTO:inge@sv-deraadsheer.nl
END:VEVENT
BEGIN:VEVENT
DTSTART;TZID=Europe/Paris:20140216T130000
DTEND;TZID=Europe/Paris:20140216T170000
DTSTAMP:20260423T000622
CREATED:20131027T212531Z
LAST-MODIFIED:20131125T195313Z
UID:1044-1392555600-1392570000@www.sv-deraadsheer.nl
SUMMARY:Grand Prix 3
DESCRIPTION:Lees verder ...
URL:http://www.sv-deraadsheer.nl/item/grand-prix-4/
CATEGORIES:Jeugd,Jeugd Schaak Toernooi
END:VEVENT
BEGIN:VEVENT
DTSTART;TZID=Europe/Paris:20140223T110000
DTEND;TZID=Europe/Paris:20140223T120000
DTSTAMP:20260423T000622
CREATED:20131027T212605Z
LAST-MODIFIED:20131027T212605Z
UID:1045-1393153200-1393156800@www.sv-deraadsheer.nl
SUMMARY:Jeugdcompetitie
DESCRIPTION:Lees verder ...
URL:http://www.sv-deraadsheer.nl/item/jeugdcompetitie-15/
LOCATION:Hotel Eetcafé De Roskam\, Molenstraat 1\, Zundert\, 4881 CP\, Nederland
CATEGORIES:Interne Jeugd Schaak Competitie,Jeugd
ORGANIZER;CN="Inge%20Oostvogels":MAILTO:inge@sv-deraadsheer.nl
END:VEVENT
BEGIN:VEVENT
DTSTART;TZID=Europe/Paris:20140226T133000
DTEND;TZID=Europe/Paris:20140226T170000
DTSTAMP:20260423T000622
CREATED:20131125T184652Z
LAST-MODIFIED:20131125T184652Z
UID:1266-1393421400-1393434000@www.sv-deraadsheer.nl
SUMMARY:Zunderts Schoolschaaktoernooi
DESCRIPTION:Lees verder ...
URL:http://www.sv-deraadsheer.nl/item/zunderts-schoolschaaktoernooi/
LOCATION:Hotel Eetcafé De Roskam\, Molenstraat 1\, Zundert\, 4881 CP\, Nederland
CATEGORIES:Jeugd,Jeugd Schaak Toernooi
ORGANIZER;CN="Inge%20Oostvogels":MAILTO:inge@sv-deraadsheer.nl
END:VEVENT
BEGIN:VEVENT
DTSTART;TZID=Europe/Paris:20140302T000000
DTEND;TZID=Europe/Paris:20140302T000000
DTSTAMP:20260423T000622
CREATED:20131113T215141Z
LAST-MODIFIED:20131113T215141Z
UID:1237-1393718400-1393718400@www.sv-deraadsheer.nl
SUMMARY:Carnaval
DESCRIPTION:GEEN Jeugdcompetitie \n  Lees verder ...
URL:http://www.sv-deraadsheer.nl/item/carnaval/
CATEGORIES:Jeugd,Vakantie
END:VEVENT
BEGIN:VEVENT
DTSTART;TZID=Europe/Paris:20140309T110000
DTEND;TZID=Europe/Paris:20140309T120000
DTSTAMP:20260423T000622
CREATED:20131027T212655Z
LAST-MODIFIED:20131027T212655Z
UID:1046-1394362800-1394366400@www.sv-deraadsheer.nl
SUMMARY:Jeugdcompetitie
DESCRIPTION:Lees verder ...
URL:http://www.sv-deraadsheer.nl/item/jeugdcompetitie-16/
LOCATION:Hotel Eetcafé De Roskam\, Molenstraat 1\, Zundert\, 4881 CP\, Nederland
CATEGORIES:Interne Jeugd Schaak Competitie,Jeugd
ORGANIZER;CN="Inge%20Oostvogels":MAILTO:inge@sv-deraadsheer.nl
END:VEVENT
BEGIN:VEVENT
DTSTART;TZID=Europe/Paris:20140316T000000
DTEND;TZID=Europe/Paris:20140316T000000
DTSTAMP:20260423T000622
CREATED:20131125T185821Z
LAST-MODIFIED:20131125T185821Z
UID:1273-1394928000-1394928000@www.sv-deraadsheer.nl
SUMMARY:Staunton Jeugdtoernooi
DESCRIPTION:Lees verder ...
URL:http://www.sv-deraadsheer.nl/item/staunton-jeugdtoernooi/
LOCATION:Unnamed Venue\, Etten-Leur
CATEGORIES:Jeugd,Jeugd Schaak Toernooi
END:VEVENT
BEGIN:VEVENT
DTSTART;TZID=Europe/Paris:20140316T110000
DTEND;TZID=Europe/Paris:20140316T120000
DTSTAMP:20260423T000622
CREATED:20131027T212806Z
LAST-MODIFIED:20131027T212806Z
UID:1047-1394967600-1394971200@www.sv-deraadsheer.nl
SUMMARY:Jeugdcompetitie
DESCRIPTION:Lees verder ...
URL:http://www.sv-deraadsheer.nl/item/jeugdcompetitie-17/
LOCATION:Hotel Eetcafé De Roskam\, Molenstraat 1\, Zundert\, 4881 CP\, Nederland
CATEGORIES:Interne Jeugd Schaak Competitie,Jeugd
ORGANIZER;CN="Inge%20Oostvogels":MAILTO:inge@sv-deraadsheer.nl
END:VEVENT
BEGIN:VEVENT
DTSTART;TZID=Europe/Paris:20140322T100000
DTEND;TZID=Europe/Paris:20140322T170000
DTSTAMP:20260423T000622
CREATED:20131113T220901Z
LAST-MODIFIED:20140310T174212Z
UID:1238-1395482400-1395507600@www.sv-deraadsheer.nl
SUMMARY:Brabants schoolschaaktoernooi district Breda
DESCRIPTION:Lees verder ...
URL:http://www.sv-deraadsheer.nl/item/brabants-schoolschaaktoernooi-district-breda/
LOCATION:Sint-Oelbertgymnasium\, Warandelaan 3\, Oosterhout \, 4904 PA
CATEGORIES:Jeugd,Jeugd Schaak Toernooi
ORGANIZER;CN="Unnamed%20Organizer":MAILTO:jldbreda@gmail.com
END:VEVENT
BEGIN:VEVENT
DTSTART;TZID=Europe/Paris:20140323T100000
DTEND;TZID=Europe/Paris:20140323T170000
DTSTAMP:20260423T000623
CREATED:20131113T221151Z
LAST-MODIFIED:20140310T174620Z
UID:1240-1395568800-1395594000@www.sv-deraadsheer.nl
SUMMARY:Finale Brabants schoolschaaktoernooi
DESCRIPTION:Lees verder ...
URL:http://www.sv-deraadsheer.nl/item/finale-brabants-schoolschaaktoernooi/
LOCATION:Sint-Oelbertgymnasium\, Warandelaan 3\, Oosterhout \, 4904 PA
CATEGORIES:Jeugd,Jeugd Schaak Toernooi
ORGANIZER;CN="Unnamed%20Organizer":MAILTO:jldbreda@gmail.com
END:VEVENT
BEGIN:VEVENT
DTSTART;TZID=Europe/Paris:20140323T110000
DTEND;TZID=Europe/Paris:20140323T120000
DTSTAMP:20260423T000623
CREATED:20131027T212839Z
LAST-MODIFIED:20131027T212839Z
UID:1048-1395572400-1395576000@www.sv-deraadsheer.nl
SUMMARY:Jeugdcompetitie
DESCRIPTION:Lees verder ...
URL:http://www.sv-deraadsheer.nl/item/jeugdcompetitie-18/
LOCATION:Hotel Eetcafé De Roskam\, Molenstraat 1\, Zundert\, 4881 CP\, Nederland
CATEGORIES:Interne Jeugd Schaak Competitie,Jeugd
ORGANIZER;CN="Inge%20Oostvogels":MAILTO:inge@sv-deraadsheer.nl
END:VEVENT
BEGIN:VEVENT
DTSTART;TZID=Europe/Paris:20140330T110000
DTEND;TZID=Europe/Paris:20140330T120000
DTSTAMP:20260423T000623
CREATED:20131027T212905Z
LAST-MODIFIED:20131027T212905Z
UID:1049-1396177200-1396180800@www.sv-deraadsheer.nl
SUMMARY:Jeugdcompetitie
DESCRIPTION:Lees verder ...
URL:http://www.sv-deraadsheer.nl/item/jeugdcompetitie-19/
LOCATION:Hotel Eetcafé De Roskam\, Molenstraat 1\, Zundert\, 4881 CP\, Nederland
CATEGORIES:Interne Jeugd Schaak Competitie,Jeugd
ORGANIZER;CN="Inge%20Oostvogels":MAILTO:inge@sv-deraadsheer.nl
END:VEVENT
BEGIN:VEVENT
DTSTART;TZID=Europe/Paris:20140406T110000
DTEND;TZID=Europe/Paris:20140406T120000
DTSTAMP:20260423T000623
CREATED:20131027T212946Z
LAST-MODIFIED:20131027T212946Z
UID:1050-1396782000-1396785600@www.sv-deraadsheer.nl
SUMMARY:Jeugdcompetitie
DESCRIPTION:Lees verder ...
URL:http://www.sv-deraadsheer.nl/item/jeugdcompetitie-20/
LOCATION:Hotel Eetcafé De Roskam\, Molenstraat 1\, Zundert\, 4881 CP\, Nederland
CATEGORIES:Interne Jeugd Schaak Competitie,Jeugd
ORGANIZER;CN="Inge%20Oostvogels":MAILTO:inge@sv-deraadsheer.nl
END:VEVENT
BEGIN:VEVENT
DTSTART;TZID=Europe/Paris:20140413T110000
DTEND;TZID=Europe/Paris:20140413T120000
DTSTAMP:20260423T000623
CREATED:20131027T213015Z
LAST-MODIFIED:20131027T213015Z
UID:1051-1397386800-1397390400@www.sv-deraadsheer.nl
SUMMARY:Jeugdcompetitie
DESCRIPTION:Lees verder ...
URL:http://www.sv-deraadsheer.nl/item/jeugdcompetitie-21/
LOCATION:Hotel Eetcafé De Roskam\, Molenstraat 1\, Zundert\, 4881 CP\, Nederland
CATEGORIES:Interne Jeugd Schaak Competitie,Jeugd
ORGANIZER;CN="Inge%20Oostvogels":MAILTO:inge@sv-deraadsheer.nl
END:VEVENT
BEGIN:VEVENT
DTSTART;TZID=Europe/Paris:20140413T130000
DTEND;TZID=Europe/Paris:20140413T170000
DTSTAMP:20260423T000623
CREATED:20131027T213107Z
LAST-MODIFIED:20131125T195319Z
UID:1052-1397394000-1397408400@www.sv-deraadsheer.nl
SUMMARY:Grand Prix 4
DESCRIPTION:Lees verder ...
URL:http://www.sv-deraadsheer.nl/item/grand-prix-5/
CATEGORIES:Jeugd,Jeugd Schaak Toernooi
END:VEVENT
BEGIN:VEVENT
DTSTART;TZID=Europe/Paris:20140420T000000
DTEND;TZID=Europe/Paris:20140420T000000
DTSTAMP:20260423T000623
CREATED:20131113T221255Z
LAST-MODIFIED:20131113T221255Z
UID:1241-1397952000-1397952000@www.sv-deraadsheer.nl
SUMMARY:Pasen
DESCRIPTION:GEEN Jeugdcompetitie \n  Lees verder ...
URL:http://www.sv-deraadsheer.nl/item/pasen/
CATEGORIES:Jeugd,Vakantie
END:VEVENT
BEGIN:VEVENT
DTSTART;TZID=Europe/Paris:20140427T110000
DTEND;TZID=Europe/Paris:20140427T120000
DTSTAMP:20260423T000623
CREATED:20131027T213225Z
LAST-MODIFIED:20131027T213225Z
UID:1053-1398596400-1398600000@www.sv-deraadsheer.nl
SUMMARY:Jeugdcompetitie
DESCRIPTION:Lees verder ...
URL:http://www.sv-deraadsheer.nl/item/jeugdcompetitie-22/
LOCATION:Hotel Eetcafé De Roskam\, Molenstraat 1\, Zundert\, 4881 CP\, Nederland
CATEGORIES:Interne Jeugd Schaak Competitie,Jeugd
ORGANIZER;CN="Inge%20Oostvogels":MAILTO:inge@sv-deraadsheer.nl
END:VEVENT
BEGIN:VEVENT
DTSTART;TZID=Europe/Paris:20140504T110000
DTEND;TZID=Europe/Paris:20140504T120000
DTSTAMP:20260423T000623
CREATED:20131125T184812Z
LAST-MODIFIED:20131125T184812Z
UID:1267-1399201200-1399204800@www.sv-deraadsheer.nl
SUMMARY:Jeugdcompetitie
DESCRIPTION:Lees verder ...
URL:http://www.sv-deraadsheer.nl/item/jeugdcompetitie-23/
LOCATION:Hotel Eetcafé De Roskam\, Molenstraat 1\, Zundert\, 4881 CP\, Nederland
CATEGORIES:Interne Jeugd Schaak Competitie,Jeugd
ORGANIZER;CN="Inge%20Oostvogels":MAILTO:inge@sv-deraadsheer.nl
END:VEVENT
BEGIN:VEVENT
DTSTART;TZID=Europe/Paris:20140511T110000
DTEND;TZID=Europe/Paris:20140511T120000
DTSTAMP:20260423T000623
CREATED:20131125T184851Z
LAST-MODIFIED:20131125T184851Z
UID:1268-1399806000-1399809600@www.sv-deraadsheer.nl
SUMMARY:Jeugdcompetitie
DESCRIPTION:Lees verder ...
URL:http://www.sv-deraadsheer.nl/item/jeugdcompetitie-24/
LOCATION:Hotel Eetcafé De Roskam\, Molenstraat 1\, Zundert\, 4881 CP\, Nederland
CATEGORIES:Interne Jeugd Schaak Competitie,Jeugd
ORGANIZER;CN="Inge%20Oostvogels":MAILTO:inge@sv-deraadsheer.nl
END:VEVENT
BEGIN:VEVENT
DTSTART;TZID=Europe/Paris:20140518T110000
DTEND;TZID=Europe/Paris:20140518T120000
DTSTAMP:20260423T000623
CREATED:20131125T184921Z
LAST-MODIFIED:20131125T184921Z
UID:1269-1400410800-1400414400@www.sv-deraadsheer.nl
SUMMARY:Jeugdcompetitie
DESCRIPTION:Lees verder ...
URL:http://www.sv-deraadsheer.nl/item/jeugdcompetitie-25/
LOCATION:Hotel Eetcafé De Roskam\, Molenstraat 1\, Zundert\, 4881 CP\, Nederland
CATEGORIES:Interne Jeugd Schaak Competitie,Jeugd
ORGANIZER;CN="Inge%20Oostvogels":MAILTO:inge@sv-deraadsheer.nl
END:VEVENT
BEGIN:VEVENT
DTSTART;TZID=Europe/Paris:20140518T130000
DTEND;TZID=Europe/Paris:20140518T170000
DTSTAMP:20260423T000623
CREATED:20131125T185217Z
LAST-MODIFIED:20131125T195324Z
UID:1271-1400418000-1400432400@www.sv-deraadsheer.nl
SUMMARY:Grand Prix 5
DESCRIPTION:Lees verder ...
URL:http://www.sv-deraadsheer.nl/item/grand-prix-6/
LOCATION:Hotel Eetcafé De Roskam\, Molenstraat 1\, Zundert\, 4881 CP\, Nederland
CATEGORIES:Jeugd,Jeugd Schaak Toernooi
ORGANIZER;CN="Niek%20Oostvogels":MAILTO:niek@sv-deraadsheer.nl
END:VEVENT
BEGIN:VEVENT
DTSTART;TZID=Europe/Paris:20140525T100000
DTEND;TZID=Europe/Paris:20140525T140000
DTSTAMP:20260423T000623
CREATED:20131125T185107Z
LAST-MODIFIED:20140521T214759Z
UID:1270-1401012000-1401026400@www.sv-deraadsheer.nl
SUMMARY:Afsluiting / Prijsuitreiking Jeugdcompetitie
DESCRIPTION:Lees verder ...
URL:http://www.sv-deraadsheer.nl/item/afsluiting-prijsuitreiking-jeugdcompetitie/
LOCATION:Hotel Eetcafé De Roskam\, Molenstraat 1\, Zundert\, 4881 CP\, Nederland
CATEGORIES:Interne Jeugd Schaak Competitie,Jeugd
ORGANIZER;CN="Inge%20Oostvogels":MAILTO:inge@sv-deraadsheer.nl
END:VEVENT
END:VCALENDAR