BEGIN:VCALENDAR
VERSION:2.0
PRODID:-//SV de Raadsheer - ECPv6.0.8//NONSGML v1.0//EN
CALSCALE:GREGORIAN
METHOD:PUBLISH
X-WR-CALNAME:SV de Raadsheer
X-ORIGINAL-URL:http://www.sv-deraadsheer.nl
X-WR-CALDESC:Evenementen voor SV de Raadsheer
REFRESH-INTERVAL;VALUE=DURATION:PT1H
X-Robots-Tag:noindex
X-PUBLISHED-TTL:PT1H
BEGIN:VTIMEZONE
TZID:Europe/Paris
BEGIN:DAYLIGHT
TZOFFSETFROM:+0100
TZOFFSETTO:+0200
TZNAME:CEST
DTSTART:20140330T010000
END:DAYLIGHT
BEGIN:STANDARD
TZOFFSETFROM:+0200
TZOFFSETTO:+0100
TZNAME:CET
DTSTART:20141026T010000
END:STANDARD
BEGIN:DAYLIGHT
TZOFFSETFROM:+0100
TZOFFSETTO:+0200
TZNAME:CEST
DTSTART:20150329T010000
END:DAYLIGHT
BEGIN:STANDARD
TZOFFSETFROM:+0200
TZOFFSETTO:+0100
TZNAME:CET
DTSTART:20151025T010000
END:STANDARD
END:VTIMEZONE
BEGIN:VEVENT
DTSTART;TZID=Europe/Paris:20140928T100000
DTEND;TZID=Europe/Paris:20140928T120000
DTSTAMP:20260421T035407
CREATED:20140717T174310Z
LAST-MODIFIED:20140717T174310Z
UID:1847-1411898400-1411905600@www.sv-deraadsheer.nl
SUMMARY:Open Dag Schaakvereniging De Raadsheer
DESCRIPTION:Op zondag 28 september organiseert Schaakvereniging de Raadsheer de jaarlijkse open dag. Dit is van 10 tot 12 uur. Iedereen is welkom\, jong en oud. Je kunt dan een keer komen kijken wat er op schaakgebied wordt georganiseerd. Dit zijn vele zaken zoals een opleidingsprogramma\, een jeugd- en seniorencompetitie en vele vele leuke activiteiten.   Lees verder ...
URL:http://www.sv-deraadsheer.nl/item/open-dag-schaakvereniging-de-raadsheer-2/
LOCATION:Hotel Eetcafé De Roskam\, Molenstraat 1\, Zundert\, 4881 CP\, Nederland
CATEGORIES:Algemeen,Jeugd,Senioren
ORGANIZER;CN="Inge%20Oostvogels":MAILTO:inge@sv-deraadsheer.nl
END:VEVENT
BEGIN:VEVENT
DTSTART;TZID=Europe/Paris:20141026T110000
DTEND;TZID=Europe/Paris:20141026T170000
DTSTAMP:20260421T035407
CREATED:20140929T190401Z
LAST-MODIFIED:20140929T190428Z
UID:2172-1414321200-1414342800@www.sv-deraadsheer.nl
SUMMARY:Districtskampioenschap
DESCRIPTION:Middels dit districtskampioenschap kun je je plaatsen voor de Brabantse Kampioenschappen\, voor veel jeugdspelers hét hoogtepunt van het seizoen. Opgave hiervoor kan bij Niek of Inge.   Lees verder ...
URL:http://www.sv-deraadsheer.nl/item/districtskampioenschap-2/
LOCATION:Hotel Eetcafé De Roskam\, Molenstraat 1\, Zundert\, 4881 CP\, Nederland
CATEGORIES:Jeugd,Jeugd Schaak Toernooi
ORGANIZER;CN="Inge%20Oostvogels":MAILTO:inge@sv-deraadsheer.nl
END:VEVENT
BEGIN:VEVENT
DTSTART;TZID=Europe/Paris:20141130T103000
DTEND;TZID=Europe/Paris:20141130T140000
DTSTAMP:20260421T035407
CREATED:20140829T194745Z
LAST-MODIFIED:20140829T194745Z
UID:1872-1417343400-1417356000@www.sv-deraadsheer.nl
SUMMARY:Sinterklaas simultaan
DESCRIPTION:Lees verder ...
URL:http://www.sv-deraadsheer.nl/item/sinterklaas-simultaan-2/
LOCATION:Hotel Eetcafé De Roskam\, Molenstraat 1\, Zundert\, 4881 CP\, Nederland
CATEGORIES:Jeugd
ORGANIZER;CN="Inge%20Oostvogels":MAILTO:inge@sv-deraadsheer.nl
END:VEVENT
BEGIN:VEVENT
DTSTART;TZID=Europe/Paris:20141214T133000
DTEND;TZID=Europe/Paris:20141214T170000
DTSTAMP:20260421T035407
CREATED:20141025T124530Z
LAST-MODIFIED:20141117T105853Z
UID:2236-1418563800-1418576400@www.sv-deraadsheer.nl
SUMMARY:Baronie Cup ronde 1
DESCRIPTION:Voorheen jeugdschaak Grand Prix.\n3 groepen:\nStap 1 groep\nStap 2 groep\nStap 3 en hoger groep \n  Lees verder ...
URL:http://www.sv-deraadsheer.nl/item/baronie-cup-ronde-1/
LOCATION:Prisma/!Go – gebouw\, Esdoornlaan 45\, Oosterhout\, 4902 TN\, Nederland
CATEGORIES:Jeugd,Jeugd Schaak Toernooi
END:VEVENT
BEGIN:VEVENT
DTSTART;TZID=Europe/Paris:20141223T000000
DTEND;TZID=Europe/Paris:20141223T000000
DTSTAMP:20260421T035407
CREATED:20140929T191553Z
LAST-MODIFIED:20140929T191553Z
UID:2182-1419292800-1419292800@www.sv-deraadsheer.nl
SUMMARY:Kerstvakantie
DESCRIPTION:GEEN schaakles \n  Lees verder ...
URL:http://www.sv-deraadsheer.nl/item/kerstvakantie-3/
CATEGORIES:Jeugd,Vakantie
END:VEVENT
BEGIN:VEVENT
DTSTART;TZID=Europe/Paris:20141227T100000
DTEND;TZID=Europe/Paris:20141227T170000
DTSTAMP:20260421T035407
CREATED:20140929T192139Z
LAST-MODIFIED:20140929T192139Z
UID:2184-1419674400-1419699600@www.sv-deraadsheer.nl
SUMMARY:PK Jeugd ABCD
DESCRIPTION:Persoonlijk Kampioenschap Jeugd categorie ABCD \n  Lees verder ...
URL:http://www.sv-deraadsheer.nl/item/pk-jeugd-abcd-5/
LOCATION:Multifunctioneel Centrum De Werft\, Huygenstraat 73\, Kaatsheuvel\, 5171 EP\, Nederland
CATEGORIES:Jeugd,Jeugd Schaak Toernooi
END:VEVENT
BEGIN:VEVENT
DTSTART;TZID=Europe/Paris:20141228T000000
DTEND;TZID=Europe/Paris:20141228T000000
DTSTAMP:20260421T035407
CREATED:20140829T195207Z
LAST-MODIFIED:20140929T191720Z
UID:1876-1419724800-1419724800@www.sv-deraadsheer.nl
SUMMARY:Kerstvakantie
DESCRIPTION:GEEN Jeugdcompetitie en GEEN Schaakles \n  Lees verder ...
URL:http://www.sv-deraadsheer.nl/item/kerstvakantie-2/
CATEGORIES:Jeugd,Vakantie
END:VEVENT
BEGIN:VEVENT
DTSTART;TZID=Europe/Paris:20141228T100000
DTEND;TZID=Europe/Paris:20141228T170000
DTSTAMP:20260421T035407
CREATED:20140929T192226Z
LAST-MODIFIED:20140929T192226Z
UID:2185-1419760800-1419786000@www.sv-deraadsheer.nl
SUMMARY:PK Jeugd ABCD
DESCRIPTION:Persoonlijk Kampioenschap Jeugd categorie ABCD \n  Lees verder ...
URL:http://www.sv-deraadsheer.nl/item/pk-jeugd-abcd-6/
LOCATION:Multifunctioneel Centrum De Werft\, Huygenstraat 73\, Kaatsheuvel\, 5171 EP\, Nederland
CATEGORIES:Jeugd,Jeugd Schaak Toernooi
END:VEVENT
BEGIN:VEVENT
DTSTART;TZID=Europe/Paris:20141229T100000
DTEND;TZID=Europe/Paris:20141229T170000
DTSTAMP:20260421T035407
CREATED:20140929T192256Z
LAST-MODIFIED:20140929T192256Z
UID:2186-1419847200-1419872400@www.sv-deraadsheer.nl
SUMMARY:PK Jeugd ABCD
DESCRIPTION:Persoonlijk Kampioenschap Jeugd categorie ABCD \n  Lees verder ...
URL:http://www.sv-deraadsheer.nl/item/pk-jeugd-abcd-7/
LOCATION:Multifunctioneel Centrum De Werft\, Huygenstraat 73\, Kaatsheuvel\, 5171 EP\, Nederland
CATEGORIES:Jeugd,Jeugd Schaak Toernooi
END:VEVENT
BEGIN:VEVENT
DTSTART;TZID=Europe/Paris:20141230T000000
DTEND;TZID=Europe/Paris:20141230T000000
DTSTAMP:20260421T035407
CREATED:20140929T191636Z
LAST-MODIFIED:20140929T191636Z
UID:2183-1419897600-1419897600@www.sv-deraadsheer.nl
SUMMARY:Kerstvakantie
DESCRIPTION:GEEN Schaakles \n  Lees verder ...
URL:http://www.sv-deraadsheer.nl/item/kerstvakantie-4/
CATEGORIES:Jeugd,Vakantie
END:VEVENT
BEGIN:VEVENT
DTSTART;TZID=Europe/Paris:20141230T100000
DTEND;TZID=Europe/Paris:20141230T170000
DTSTAMP:20260421T035408
CREATED:20140929T192334Z
LAST-MODIFIED:20140929T192334Z
UID:2187-1419933600-1419958800@www.sv-deraadsheer.nl
SUMMARY:PK Jeugd ABCE
DESCRIPTION:Persoonlijk Kampioenschap Jeugd categorie ABCE \n  Lees verder ...
URL:http://www.sv-deraadsheer.nl/item/pk-jeugd-abce/
LOCATION:Multifunctioneel Centrum De Werft\, Huygenstraat 73\, Kaatsheuvel\, 5171 EP\, Nederland
CATEGORIES:Jeugd,Jeugd Schaak Toernooi
END:VEVENT
BEGIN:VEVENT
DTSTART;TZID=Europe/Paris:20150104T100000
DTEND;TZID=Europe/Paris:20150104T150000
DTSTAMP:20260421T035408
CREATED:20140929T192403Z
LAST-MODIFIED:20140929T192415Z
UID:2188-1420365600-1420383600@www.sv-deraadsheer.nl
SUMMARY:PK Jeugd E
DESCRIPTION:Persoonlijk Kampioenschap Jeugd categorie E \n  Lees verder ...
URL:http://www.sv-deraadsheer.nl/item/pk-jeugd-e-2/
LOCATION:Multifunctioneel Centrum De Werft\, Huygenstraat 73\, Kaatsheuvel\, 5171 EP\, Nederland
CATEGORIES:Jeugd,Jeugd Schaak Toernooi
END:VEVENT
BEGIN:VEVENT
DTSTART;TZID=Europe/Paris:20150208T133000
DTEND;TZID=Europe/Paris:20150208T170000
DTSTAMP:20260421T035408
CREATED:20150209T205456Z
LAST-MODIFIED:20150209T205456Z
UID:2752-1423402200-1423414800@www.sv-deraadsheer.nl
SUMMARY:Baronie Cup ronde 2
DESCRIPTION:Voorheen jeugdschaak Grand Prix.\n3 groepen:\nStap 1 groep\nStap 2 groep\nStap 3 en hoger groep \n  Lees verder ...
URL:http://www.sv-deraadsheer.nl/item/baronie-cup-ronde-2/
LOCATION:Onbenoemde locatie\, Dongen
CATEGORIES:Jeugd,Jeugd Schaak Toernooi
END:VEVENT
BEGIN:VEVENT
DTSTART;TZID=Europe/Paris:20150215T000000
DTEND;TZID=Europe/Paris:20150215T000000
DTSTAMP:20260421T035408
CREATED:20151013T193741Z
LAST-MODIFIED:20151013T193741Z
UID:3941-1423958400-1423958400@www.sv-deraadsheer.nl
SUMMARY:Carnaval
DESCRIPTION:GEEN Jeugdcompetitie \n  Lees verder ...
URL:http://www.sv-deraadsheer.nl/item/carnaval-4/
CATEGORIES:Jeugd,Vakantie
END:VEVENT
BEGIN:VEVENT
DTSTART;TZID=Europe/Paris:20150222T133000
DTEND;TZID=Europe/Paris:20150222T173000
DTSTAMP:20260421T035408
CREATED:20150210T195456Z
LAST-MODIFIED:20150210T200201Z
UID:2765-1424611800-1424626200@www.sv-deraadsheer.nl
SUMMARY:Teamkampioenschappen district Breda
DESCRIPTION:Lees verder ...
URL:http://www.sv-deraadsheer.nl/item/teamkampioenschappen-district-breda/
LOCATION:Prisma/!Go – gebouw\, Esdoornlaan 45\, Oosterhout\, 4902 TN\, Nederland
CATEGORIES:Jeugd,Jeugd Schaak Toernooi
END:VEVENT
BEGIN:VEVENT
DTSTART;TZID=Europe/Paris:20150308T133000
DTEND;TZID=Europe/Paris:20150308T170000
DTSTAMP:20260421T035408
CREATED:20150210T193646Z
LAST-MODIFIED:20150210T193646Z
UID:2758-1425821400-1425834000@www.sv-deraadsheer.nl
SUMMARY:Baronie Cup ronde 3
DESCRIPTION:Voorheen jeugdschaak Grand Prix.\n3 groepen:\nStap 1 groep\nStap 2 groep\nStap 3 en hoger groep \n  Lees verder ...
URL:http://www.sv-deraadsheer.nl/item/baronie-cup-ronde-3/
LOCATION:De Baronie\, Breda
CATEGORIES:Jeugd,Jeugd Schaak Toernooi
END:VEVENT
BEGIN:VEVENT
DTSTART;TZID=Europe/Paris:20150318T133000
DTEND;TZID=Europe/Paris:20150318T170000
DTSTAMP:20260421T035408
CREATED:20150209T205938Z
LAST-MODIFIED:20150209T205938Z
UID:2755-1426685400-1426698000@www.sv-deraadsheer.nl
SUMMARY:Zunderts Schoolschaaktoernooi
DESCRIPTION:Lees verder ...
URL:http://www.sv-deraadsheer.nl/item/zunderts-schoolschaaktoernooi-2/
LOCATION:Hotel Eetcafé De Roskam\, Molenstraat 1\, Zundert\, 4881 CP\, Nederland
CATEGORIES:Jeugd,Jeugd Schaak Toernooi
ORGANIZER;CN="Inge%20Oostvogels":MAILTO:inge@sv-deraadsheer.nl
END:VEVENT
BEGIN:VEVENT
DTSTART;TZID=Europe/Paris:20150328T100000
DTEND;TZID=Europe/Paris:20150328T170000
DTSTAMP:20260421T035408
CREATED:20150210T194248Z
LAST-MODIFIED:20150210T194928Z
UID:2761-1427536800-1427562000@www.sv-deraadsheer.nl
SUMMARY:Brabants schoolschaaktoernooi district Breda
DESCRIPTION:Via dit toernooi kan je school zich plaatsen voor de finale Schoolschaaktoernooi Brabant op 29 maart. \n  Lees verder ...
URL:http://www.sv-deraadsheer.nl/item/brabants-schoolschaaktoernooi-district-breda-2/
LOCATION:Onbenoemde locatie\, Oosterhout
CATEGORIES:Jeugd,Jeugd Schaak Toernooi
END:VEVENT
BEGIN:VEVENT
DTSTART;TZID=Europe/Paris:20150329T100000
DTEND;TZID=Europe/Paris:20150329T170000
DTSTAMP:20260421T035408
CREATED:20150210T194708Z
LAST-MODIFIED:20150210T194958Z
UID:2760-1427623200-1427648400@www.sv-deraadsheer.nl
SUMMARY:Finale Brabants schoolschaaktoernooi
DESCRIPTION:Voor dit toernooi moet je je plaatsen middels het schoolschaaktoernooi voor district Breda dat een dag eerder gespeeld wordt. \n  Lees verder ...
URL:http://www.sv-deraadsheer.nl/item/finale-brabants-schoolschaaktoernooi-2/
LOCATION:Onbenoemde locatie\, Oosterhout 
CATEGORIES:Jeugd,Jeugd Schaak Toernooi
END:VEVENT
BEGIN:VEVENT
DTSTART;TZID=Europe/Paris:20150405T000000
DTEND;TZID=Europe/Paris:20150405T000000
DTSTAMP:20260421T035408
CREATED:20150209T203657Z
LAST-MODIFIED:20150209T203657Z
UID:2728-1428192000-1428192000@www.sv-deraadsheer.nl
SUMMARY:Pasen
DESCRIPTION:GEEN Jeugdcompetitie \n  Lees verder ...
URL:http://www.sv-deraadsheer.nl/item/pasen-2/
CATEGORIES:Jeugd,Vakantie
END:VEVENT
BEGIN:VEVENT
DTSTART;TZID=Europe/Paris:20150412T133000
DTEND;TZID=Europe/Paris:20150412T170000
DTSTAMP:20260421T035408
CREATED:20150209T205711Z
LAST-MODIFIED:20150209T205711Z
UID:2754-1428845400-1428858000@www.sv-deraadsheer.nl
SUMMARY:Baronie Cup
DESCRIPTION:Voorheen jeugdschaak Grand Prix.\n3 groepen:\nStap 1 groep\nStap 2 groep\nStap 3 en hoger groep \n  Lees verder ...
URL:http://www.sv-deraadsheer.nl/item/baronie-cup/
LOCATION:Hotel Eetcafé De Roskam\, Molenstraat 1\, Zundert\, 4881 CP\, Nederland
CATEGORIES:Jeugd,Jeugd Schaak Toernooi
ORGANIZER;CN="Inge%20Oostvogels":MAILTO:inge@sv-deraadsheer.nl
END:VEVENT
BEGIN:VEVENT
DTSTART;TZID=Europe/Paris:20150419T100000
DTEND;TZID=Europe/Paris:20150419T150000
DTSTAMP:20260421T035408
CREATED:20140929T192917Z
LAST-MODIFIED:20140929T193017Z
UID:2189-1429437600-1429455600@www.sv-deraadsheer.nl
SUMMARY:Brabants Pupillenkampioenschap F/G/H
DESCRIPTION:Brabants Pupillenkampioenschap categorie F/G/H \n  Lees verder ...
URL:http://www.sv-deraadsheer.nl/item/brabants-pupillenkampioenschap-fgh/
CATEGORIES:Jeugd,Jeugd Schaak Toernooi
END:VEVENT
BEGIN:VEVENT
DTSTART;TZID=Europe/Paris:20150426T133000
DTEND;TZID=Europe/Paris:20150426T170000
DTSTAMP:20260421T035408
CREATED:20150210T200541Z
LAST-MODIFIED:20150210T200541Z
UID:2769-1430055000-1430067600@www.sv-deraadsheer.nl
SUMMARY:Familieschaaktoernooi
DESCRIPTION:Lees verder ...
URL:http://www.sv-deraadsheer.nl/item/familieschaaktoernooi/
LOCATION:Hotel Eetcafé De Roskam\, Molenstraat 1\, Zundert\, 4881 CP\, Nederland
CATEGORIES:Jeugd,Jeugd Schaak Toernooi,Schaak Toernooien,Senioren
ORGANIZER;CN="Inge%20Oostvogels":MAILTO:inge@sv-deraadsheer.nl
END:VEVENT
BEGIN:VEVENT
DTSTART;TZID=Europe/Paris:20150524T000000
DTEND;TZID=Europe/Paris:20150524T000000
DTSTAMP:20260421T035408
CREATED:20150209T203731Z
LAST-MODIFIED:20150209T203731Z
UID:2727-1432425600-1432425600@www.sv-deraadsheer.nl
SUMMARY:Pinksteren
DESCRIPTION:GEEN Jeugdcompetitie \n  Lees verder ...
URL:http://www.sv-deraadsheer.nl/item/pinksteren/
CATEGORIES:Jeugd,Vakantie
END:VEVENT
BEGIN:VEVENT
DTSTART;TZID=Europe/Paris:20150607T100000
DTEND;TZID=Europe/Paris:20150607T140000
DTSTAMP:20260421T035408
CREATED:20140901T065505Z
LAST-MODIFIED:20140901T065505Z
UID:1964-1433671200-1433685600@www.sv-deraadsheer.nl
SUMMARY:Afsluiting / Prijsuitreiking Jeugdcompetitie
DESCRIPTION:Lees verder ...
URL:http://www.sv-deraadsheer.nl/item/afsluiting-prijsuitreiking-jeugdcompetitie-2/
LOCATION:Hotel Eetcafé De Roskam\, Molenstraat 1\, Zundert\, 4881 CP\, Nederland
CATEGORIES:Interne Jeugd Schaak Competitie,Jeugd
ORGANIZER;CN="Inge%20Oostvogels":MAILTO:inge@sv-deraadsheer.nl
END:VEVENT
BEGIN:VEVENT
DTSTART;TZID=Europe/Paris:20150927T100000
DTEND;TZID=Europe/Paris:20150927T120000
DTSTAMP:20260421T035408
CREATED:20150622T134334Z
LAST-MODIFIED:20150622T173716Z
UID:3659-1443348000-1443355200@www.sv-deraadsheer.nl
SUMMARY:Open Dag
DESCRIPTION:Lees verder ...
URL:http://www.sv-deraadsheer.nl/item/open-dag/
LOCATION:Hotel Eetcafé De Roskam\, Molenstraat 1\, Zundert\, 4881 CP\, Nederland
CATEGORIES:Algemeen,Jeugd,Senioren
ORGANIZER;CN="Inge%20Oostvogels":MAILTO:inge@sv-deraadsheer.nl
END:VEVENT
BEGIN:VEVENT
DTSTART;TZID=Europe/Paris:20151129T103000
DTEND;TZID=Europe/Paris:20151129T140000
DTSTAMP:20260421T035408
CREATED:20151013T200648Z
LAST-MODIFIED:20151013T200648Z
UID:3948-1448793000-1448805600@www.sv-deraadsheer.nl
SUMMARY:Sinterklaas simultaan
DESCRIPTION:Lees verder ...
URL:http://www.sv-deraadsheer.nl/item/sinterklaas-simultaan-3/
LOCATION:Hotel Eetcafé De Roskam\, Molenstraat 1\, Zundert\, 4881 CP\, Nederland
CATEGORIES:Jeugd
ORGANIZER;CN="Inge%20Oostvogels":MAILTO:inge@sv-deraadsheer.nl
END:VEVENT
BEGIN:VEVENT
DTSTART;TZID=Europe/Paris:20151213T133000
DTEND;TZID=Europe/Paris:20151213T170000
DTSTAMP:20260421T035408
CREATED:20151013T201316Z
LAST-MODIFIED:20151015T164826Z
UID:3951-1450013400-1450026000@www.sv-deraadsheer.nl
SUMMARY:Baronie Cup
DESCRIPTION:Oosterhout – Rode Lopers \n3 groepen:\nStap 1 groep\nStap 2 groep\nStap 3 en hoger groep \n  Lees verder ...
URL:http://www.sv-deraadsheer.nl/item/baronie-cup-3/
CATEGORIES:Jeugd,Jeugd Schaak Toernooi
END:VEVENT
BEGIN:VEVENT
DTSTART;TZID=Europe/Paris:20151222T000000
DTEND;TZID=Europe/Paris:20151222T000000
DTSTAMP:20260421T035408
CREATED:20151013T200209Z
LAST-MODIFIED:20151013T200209Z
UID:3947-1450742400-1450742400@www.sv-deraadsheer.nl
SUMMARY:Kerstvakantie
DESCRIPTION:GEEN schaakles \n  Lees verder ...
URL:http://www.sv-deraadsheer.nl/item/kerstvakantie-5/
CATEGORIES:Jeugd,Vakantie
END:VEVENT
BEGIN:VEVENT
DTSTART;TZID=Europe/Paris:20151227T000000
DTEND;TZID=Europe/Paris:20151227T000000
DTSTAMP:20260421T035408
CREATED:20151013T200236Z
LAST-MODIFIED:20151013T200236Z
UID:3946-1451174400-1451174400@www.sv-deraadsheer.nl
SUMMARY:Kerstvakantie
DESCRIPTION:GEEN Jeugdcompetitie en GEEN Schaakles \n  Lees verder ...
URL:http://www.sv-deraadsheer.nl/item/kerstvakantie-6/
CATEGORIES:Jeugd,Vakantie
END:VEVENT
END:VCALENDAR