BEGIN:VCALENDAR
VERSION:2.0
PRODID:-//SV de Raadsheer - ECPv6.0.8//NONSGML v1.0//EN
CALSCALE:GREGORIAN
METHOD:PUBLISH
X-WR-CALNAME:SV de Raadsheer
X-ORIGINAL-URL:http://www.sv-deraadsheer.nl
X-WR-CALDESC:Evenementen voor SV de Raadsheer
REFRESH-INTERVAL;VALUE=DURATION:PT1H
X-Robots-Tag:noindex
X-PUBLISHED-TTL:PT1H
BEGIN:VTIMEZONE
TZID:Europe/Paris
BEGIN:DAYLIGHT
TZOFFSETFROM:+0100
TZOFFSETTO:+0200
TZNAME:CEST
DTSTART:20170326T010000
END:DAYLIGHT
BEGIN:STANDARD
TZOFFSETFROM:+0200
TZOFFSETTO:+0100
TZNAME:CET
DTSTART:20171029T010000
END:STANDARD
END:VTIMEZONE
BEGIN:VEVENT
DTSTART;TZID=Europe/Paris:20170302T193000
DTEND;TZID=Europe/Paris:20170302T235500
DTSTAMP:20260425T122837
CREATED:20160905T153409Z
LAST-MODIFIED:20160905T153409Z
UID:5982-1488483000-1488498900@www.sv-deraadsheer.nl
SUMMARY:Handicap Snelschaaktoernooi
DESCRIPTION:Carnavalsvakantie \n  Lees verder ...
URL:http://www.sv-deraadsheer.nl/item/handicap-snelschaaktoernooi-2017/
LOCATION:Hotel Eetcafé De Roskam\, Molenstraat 1\, Zundert\, 4881 CP\, Nederland
CATEGORIES:Interne Schaak Competitie,Senioren
END:VEVENT
BEGIN:VEVENT
DTSTART;TZID=Europe/Paris:20170309T193000
DTEND;TZID=Europe/Paris:20170309T235500
DTSTAMP:20260425T122837
CREATED:20170117T203803Z
LAST-MODIFIED:20170117T203803Z
UID:7047-1489087800-1489103700@www.sv-deraadsheer.nl
SUMMARY:Interne competitie
DESCRIPTION:Seizoen 2016-2017\, 2e helft\, inhaalronde \nZie programma: \n\nGroep 1\nGroep 2\nGroep 3\nGroep 4\n\n  Lees verder ...
URL:http://www.sv-deraadsheer.nl/item/intern-2017-x1/
LOCATION:Hotel Eetcafé De Roskam\, Molenstraat 1\, Zundert\, 4881 CP\, Nederland
CATEGORIES:Interne Schaak Competitie,Senioren
ORGANIZER;CN="John%20van%20Dijk":MAILTO:john@sv-deraadsheer.nl
END:VEVENT
BEGIN:VEVENT
DTSTART;TZID=Europe/Paris:20170311T000000
DTEND;TZID=Europe/Paris:20170311T000000
DTSTAMP:20260425T122837
CREATED:20160605T132225Z
LAST-MODIFIED:20160605T132225Z
UID:5345-1489190400-1489190400@www.sv-deraadsheer.nl
SUMMARY:Externe competitie NBSB
DESCRIPTION:7e ronde: \nde Raadsheer 1 \nde Raadsheer 2 \n6e ronde: \nde Raadsheer 3 \nde Raadsheer 4 \n\n  Lees verder ...
URL:http://www.sv-deraadsheer.nl/item/externe-competitie-nbsb-33/
CATEGORIES:Externe Schaak Competitie,Senioren
END:VEVENT
BEGIN:VEVENT
DTSTART;TZID=Europe/Paris:20170316T193000
DTEND;TZID=Europe/Paris:20170316T235500
DTSTAMP:20260425T122837
CREATED:20170117T203137Z
LAST-MODIFIED:20170117T203137Z
UID:7041-1489692600-1489708500@www.sv-deraadsheer.nl
SUMMARY:Interne competitie
DESCRIPTION:Seizoen 2016-2017\, 2e helft\, ronde 6 \nZie programma: \n\nGroep 1\nGroep 2\nGroep 3\nGroep 4\n\n  Lees verder ...
URL:http://www.sv-deraadsheer.nl/item/intern-2017-6/
LOCATION:Hotel Eetcafé De Roskam\, Molenstraat 1\, Zundert\, 4881 CP\, Nederland
CATEGORIES:Interne Schaak Competitie,Senioren
ORGANIZER;CN="John%20van%20Dijk":MAILTO:john@sv-deraadsheer.nl
END:VEVENT
BEGIN:VEVENT
DTSTART;TZID=Europe/Paris:20170323T193000
DTEND;TZID=Europe/Paris:20170323T235500
DTSTAMP:20260425T122837
CREATED:20170117T203152Z
LAST-MODIFIED:20170117T203152Z
UID:7042-1490297400-1490313300@www.sv-deraadsheer.nl
SUMMARY:Interne competitie
DESCRIPTION:Seizoen 2016-2017\, 2e helft\, ronde 7 \nZie programma: \n\nGroep 1\nGroep 2\nGroep 3\nGroep 4\n\n  Lees verder ...
URL:http://www.sv-deraadsheer.nl/item/intern-2017-7/
LOCATION:Hotel Eetcafé De Roskam\, Molenstraat 1\, Zundert\, 4881 CP\, Nederland
CATEGORIES:Interne Schaak Competitie,Senioren
ORGANIZER;CN="John%20van%20Dijk":MAILTO:john@sv-deraadsheer.nl
END:VEVENT
BEGIN:VEVENT
DTSTART;TZID=Europe/Paris:20170330T200000
DTEND;TZID=Europe/Paris:20170330T230000
DTSTAMP:20260425T122837
CREATED:20170319T163029Z
LAST-MODIFIED:20170319T163029Z
UID:7503-1490904000-1490914800@www.sv-deraadsheer.nl
SUMMARY:Bijzondere ledenvergadering
DESCRIPTION:Bijzondere ledenvergadering \n  Lees verder ...
URL:http://www.sv-deraadsheer.nl/item/bijzondere-ledenvergadering/
LOCATION:Hotel Eetcafé De Roskam\, Molenstraat 1\, Zundert\, 4881 CP\, Nederland
CATEGORIES:Algemeen,Senioren
END:VEVENT
END:VCALENDAR