BEGIN:VCALENDAR
VERSION:2.0
PRODID:-//SV de Raadsheer - ECPv6.0.8//NONSGML v1.0//EN
CALSCALE:GREGORIAN
METHOD:PUBLISH
X-ORIGINAL-URL:http://www.sv-deraadsheer.nl
X-WR-CALDESC:Evenementen voor SV de Raadsheer
REFRESH-INTERVAL;VALUE=DURATION:PT1H
X-Robots-Tag:noindex
X-PUBLISHED-TTL:PT1H
BEGIN:VTIMEZONE
TZID:Europe/Paris
BEGIN:DAYLIGHT
TZOFFSETFROM:+0100
TZOFFSETTO:+0200
TZNAME:CEST
DTSTART:20170326T010000
END:DAYLIGHT
BEGIN:STANDARD
TZOFFSETFROM:+0200
TZOFFSETTO:+0100
TZNAME:CET
DTSTART:20171029T010000
END:STANDARD
END:VTIMEZONE
BEGIN:VEVENT
DTSTART;TZID=Europe/Paris:20171207T193000
DTEND;TZID=Europe/Paris:20171207T235500
DTSTAMP:20260421T120007
CREATED:20170909T205511Z
LAST-MODIFIED:20170909T205511Z
UID:8294-1512675000-1512690900@www.sv-deraadsheer.nl
SUMMARY:Interne competitie
DESCRIPTION:Seizoen 2017-2018\, ronde 11 \nZie programma: \n\nGroep 1\nGroep 2: 2e cyclus\, ronde 3\nGroep 3: 2e cyclus\, ronde 3\nGroep 4: 2e cyclus\, ronde 3\n   Lees verder ...
URL:http://www.sv-deraadsheer.nl/item/interne-competitie-2017-12-07/
LOCATION:Café Zaal Het Wapen van Zundert\, Katerstraat 12\, Zundert\, 4881 AR
CATEGORIES:Interne Schaak Competitie,Senioren
ORGANIZER;CN="John%20van%20Dijk":MAILTO:john@sv-deraadsheer.nl
END:VEVENT
BEGIN:VEVENT
DTSTART;TZID=Europe/Paris:20171214T193000
DTEND;TZID=Europe/Paris:20171214T235500
DTSTAMP:20260421T120007
CREATED:20170909T205543Z
LAST-MODIFIED:20170909T205543Z
UID:8293-1513279800-1513295700@www.sv-deraadsheer.nl
SUMMARY:Interne competitie
DESCRIPTION:Seizoen 2017-2018\, ronde 12 \nZie programma: \n\nGroep 1\nGroep 2: 2e cyclus\, ronde 4\nGroep 3: 2e cyclus\, ronde 4\nGroep 4: 2e cyclus\, ronde 4\n   Lees verder ...
URL:http://www.sv-deraadsheer.nl/item/interne-competitie-2017-12-14/
LOCATION:Café Zaal Het Wapen van Zundert\, Katerstraat 12\, Zundert\, 4881 AR
CATEGORIES:Interne Schaak Competitie,Senioren
ORGANIZER;CN="John%20van%20Dijk":MAILTO:john@sv-deraadsheer.nl
END:VEVENT
BEGIN:VEVENT
DTSTART;TZID=Europe/Paris:20171216T000000
DTEND;TZID=Europe/Paris:20171216T000000
DTSTAMP:20260421T120007
CREATED:20170821T121618Z
LAST-MODIFIED:20170827T153454Z
UID:8137-1513382400-1513382400@www.sv-deraadsheer.nl
SUMMARY:Externe competitie NBSB
DESCRIPTION:5e ronde: \nde Raadsheer 1 \n4e ronde: \nde Raadsheer 2 \nde Raadsheer 3 \n\n  Lees verder ...
URL:http://www.sv-deraadsheer.nl/item/externe-competitie-nbsb-2017-12-16/
CATEGORIES:Externe Schaak Competitie,Senioren
END:VEVENT
BEGIN:VEVENT
DTSTART;TZID=Europe/Paris:20171221T193000
DTEND;TZID=Europe/Paris:20171221T235500
DTSTAMP:20260421T120007
CREATED:20170909T205751Z
LAST-MODIFIED:20170909T205751Z
UID:8296-1513884600-1513900500@www.sv-deraadsheer.nl
SUMMARY:Rondom de kerstboom - deel 1
DESCRIPTION:Lees verder ...
URL:http://www.sv-deraadsheer.nl/item/rondom-de-kerstboom-2017-12-21/
LOCATION:Café Zaal Het Wapen van Zundert\, Katerstraat 12\, Zundert\, 4881 AR
CATEGORIES:Schaak Toernooien,Senioren
ORGANIZER;CN="Niek%20Oostvogels":MAILTO:niek@sv-deraadsheer.nl
END:VEVENT
BEGIN:VEVENT
DTSTART;TZID=Europe/Paris:20171228T193000
DTEND;TZID=Europe/Paris:20171228T235500
DTSTAMP:20260421T120007
CREATED:20170909T205851Z
LAST-MODIFIED:20170909T205851Z
UID:8297-1514489400-1514505300@www.sv-deraadsheer.nl
SUMMARY:Rondom de kerstboom - deel 2
DESCRIPTION:Lees verder ...
URL:http://www.sv-deraadsheer.nl/item/rondom-de-kerstboom-2017-12-28/
LOCATION:Café Zaal Het Wapen van Zundert\, Katerstraat 12\, Zundert\, 4881 AR
CATEGORIES:Schaak Toernooien,Senioren
ORGANIZER;CN="Niek%20Oostvogels":MAILTO:niek@sv-deraadsheer.nl
END:VEVENT
BEGIN:VEVENT
DTSTART;TZID=Europe/Paris:20171231T000000
DTEND;TZID=Europe/Paris:20171231T000000
DTSTAMP:20260421T120007
CREATED:20170827T171252Z
LAST-MODIFIED:20170827T171252Z
UID:8169-1514678400-1514678400@www.sv-deraadsheer.nl
SUMMARY:Oudejaarsdag
DESCRIPTION:GEEN Jeugdcompetitie \n  Lees verder ...
URL:http://www.sv-deraadsheer.nl/item/oudejaarsdag-2017/
CATEGORIES:Senioren,Vakantie
END:VEVENT
END:VCALENDAR