BEGIN:VCALENDAR
VERSION:2.0
PRODID:-//SV de Raadsheer - ECPv6.0.8//NONSGML v1.0//EN
CALSCALE:GREGORIAN
METHOD:PUBLISH
X-WR-CALNAME:SV de Raadsheer
X-ORIGINAL-URL:http://www.sv-deraadsheer.nl
X-WR-CALDESC:Evenementen voor SV de Raadsheer
REFRESH-INTERVAL;VALUE=DURATION:PT1H
X-Robots-Tag:noindex
X-PUBLISHED-TTL:PT1H
BEGIN:VTIMEZONE
TZID:Europe/Paris
BEGIN:DAYLIGHT
TZOFFSETFROM:+0100
TZOFFSETTO:+0200
TZNAME:CEST
DTSTART:20210328T010000
END:DAYLIGHT
BEGIN:STANDARD
TZOFFSETFROM:+0200
TZOFFSETTO:+0100
TZNAME:CET
DTSTART:20211031T010000
END:STANDARD
END:VTIMEZONE
BEGIN:VEVENT
DTSTART;TZID=Europe/Paris:20210306T000000
DTEND;TZID=Europe/Paris:20210306T000000
DTSTAMP:20260421T153140
CREATED:20200824T075915Z
LAST-MODIFIED:20200824T075915Z
UID:15342-1614988800-1614988800@www.sv-deraadsheer.nl
SUMMARY:Externe competitie KNSB
DESCRIPTION:6e ronde \n  Lees verder ...
URL:http://www.sv-deraadsheer.nl/item/externe-competitie-2021-03-06/
CATEGORIES:Externe Schaak Competitie,Senioren
END:VEVENT
BEGIN:VEVENT
DTSTART;TZID=Europe/Paris:20210327T000000
DTEND;TZID=Europe/Paris:20210327T000000
DTSTAMP:20260421T153140
CREATED:20200824T080001Z
LAST-MODIFIED:20200824T080001Z
UID:15343-1616803200-1616803200@www.sv-deraadsheer.nl
SUMMARY:Externe competitie KNSB
DESCRIPTION:7e ronde \n  Lees verder ...
URL:http://www.sv-deraadsheer.nl/item/externe-competitie-2021-03-27/
CATEGORIES:Externe Schaak Competitie,Senioren
END:VEVENT
END:VCALENDAR