BEGIN:VCALENDAR
VERSION:2.0
PRODID:-//SV de Raadsheer - ECPv6.0.8//NONSGML v1.0//EN
CALSCALE:GREGORIAN
METHOD:PUBLISH
X-ORIGINAL-URL:http://www.sv-deraadsheer.nl
X-WR-CALDESC:Evenementen voor SV de Raadsheer
REFRESH-INTERVAL;VALUE=DURATION:PT1H
X-Robots-Tag:noindex
X-PUBLISHED-TTL:PT1H
BEGIN:VTIMEZONE
TZID:Europe/Paris
BEGIN:DAYLIGHT
TZOFFSETFROM:+0100
TZOFFSETTO:+0200
TZNAME:CEST
DTSTART:20230326T010000
END:DAYLIGHT
BEGIN:STANDARD
TZOFFSETFROM:+0200
TZOFFSETTO:+0100
TZNAME:CET
DTSTART:20231029T010000
END:STANDARD
END:VTIMEZONE
BEGIN:VEVENT
DTSTART;TZID=Europe/Paris:20231109T193000
DTEND;TZID=Europe/Paris:20231109T235500
DTSTAMP:20260425T020700
CREATED:20230901T093442Z
LAST-MODIFIED:20230901T093442Z
UID:18016-1699558200-1699574100@www.sv-deraadsheer.nl
SUMMARY:Interne competitie
DESCRIPTION:1e cyclus\, ronde 7 \n  Lees verder ...
URL:http://www.sv-deraadsheer.nl/item/interne-competitie-2023-11-09/
LOCATION:Café Zaal Het Wapen van Zundert\, Katerstraat 12\, Zundert\, 4881 AR
CATEGORIES:Interne Schaak Competitie,Senioren
ORGANIZER;CN="Niek%20Oostvogels":MAILTO:niek@sv-deraadsheer.nl
END:VEVENT
BEGIN:VEVENT
DTSTART;TZID=Europe/Paris:20231116T193000
DTEND;TZID=Europe/Paris:20231116T235500
DTSTAMP:20260425T020700
CREATED:20230901T093444Z
LAST-MODIFIED:20230901T093444Z
UID:18017-1700163000-1700178900@www.sv-deraadsheer.nl
SUMMARY:Interne competitie
DESCRIPTION:1e cyclus\, ronde 8 \n  Lees verder ...
URL:http://www.sv-deraadsheer.nl/item/interne-competitie-2023-11-16/
LOCATION:Café Zaal Het Wapen van Zundert\, Katerstraat 12\, Zundert\, 4881 AR
CATEGORIES:Interne Schaak Competitie,Senioren
ORGANIZER;CN="Niek%20Oostvogels":MAILTO:niek@sv-deraadsheer.nl
END:VEVENT
BEGIN:VEVENT
DTSTART;TZID=Europe/Paris:20231123T193000
DTEND;TZID=Europe/Paris:20231123T235500
DTSTAMP:20260425T020700
CREATED:20230901T093447Z
LAST-MODIFIED:20230901T093447Z
UID:18018-1700767800-1700783700@www.sv-deraadsheer.nl
SUMMARY:Interne competitie
DESCRIPTION:1e cyclus\, ronde 9 \n  Lees verder ...
URL:http://www.sv-deraadsheer.nl/item/interne-competitie-2023-11-23/
LOCATION:Café Zaal Het Wapen van Zundert\, Katerstraat 12\, Zundert\, 4881 AR
CATEGORIES:Interne Schaak Competitie,Senioren
ORGANIZER;CN="Niek%20Oostvogels":MAILTO:niek@sv-deraadsheer.nl
END:VEVENT
BEGIN:VEVENT
DTSTART;TZID=Europe/Paris:20231130T193000
DTEND;TZID=Europe/Paris:20231130T235500
DTSTAMP:20260425T020700
CREATED:20230901T093451Z
LAST-MODIFIED:20230901T093451Z
UID:18019-1701372600-1701388500@www.sv-deraadsheer.nl
SUMMARY:Interne competitie
DESCRIPTION:1e cyclus\, ronde 10 \n  Lees verder ...
URL:http://www.sv-deraadsheer.nl/item/interne-competitie-2023-11-30/
LOCATION:Café Zaal Het Wapen van Zundert\, Katerstraat 12\, Zundert\, 4881 AR
CATEGORIES:Interne Schaak Competitie,Senioren
ORGANIZER;CN="Niek%20Oostvogels":MAILTO:niek@sv-deraadsheer.nl
END:VEVENT
END:VCALENDAR