BEGIN:VCALENDAR
VERSION:2.0
PRODID:-//SV de Raadsheer - ECPv6.0.8//NONSGML v1.0//EN
CALSCALE:GREGORIAN
METHOD:PUBLISH
X-ORIGINAL-URL:http://www.sv-deraadsheer.nl
X-WR-CALDESC:Evenementen voor SV de Raadsheer
REFRESH-INTERVAL;VALUE=DURATION:PT1H
X-Robots-Tag:noindex
X-PUBLISHED-TTL:PT1H
BEGIN:VTIMEZONE
TZID:Europe/Paris
BEGIN:DAYLIGHT
TZOFFSETFROM:+0100
TZOFFSETTO:+0200
TZNAME:CEST
DTSTART:20240331T010000
END:DAYLIGHT
BEGIN:STANDARD
TZOFFSETFROM:+0200
TZOFFSETTO:+0100
TZNAME:CET
DTSTART:20241027T010000
END:STANDARD
END:VTIMEZONE
BEGIN:VEVENT
DTSTART;TZID=Europe/Paris:20241003T194500
DTEND;TZID=Europe/Paris:20241003T235500
DTSTAMP:20260420T172521
CREATED:20240830T103959Z
LAST-MODIFIED:20240830T105645Z
UID:19127-1727984700-1727999700@www.sv-deraadsheer.nl
SUMMARY:Interne competitie
DESCRIPTION:1e cyclus\, ronde 4 \n  Lees verder ...
URL:http://www.sv-deraadsheer.nl/item/interne-competitie-2024-10-03/
LOCATION:Café Zaal Het Wapen van Zundert\, Katerstraat 12\, Zundert\, 4881 AR
CATEGORIES:Interne Schaak Competitie,Senioren
ORGANIZER;CN="Niek%20Oostvogels":MAILTO:niek@sv-deraadsheer.nl
END:VEVENT
BEGIN:VEVENT
DTSTART;TZID=Europe/Paris:20241010T194500
DTEND;TZID=Europe/Paris:20241010T235500
DTSTAMP:20260420T172521
CREATED:20240830T104003Z
LAST-MODIFIED:20240830T105651Z
UID:19128-1728589500-1728604500@www.sv-deraadsheer.nl
SUMMARY:Interne competitie
DESCRIPTION:1e cyclus\, ronde 5 \n  Lees verder ...
URL:http://www.sv-deraadsheer.nl/item/interne-competitie-2024-10-10/
LOCATION:Café Zaal Het Wapen van Zundert\, Katerstraat 12\, Zundert\, 4881 AR
CATEGORIES:Interne Schaak Competitie,Senioren
ORGANIZER;CN="Niek%20Oostvogels":MAILTO:niek@sv-deraadsheer.nl
END:VEVENT
BEGIN:VEVENT
DTSTART;TZID=Europe/Paris:20241017T194500
DTEND;TZID=Europe/Paris:20241017T235500
DTSTAMP:20260420T172521
CREATED:20240830T104005Z
LAST-MODIFIED:20240830T105655Z
UID:19129-1729194300-1729209300@www.sv-deraadsheer.nl
SUMMARY:Interne competitie
DESCRIPTION:1e cyclus\, ronde 6 \n  Lees verder ...
URL:http://www.sv-deraadsheer.nl/item/interne-competitie-2024-10-17/
LOCATION:Café Zaal Het Wapen van Zundert\, Katerstraat 12\, Zundert\, 4881 AR
CATEGORIES:Interne Schaak Competitie,Senioren
ORGANIZER;CN="Niek%20Oostvogels":MAILTO:niek@sv-deraadsheer.nl
END:VEVENT
BEGIN:VEVENT
DTSTART;TZID=Europe/Paris:20241024T194500
DTEND;TZID=Europe/Paris:20241024T235500
DTSTAMP:20260420T172521
CREATED:20240830T104007Z
LAST-MODIFIED:20240830T105700Z
UID:19130-1729799100-1729814100@www.sv-deraadsheer.nl
SUMMARY:Interne competitie
DESCRIPTION:1e cyclus\, ronde 7 \n  Lees verder ...
URL:http://www.sv-deraadsheer.nl/item/interne-competitie-2024-10-24/
LOCATION:Café Zaal Het Wapen van Zundert\, Katerstraat 12\, Zundert\, 4881 AR
CATEGORIES:Interne Schaak Competitie,Senioren
ORGANIZER;CN="Niek%20Oostvogels":MAILTO:niek@sv-deraadsheer.nl
END:VEVENT
BEGIN:VEVENT
DTSTART;TZID=Europe/Paris:20241031T194500
DTEND;TZID=Europe/Paris:20241031T235500
DTSTAMP:20260420T172521
CREATED:20240830T104010Z
LAST-MODIFIED:20240830T105705Z
UID:19119-1730403900-1730418900@www.sv-deraadsheer.nl
SUMMARY:Interne competitie
DESCRIPTION:1e cyclus\, ronde 8 \n  Lees verder ...
URL:http://www.sv-deraadsheer.nl/item/interne-competitie-2024-10-31/
LOCATION:Café Zaal Het Wapen van Zundert\, Katerstraat 12\, Zundert\, 4881 AR
CATEGORIES:Interne Schaak Competitie,Senioren
ORGANIZER;CN="Niek%20Oostvogels":MAILTO:niek@sv-deraadsheer.nl
END:VEVENT
END:VCALENDAR