BEGIN:VCALENDAR
VERSION:2.0
PRODID:-//SV de Raadsheer - ECPv6.0.8//NONSGML v1.0//EN
CALSCALE:GREGORIAN
METHOD:PUBLISH
X-WR-CALNAME:SV de Raadsheer
X-ORIGINAL-URL:http://www.sv-deraadsheer.nl
X-WR-CALDESC:Evenementen voor SV de Raadsheer
REFRESH-INTERVAL;VALUE=DURATION:PT1H
X-Robots-Tag:noindex
X-PUBLISHED-TTL:PT1H
BEGIN:VTIMEZONE
TZID:Europe/Paris
BEGIN:DAYLIGHT
TZOFFSETFROM:+0100
TZOFFSETTO:+0200
TZNAME:CEST
DTSTART:20170326T010000
END:DAYLIGHT
BEGIN:STANDARD
TZOFFSETFROM:+0200
TZOFFSETTO:+0100
TZNAME:CET
DTSTART:20171029T010000
END:STANDARD
END:VTIMEZONE
BEGIN:VEVENT
DTSTART;TZID=Europe/Paris:20170406T193000
DTEND;TZID=Europe/Paris:20170406T235500
DTSTAMP:20260425T124138
CREATED:20160905T151739Z
LAST-MODIFIED:20160905T151739Z
UID:5979-1491507000-1491522900@www.sv-deraadsheer.nl
SUMMARY:Interne Beker - Ronde 4
DESCRIPTION:Bekerwedstrijden 4e ronde (intern); evt. inhalen \n  Lees verder ...
URL:http://www.sv-deraadsheer.nl/item/interne-beker-ronde-4-2016/
LOCATION:Hotel Eetcafé De Roskam\, Molenstraat 1\, Zundert\, 4881 CP\, Nederland
CATEGORIES:Bekertoernooi,Senioren
END:VEVENT
BEGIN:VEVENT
DTSTART;TZID=Europe/Paris:20170406T193000
DTEND;TZID=Europe/Paris:20170406T235500
DTSTAMP:20260425T124138
CREATED:20170117T203320Z
LAST-MODIFIED:20170319T162745Z
UID:7043-1491507000-1491522900@www.sv-deraadsheer.nl
SUMMARY:Interne competitie
DESCRIPTION:Seizoen 2016-2017\, 2e helft\, ronde 8 \nZie programma: \n\nGroep 1\nGroep 2\nGroep 3\nGroep 4\n\n  Lees verder ...
URL:http://www.sv-deraadsheer.nl/item/intern-2017-8/
LOCATION:Hotel Eetcafé De Roskam\, Molenstraat 1\, Zundert\, 4881 CP\, Nederland
CATEGORIES:Interne Schaak Competitie,Senioren
ORGANIZER;CN="John%20van%20Dijk":MAILTO:john@sv-deraadsheer.nl
END:VEVENT
BEGIN:VEVENT
DTSTART;TZID=Europe/Paris:20170413T193000
DTEND;TZID=Europe/Paris:20170413T235500
DTSTAMP:20260425T124138
CREATED:20170117T203338Z
LAST-MODIFIED:20170117T203338Z
UID:7044-1492111800-1492127700@www.sv-deraadsheer.nl
SUMMARY:Interne competitie
DESCRIPTION:Seizoen 2016-2017\, 2e helft\, ronde 9 \nZie programma: \n\nGroep 1\nGroep 2\nGroep 3\nGroep 4\n\n  Lees verder ...
URL:http://www.sv-deraadsheer.nl/item/intern-2017-9/
LOCATION:Hotel Eetcafé De Roskam\, Molenstraat 1\, Zundert\, 4881 CP\, Nederland
CATEGORIES:Interne Schaak Competitie,Senioren
ORGANIZER;CN="John%20van%20Dijk":MAILTO:john@sv-deraadsheer.nl
END:VEVENT
BEGIN:VEVENT
DTSTART;TZID=Europe/Paris:20170420T193000
DTEND;TZID=Europe/Paris:20170420T235500
DTSTAMP:20260425T124138
CREATED:20170117T203903Z
LAST-MODIFIED:20170117T203903Z
UID:7048-1492716600-1492732500@www.sv-deraadsheer.nl
SUMMARY:Interne competitie
DESCRIPTION:Seizoen 2016-2017\, 2e helft\, inhaalronde \nZie programma: \n\nGroep 1\nGroep 2\nGroep 3\nGroep 4\n\n  Lees verder ...
URL:http://www.sv-deraadsheer.nl/item/intern-2017-x2/
LOCATION:Hotel Eetcafé De Roskam\, Molenstraat 1\, Zundert\, 4881 CP\, Nederland
CATEGORIES:Interne Schaak Competitie,Senioren
ORGANIZER;CN="John%20van%20Dijk":MAILTO:john@sv-deraadsheer.nl
END:VEVENT
BEGIN:VEVENT
DTSTART;TZID=Europe/Paris:20170427T193000
DTEND;TZID=Europe/Paris:20170427T235500
DTSTAMP:20260425T124138
CREATED:20170117T203357Z
LAST-MODIFIED:20170117T203357Z
UID:7045-1493321400-1493337300@www.sv-deraadsheer.nl
SUMMARY:Interne competitie
DESCRIPTION:Seizoen 2016-2017\, 2e helft\, ronde 10 \nZie programma: \n\nGroep 1\nGroep 2\nGroep 3\nGroep 4\n\n  Lees verder ...
URL:http://www.sv-deraadsheer.nl/item/intern-2017-10/
LOCATION:Hotel Eetcafé De Roskam\, Molenstraat 1\, Zundert\, 4881 CP\, Nederland
CATEGORIES:Interne Schaak Competitie,Senioren
ORGANIZER;CN="John%20van%20Dijk":MAILTO:john@sv-deraadsheer.nl
END:VEVENT
BEGIN:VEVENT
DTSTART;TZID=Europe/Paris:20170504T193000
DTEND;TZID=Europe/Paris:20170504T235500
DTSTAMP:20260425T124138
CREATED:20170117T203410Z
LAST-MODIFIED:20170117T203410Z
UID:7046-1493926200-1493942100@www.sv-deraadsheer.nl
SUMMARY:Interne competitie
DESCRIPTION:Seizoen 2016-2017\, 2e helft\, ronde 11 \nZie programma: \n\nGroep 1\nGroep 2\nGroep 3\nGroep 4\n\n  Lees verder ...
URL:http://www.sv-deraadsheer.nl/item/intern-2017-11/
LOCATION:Hotel Eetcafé De Roskam\, Molenstraat 1\, Zundert\, 4881 CP\, Nederland
CATEGORIES:Interne Schaak Competitie,Senioren
ORGANIZER;CN="John%20van%20Dijk":MAILTO:john@sv-deraadsheer.nl
END:VEVENT
BEGIN:VEVENT
DTSTART;TZID=Europe/Paris:20170506T000000
DTEND;TZID=Europe/Paris:20170506T000000
DTSTAMP:20260425T124138
CREATED:20160605T132359Z
LAST-MODIFIED:20160605T132359Z
UID:5347-1494028800-1494028800@www.sv-deraadsheer.nl
SUMMARY:Externe competitie NBSB
DESCRIPTION:9e ronde (laatste): \nde Raadsheer 1 \nde Raadsheer 2 \n\n  Lees verder ...
URL:http://www.sv-deraadsheer.nl/item/externe-competitie-nbsb-35/
CATEGORIES:Externe Schaak Competitie,Senioren
END:VEVENT
BEGIN:VEVENT
DTSTART;TZID=Europe/Paris:20170511T193000
DTEND;TZID=Europe/Paris:20170511T235500
DTSTAMP:20260425T124138
CREATED:20170117T204001Z
LAST-MODIFIED:20170117T204001Z
UID:7049-1494531000-1494546900@www.sv-deraadsheer.nl
SUMMARY:Interne competitie
DESCRIPTION:Seizoen 2016-2017\, 2e helft\, inhaalronde \nZie programma: \n\nGroep 1\nGroep 2\nGroep 3\nGroep 4\n\n  Lees verder ...
URL:http://www.sv-deraadsheer.nl/item/intern-2017-x3/
LOCATION:Hotel Eetcafé De Roskam\, Molenstraat 1\, Zundert\, 4881 CP\, Nederland
CATEGORIES:Interne Schaak Competitie,Senioren
ORGANIZER;CN="John%20van%20Dijk":MAILTO:john@sv-deraadsheer.nl
END:VEVENT
BEGIN:VEVENT
DTSTART;TZID=Europe/Paris:20170518T193000
DTEND;TZID=Europe/Paris:20170518T230000
DTSTAMP:20260425T124138
CREATED:20170117T204315Z
LAST-MODIFIED:20170117T204315Z
UID:7050-1495135800-1495148400@www.sv-deraadsheer.nl
SUMMARY:Prijsuitreiking / Snelschaken / Bekerfinale
DESCRIPTION:Prijsuitreiking – snelschaken – bekerfinale \n  Lees verder ...
URL:http://www.sv-deraadsheer.nl/item/prijsuitreiking-snelschaken-2017/
LOCATION:Hotel Eetcafé De Roskam\, Molenstraat 1\, Zundert\, 4881 CP\, Nederland
CATEGORIES:Interne Schaak Competitie,Senioren
ORGANIZER;CN="John%20van%20Dijk":MAILTO:john@sv-deraadsheer.nl
END:VEVENT
BEGIN:VEVENT
DTSTART;TZID=Europe/Paris:20170525T000000
DTEND;TZID=Europe/Paris:20170525T000000
DTSTAMP:20260425T124138
CREATED:20160905T153201Z
LAST-MODIFIED:20160905T153201Z
UID:5981-1495670400-1495670400@www.sv-deraadsheer.nl
SUMMARY:Hemelvaart
DESCRIPTION:Lees verder ...
URL:http://www.sv-deraadsheer.nl/item/hemelvaart-2017/
CATEGORIES:Senioren,Vakantie
END:VEVENT
BEGIN:VEVENT
DTSTART;TZID=Europe/Paris:20170824T193000
DTEND;TZID=Europe/Paris:20170824T230000
DTSTAMP:20260425T124138
CREATED:20170803T114018Z
LAST-MODIFIED:20170803T114018Z
UID:8119-1503603000-1503615600@www.sv-deraadsheer.nl
SUMMARY:Jaarvergadering
DESCRIPTION:Jaarvergadering \n  Lees verder ...
URL:http://www.sv-deraadsheer.nl/item/jaarvergadering-2017/
LOCATION:Café Zaal Het Wapen van Zundert\, Katerstraat 12\, Zundert\, 4881 AR
CATEGORIES:Algemeen,Senioren
END:VEVENT
BEGIN:VEVENT
DTSTART;TZID=Europe/Paris:20170907T193000
DTEND;TZID=Europe/Paris:20170907T235500
DTSTAMP:20260425T124138
CREATED:20170803T114852Z
LAST-MODIFIED:20170909T203726Z
UID:8123-1504812600-1504828500@www.sv-deraadsheer.nl
SUMMARY:Interne competitie
DESCRIPTION:Seizoen 2017-2018\, eerste ronde \nZie programma: \n\nGroep 1\nGroep 2\nGroep 3\nGroep 4\n\n  Lees verder ...
URL:http://www.sv-deraadsheer.nl/item/interne-competitie-2017-09-07/
LOCATION:Café Zaal Het Wapen van Zundert\, Katerstraat 12\, Zundert\, 4881 AR
CATEGORIES:Interne Schaak Competitie,Senioren
ORGANIZER;CN="John%20van%20Dijk":MAILTO:john@sv-deraadsheer.nl
END:VEVENT
BEGIN:VEVENT
DTSTART;TZID=Europe/Paris:20170910T100000
DTEND;TZID=Europe/Paris:20170910T120000
DTSTAMP:20260425T124138
CREATED:20170803T113714Z
LAST-MODIFIED:20170803T113714Z
UID:8118-1505037600-1505044800@www.sv-deraadsheer.nl
SUMMARY:Open Dag
DESCRIPTION:Lees verder ...
URL:http://www.sv-deraadsheer.nl/item/open-dag-2017/
LOCATION:Café Zaal Het Wapen van Zundert\, Katerstraat 12\, Zundert\, 4881 AR
CATEGORIES:Algemeen,Jeugd,Senioren
ORGANIZER;CN="Inge%20Oostvogels":MAILTO:inge@sv-deraadsheer.nl
END:VEVENT
BEGIN:VEVENT
DTSTART;TZID=Europe/Paris:20170914T193000
DTEND;TZID=Europe/Paris:20170914T235500
DTSTAMP:20260425T124138
CREATED:20170803T115415Z
LAST-MODIFIED:20170909T203829Z
UID:8126-1505417400-1505433300@www.sv-deraadsheer.nl
SUMMARY:Interne competitie
DESCRIPTION:Seizoen 2017-2018\, tweede ronde \nZie programma: \n\nGroep 1\nGroep 2\nGroep 3\nGroep 4\n\n  Lees verder ...
URL:http://www.sv-deraadsheer.nl/item/interne-competitie-2017-09-14/
LOCATION:Café Zaal Het Wapen van Zundert\, Katerstraat 12\, Zundert\, 4881 AR
CATEGORIES:Interne Schaak Competitie,Senioren
ORGANIZER;CN="John%20van%20Dijk":MAILTO:john@sv-deraadsheer.nl
END:VEVENT
BEGIN:VEVENT
DTSTART;TZID=Europe/Paris:20170916T000000
DTEND;TZID=Europe/Paris:20170916T000000
DTSTAMP:20260425T124138
CREATED:20170528T185606Z
LAST-MODIFIED:20170821T121956Z
UID:8102-1505520000-1505520000@www.sv-deraadsheer.nl
SUMMARY:Externe competitie NBSB
DESCRIPTION:1e ronde: \nde Raadsheer 1 \n\n  Lees verder ...
URL:http://www.sv-deraadsheer.nl/item/externe-competitie-nbsb-2017-09-16/
CATEGORIES:Externe Schaak Competitie,Senioren
END:VEVENT
BEGIN:VEVENT
DTSTART;TZID=Europe/Paris:20170921T193000
DTEND;TZID=Europe/Paris:20170921T235500
DTSTAMP:20260425T124138
CREATED:20170803T115456Z
LAST-MODIFIED:20170909T203835Z
UID:8125-1506022200-1506038100@www.sv-deraadsheer.nl
SUMMARY:Interne competitie
DESCRIPTION:Seizoen 2017-2018\, derde ronde \nZie programma: \n\nGroep 1\nGroep 2\nGroep 3\nGroep 4\n\n  Lees verder ...
URL:http://www.sv-deraadsheer.nl/item/interne-competitie-2017-09-21/
LOCATION:Café Zaal Het Wapen van Zundert\, Katerstraat 12\, Zundert\, 4881 AR
CATEGORIES:Interne Schaak Competitie,Senioren
ORGANIZER;CN="John%20van%20Dijk":MAILTO:john@sv-deraadsheer.nl
END:VEVENT
BEGIN:VEVENT
DTSTART;TZID=Europe/Paris:20170928T193000
DTEND;TZID=Europe/Paris:20170928T235500
DTSTAMP:20260425T124138
CREATED:20170803T115547Z
LAST-MODIFIED:20170909T203851Z
UID:8124-1506627000-1506642900@www.sv-deraadsheer.nl
SUMMARY:Interne competitie
DESCRIPTION:Seizoen 2017-2018\, vierde ronde \nZie programma: \n\nGroep 1\nGroep 2\nGroep 3\nGroep 4\n\n  Lees verder ...
URL:http://www.sv-deraadsheer.nl/item/interne-competitie-2017-09-28/
LOCATION:Café Zaal Het Wapen van Zundert\, Katerstraat 12\, Zundert\, 4881 AR
CATEGORIES:Interne Schaak Competitie,Senioren
ORGANIZER;CN="John%20van%20Dijk":MAILTO:john@sv-deraadsheer.nl
END:VEVENT
BEGIN:VEVENT
DTSTART;TZID=Europe/Paris:20171005T193000
DTEND;TZID=Europe/Paris:20171005T235500
DTSTAMP:20260425T124138
CREATED:20170909T204024Z
LAST-MODIFIED:20170909T204024Z
UID:8285-1507231800-1507247700@www.sv-deraadsheer.nl
SUMMARY:Interne competitie
DESCRIPTION:Seizoen 2017-2018\, vijfde ronde \nZie programma: \n\nGroep 1\nGroep 2\nGroep 3\nGroep 4\n\n  Lees verder ...
URL:http://www.sv-deraadsheer.nl/item/interne-competitie-2017-10-05/
LOCATION:Café Zaal Het Wapen van Zundert\, Katerstraat 12\, Zundert\, 4881 AR
CATEGORIES:Interne Schaak Competitie,Senioren
ORGANIZER;CN="John%20van%20Dijk":MAILTO:john@sv-deraadsheer.nl
END:VEVENT
BEGIN:VEVENT
DTSTART;TZID=Europe/Paris:20171007T000000
DTEND;TZID=Europe/Paris:20171007T000000
DTSTAMP:20260425T124138
CREATED:20170821T121239Z
LAST-MODIFIED:20170827T153332Z
UID:8134-1507334400-1507334400@www.sv-deraadsheer.nl
SUMMARY:Externe competitie NBSB
DESCRIPTION:2e ronde: \nde Raadsheer 1 \n1e ronde: \nde Raadsheer 2 \nde Raadsheer 3 \n\n  Lees verder ...
URL:http://www.sv-deraadsheer.nl/item/externe-competitie-nbsb-2017-10-07/
CATEGORIES:Externe Schaak Competitie,Senioren
END:VEVENT
BEGIN:VEVENT
DTSTART;TZID=Europe/Paris:20171012T193000
DTEND;TZID=Europe/Paris:20171012T235500
DTSTAMP:20260425T124138
CREATED:20170909T204133Z
LAST-MODIFIED:20171010T091505Z
UID:8289-1507836600-1507852500@www.sv-deraadsheer.nl
SUMMARY:Interne competitie
DESCRIPTION:Seizoen 2017-2018\, ronde 6 \nZie programma: \n\nGroep 1\nGroep 2\nGroep 3\nGroep 4\n\n  Lees verder ...
URL:http://www.sv-deraadsheer.nl/item/interne-competitie-2017-10-12/
LOCATION:Café Zaal Het Wapen van Zundert\, Katerstraat 12\, Zundert\, 4881 AR
CATEGORIES:Interne Schaak Competitie,Senioren
ORGANIZER;CN="John%20van%20Dijk":MAILTO:john@sv-deraadsheer.nl
END:VEVENT
BEGIN:VEVENT
DTSTART;TZID=Europe/Paris:20171019T193000
DTEND;TZID=Europe/Paris:20171019T230000
DTSTAMP:20260425T124138
CREATED:20171008T164430Z
LAST-MODIFIED:20171008T164430Z
UID:8391-1508441400-1508454000@www.sv-deraadsheer.nl
SUMMARY:Klokschaaktoernooi
DESCRIPTION:Herfstvakantie; geen competitie\, klokschaaktoernooi \n  Lees verder ...
URL:http://www.sv-deraadsheer.nl/item/klokschaaktoernooi-2017/
LOCATION:Café Zaal Het Wapen van Zundert\, Katerstraat 12\, Zundert\, 4881 AR
CATEGORIES:Schaak Toernooien,Senioren
END:VEVENT
BEGIN:VEVENT
DTSTART;TZID=Europe/Paris:20171022T133000
DTEND;TZID=Europe/Paris:20171022T170000
DTSTAMP:20260425T124138
CREATED:20171003T204530Z
LAST-MODIFIED:20171003T204550Z
UID:8373-1508679000-1508691600@www.sv-deraadsheer.nl
SUMMARY:Familieschaaktoernooi
DESCRIPTION:Lees verder ...
URL:http://www.sv-deraadsheer.nl/item/familieschaaktoernooi-2017/
LOCATION:Café Zaal Het Wapen van Zundert\, Katerstraat 12\, Zundert\, 4881 AR
CATEGORIES:Jeugd,Jeugd Schaak Toernooi,Schaak Toernooien,Senioren
ORGANIZER;CN="Inge%20Oostvogels":MAILTO:inge@sv-deraadsheer.nl
END:VEVENT
BEGIN:VEVENT
DTSTART;TZID=Europe/Paris:20171026T193000
DTEND;TZID=Europe/Paris:20171026T235500
DTSTAMP:20260425T124138
CREATED:20170909T204325Z
LAST-MODIFIED:20170909T204325Z
UID:8287-1509046200-1509062100@www.sv-deraadsheer.nl
SUMMARY:Interne competitie
DESCRIPTION:Seizoen 2017-2018\, ronde 7 \nZie programma: \n\nGroep 1\nGroep 2\nGroep 3\nGroep 4\n\n  Lees verder ...
URL:http://www.sv-deraadsheer.nl/item/interne-competitie-2017-10-26/
LOCATION:Café Zaal Het Wapen van Zundert\, Katerstraat 12\, Zundert\, 4881 AR
CATEGORIES:Interne Schaak Competitie,Senioren
ORGANIZER;CN="John%20van%20Dijk":MAILTO:john@sv-deraadsheer.nl
END:VEVENT
BEGIN:VEVENT
DTSTART;TZID=Europe/Paris:20171102T193000
DTEND;TZID=Europe/Paris:20171102T235500
DTSTAMP:20260425T124138
CREATED:20170909T204405Z
LAST-MODIFIED:20170909T204405Z
UID:8286-1509651000-1509666900@www.sv-deraadsheer.nl
SUMMARY:Interne competitie
DESCRIPTION:Seizoen 2017-2018\, ronde 8 \nZie programma: \n\nGroep 1\nGroep 2\nGroep 3\nGroep 4\n\n  Lees verder ...
URL:http://www.sv-deraadsheer.nl/item/interne-competitie-2017-11-02/
LOCATION:Café Zaal Het Wapen van Zundert\, Katerstraat 12\, Zundert\, 4881 AR
CATEGORIES:Interne Schaak Competitie,Senioren
ORGANIZER;CN="John%20van%20Dijk":MAILTO:john@sv-deraadsheer.nl
END:VEVENT
BEGIN:VEVENT
DTSTART;TZID=Europe/Paris:20171104T000000
DTEND;TZID=Europe/Paris:20171104T000000
DTSTAMP:20260425T124138
CREATED:20170821T121501Z
LAST-MODIFIED:20170827T153400Z
UID:8136-1509753600-1509753600@www.sv-deraadsheer.nl
SUMMARY:Externe competitie NBSB
DESCRIPTION:3e ronde: \nde Raadsheer 1 \n2e ronde: \nde Raadsheer 2 \nde Raadsheer 3 \n\n  Lees verder ...
URL:http://www.sv-deraadsheer.nl/item/externe-competitie-nbsb-2017-11-04/
CATEGORIES:Externe Schaak Competitie,Senioren
END:VEVENT
BEGIN:VEVENT
DTSTART;TZID=Europe/Paris:20171109T193000
DTEND;TZID=Europe/Paris:20171109T235500
DTSTAMP:20260425T124138
CREATED:20170909T204624Z
LAST-MODIFIED:20170909T204624Z
UID:8292-1510255800-1510271700@www.sv-deraadsheer.nl
SUMMARY:Interne competitie
DESCRIPTION:Seizoen 2017-2018\, ronde 9 \nZie programma: \n\nGroep 1\nGroep 2\nGroep 3\nGroep 4\n\n  Lees verder ...
URL:http://www.sv-deraadsheer.nl/item/interne-competitie-2017-11-09/
LOCATION:Café Zaal Het Wapen van Zundert\, Katerstraat 12\, Zundert\, 4881 AR
CATEGORIES:Interne Schaak Competitie,Senioren
ORGANIZER;CN="John%20van%20Dijk":MAILTO:john@sv-deraadsheer.nl
END:VEVENT
BEGIN:VEVENT
DTSTART;TZID=Europe/Paris:20171116T193000
DTEND;TZID=Europe/Paris:20171116T235500
DTSTAMP:20260425T124138
CREATED:20170909T204737Z
LAST-MODIFIED:20170909T204737Z
UID:8291-1510860600-1510876500@www.sv-deraadsheer.nl
SUMMARY:Interne competitie
DESCRIPTION:Seizoen 2017-2018\, inhaalronde (daarna promotie/degradatie groepen 2\, 3 en 4) \nZie programma: \n\nGroep 1\nGroep 2\nGroep 3\nGroep 4\n   Lees verder ...
URL:http://www.sv-deraadsheer.nl/item/interne-competitie-2017-11-16/
LOCATION:Café Zaal Het Wapen van Zundert\, Katerstraat 12\, Zundert\, 4881 AR
CATEGORIES:Interne Schaak Competitie,Senioren
ORGANIZER;CN="John%20van%20Dijk":MAILTO:john@sv-deraadsheer.nl
END:VEVENT
BEGIN:VEVENT
DTSTART;TZID=Europe/Paris:20171123T193000
DTEND;TZID=Europe/Paris:20171123T235500
DTSTAMP:20260425T124138
CREATED:20170909T204859Z
LAST-MODIFIED:20170909T205214Z
UID:8290-1511465400-1511481300@www.sv-deraadsheer.nl
SUMMARY:Interne competitie
DESCRIPTION:Seizoen 2017-2018\, ronde 10 \nZie programma: \n\nGroep 1\nGroep 2: 2e cyclus\, ronde 1\nGroep 3: 2e cyclus\, ronde 1\nGroep 4: 2e cyclus\, ronde 1\n   Lees verder ...
URL:http://www.sv-deraadsheer.nl/item/interne-competitie-2017-11-23/
LOCATION:Café Zaal Het Wapen van Zundert\, Katerstraat 12\, Zundert\, 4881 AR
CATEGORIES:Interne Schaak Competitie,Senioren
ORGANIZER;CN="John%20van%20Dijk":MAILTO:john@sv-deraadsheer.nl
END:VEVENT
BEGIN:VEVENT
DTSTART;TZID=Europe/Paris:20171125T000000
DTEND;TZID=Europe/Paris:20171125T000000
DTSTAMP:20260425T124138
CREATED:20170821T121542Z
LAST-MODIFIED:20170827T153425Z
UID:8135-1511568000-1511568000@www.sv-deraadsheer.nl
SUMMARY:Externe competitie NBSB
DESCRIPTION:4e ronde: \nde Raadsheer 1 \n3e ronde: \nde Raadsheer 2 \nde Raadsheer 3 \n\n  Lees verder ...
URL:http://www.sv-deraadsheer.nl/item/externe-competitie-nbsb-2017-11-25/
CATEGORIES:Externe Schaak Competitie,Senioren
END:VEVENT
BEGIN:VEVENT
DTSTART;TZID=Europe/Paris:20171130T193000
DTEND;TZID=Europe/Paris:20171130T235500
DTSTAMP:20260425T124138
CREATED:20170909T205412Z
LAST-MODIFIED:20170909T205412Z
UID:8295-1512070200-1512086100@www.sv-deraadsheer.nl
SUMMARY:Interne competitie
DESCRIPTION:Seizoen 2017-2018\, bekerronde en inhaalronde \nZie programma: \n\nGroep 1\nGroep 2: 2e cyclus\, ronde 2\nGroep 3: 2e cyclus\, ronde 2\nGroep 4: 2e cyclus\, ronde 2\n   Lees verder ...
URL:http://www.sv-deraadsheer.nl/item/interne-competitie-2017-11-30/
LOCATION:Café Zaal Het Wapen van Zundert\, Katerstraat 12\, Zundert\, 4881 AR
CATEGORIES:Interne Schaak Competitie,Senioren
ORGANIZER;CN="John%20van%20Dijk":MAILTO:john@sv-deraadsheer.nl
END:VEVENT
END:VCALENDAR