BEGIN:VCALENDAR
VERSION:2.0
PRODID:-//SV de Raadsheer - ECPv6.0.8//NONSGML v1.0//EN
CALSCALE:GREGORIAN
METHOD:PUBLISH
X-WR-CALNAME:SV de Raadsheer
X-ORIGINAL-URL:http://www.sv-deraadsheer.nl
X-WR-CALDESC:Evenementen voor SV de Raadsheer
REFRESH-INTERVAL;VALUE=DURATION:PT1H
X-Robots-Tag:noindex
X-PUBLISHED-TTL:PT1H
BEGIN:VTIMEZONE
TZID:Europe/Paris
BEGIN:DAYLIGHT
TZOFFSETFROM:+0100
TZOFFSETTO:+0200
TZNAME:CEST
DTSTART:20180325T010000
END:DAYLIGHT
BEGIN:STANDARD
TZOFFSETFROM:+0200
TZOFFSETTO:+0100
TZNAME:CET
DTSTART:20181028T010000
END:STANDARD
END:VTIMEZONE
BEGIN:VEVENT
DTSTART;TZID=Europe/Paris:20180104T193000
DTEND;TZID=Europe/Paris:20180104T235500
DTSTAMP:20260421T220732
CREATED:20170909T210153Z
LAST-MODIFIED:20170909T210153Z
UID:8303-1515094200-1515110100@www.sv-deraadsheer.nl
SUMMARY:Interne competitie
DESCRIPTION:Seizoen 2017-2018\, ronde 13 \nZie programma: \n\nGroep 1\nGroep 2: 2e cyclus\, ronde 5\nGroep 3: 2e cyclus\, ronde 5\nGroep 4: 2e cyclus\, ronde 5\n   Lees verder ...
URL:http://www.sv-deraadsheer.nl/item/interne-competitie-2018-01-04/
LOCATION:Café Zaal Het Wapen van Zundert\, Katerstraat 12\, Zundert\, 4881 AR
CATEGORIES:Interne Schaak Competitie,Senioren
ORGANIZER;CN="John%20van%20Dijk":MAILTO:john@sv-deraadsheer.nl
END:VEVENT
BEGIN:VEVENT
DTSTART;TZID=Europe/Paris:20180111T193000
DTEND;TZID=Europe/Paris:20180111T235500
DTSTAMP:20260421T220732
CREATED:20170909T210242Z
LAST-MODIFIED:20170909T210242Z
UID:8302-1515699000-1515714900@www.sv-deraadsheer.nl
SUMMARY:Interne competitie
DESCRIPTION:Seizoen 2017-2018\, ronde 14 \nZie programma: \n\nGroep 1\nGroep 2: 2e cyclus\, ronde 6\nGroep 3: 2e cyclus\, ronde 6\nGroep 4: 2e cyclus\, ronde 6\n   Lees verder ...
URL:http://www.sv-deraadsheer.nl/item/interne-competitie-2018-01-11/
LOCATION:Café Zaal Het Wapen van Zundert\, Katerstraat 12\, Zundert\, 4881 AR
CATEGORIES:Interne Schaak Competitie,Senioren
ORGANIZER;CN="John%20van%20Dijk":MAILTO:john@sv-deraadsheer.nl
END:VEVENT
BEGIN:VEVENT
DTSTART;TZID=Europe/Paris:20180118T193000
DTEND;TZID=Europe/Paris:20180118T235500
DTSTAMP:20260421T220732
CREATED:20170909T210318Z
LAST-MODIFIED:20170909T210318Z
UID:8301-1516303800-1516319700@www.sv-deraadsheer.nl
SUMMARY:Interne competitie
DESCRIPTION:Seizoen 2017-2018\, ronde 15 \nZie programma: \n\nGroep 1\nGroep 2: 2e cyclus\, ronde 7\nGroep 3: 2e cyclus\, ronde 7\nGroep 4: 2e cyclus\, ronde 7\n   Lees verder ...
URL:http://www.sv-deraadsheer.nl/item/interne-competitie-2018-01-18/
LOCATION:Café Zaal Het Wapen van Zundert\, Katerstraat 12\, Zundert\, 4881 AR
CATEGORIES:Interne Schaak Competitie,Senioren
ORGANIZER;CN="John%20van%20Dijk":MAILTO:john@sv-deraadsheer.nl
END:VEVENT
BEGIN:VEVENT
DTSTART;TZID=Europe/Paris:20180125T193000
DTEND;TZID=Europe/Paris:20180125T235500
DTSTAMP:20260421T220732
CREATED:20170909T210424Z
LAST-MODIFIED:20170909T210424Z
UID:8300-1516908600-1516924500@www.sv-deraadsheer.nl
SUMMARY:Interne competitie
DESCRIPTION:Seizoen 2017-2018\, inhaalronde \nZie programma: \n\nGroep 1\nGroep 2: 2e cyclus\, inhaalronde\nGroep 3: 2e cyclus\, inhaalronde\nGroep 4: 2e cyclus\, inhaalronde\n   Lees verder ...
URL:http://www.sv-deraadsheer.nl/item/interne-competitie-2018-01-25/
LOCATION:Café Zaal Het Wapen van Zundert\, Katerstraat 12\, Zundert\, 4881 AR
CATEGORIES:Interne Schaak Competitie,Senioren
ORGANIZER;CN="John%20van%20Dijk":MAILTO:john@sv-deraadsheer.nl
END:VEVENT
BEGIN:VEVENT
DTSTART;TZID=Europe/Paris:20180127T090000
DTEND;TZID=Europe/Paris:20180127T170000
DTSTAMP:20260421T220732
CREATED:20170909T212732Z
LAST-MODIFIED:20170909T212732Z
UID:8319-1517043600-1517072400@www.sv-deraadsheer.nl
SUMMARY:Snelschaaktoernooi
DESCRIPTION:Dag der dagen deel I \n  Lees verder ...
URL:http://www.sv-deraadsheer.nl/item/snelschaaktoernooi-2018/
LOCATION:Café Zaal Het Wapen van Zundert\, Katerstraat 12\, Zundert\, 4881 AR
CATEGORIES:Schaak Toernooien,Senioren
END:VEVENT
BEGIN:VEVENT
DTSTART;TZID=Europe/Paris:20180201T193000
DTEND;TZID=Europe/Paris:20180201T235500
DTSTAMP:20260421T220732
CREATED:20170909T210516Z
LAST-MODIFIED:20170909T210516Z
UID:8299-1517513400-1517529300@www.sv-deraadsheer.nl
SUMMARY:Interne competitie
DESCRIPTION:Seizoen 2017-2018\, ronde 16 \nZie programma: \n\nGroep 1\nGroep 2: 2e cyclus\, ronde 8\nGroep 3: 2e cyclus\, ronde 8\nGroep 4: 2e cyclus\, ronde 8\n   Lees verder ...
URL:http://www.sv-deraadsheer.nl/item/interne-competitie-2018-02-01/
LOCATION:Café Zaal Het Wapen van Zundert\, Katerstraat 12\, Zundert\, 4881 AR
CATEGORIES:Interne Schaak Competitie,Senioren
ORGANIZER;CN="John%20van%20Dijk":MAILTO:john@sv-deraadsheer.nl
END:VEVENT
BEGIN:VEVENT
DTSTART;TZID=Europe/Paris:20180203T000000
DTEND;TZID=Europe/Paris:20180203T000000
DTSTAMP:20260421T220732
CREATED:20170821T121830Z
LAST-MODIFIED:20170827T153518Z
UID:8138-1517616000-1517616000@www.sv-deraadsheer.nl
SUMMARY:Externe competitie NBSB
DESCRIPTION:6e ronde: \nde Raadsheer 1 \n5e ronde: \nde Raadsheer 2 \nde Raadsheer 3 \n\n  Lees verder ...
URL:http://www.sv-deraadsheer.nl/item/externe-competitie-nbsb-2018-02-03/
CATEGORIES:Externe Schaak Competitie,Senioren
END:VEVENT
BEGIN:VEVENT
DTSTART;TZID=Europe/Paris:20180208T193000
DTEND;TZID=Europe/Paris:20180208T235500
DTSTAMP:20260421T220732
CREATED:20170909T210559Z
LAST-MODIFIED:20170909T210721Z
UID:8298-1518118200-1518134100@www.sv-deraadsheer.nl
SUMMARY:Interne competitie
DESCRIPTION:Seizoen 2017-2018\, ronde 17 \nZie programma: \n\nGroep 1\nGroep 2: 2e cyclus\, ronde 9 (promotie/degradatie)\nGroep 3: 2e cyclus\, ronde 9 (promotie/degradatie)\nGroep 4: 2e cyclus\, ronde 9 (promotie/degradatie)\n   Lees verder ...
URL:http://www.sv-deraadsheer.nl/item/interne-competitie-2018-02-08/
LOCATION:Café Zaal Het Wapen van Zundert\, Katerstraat 12\, Zundert\, 4881 AR
CATEGORIES:Interne Schaak Competitie,Senioren
ORGANIZER;CN="John%20van%20Dijk":MAILTO:john@sv-deraadsheer.nl
END:VEVENT
BEGIN:VEVENT
DTSTART;TZID=Europe/Paris:20180215T193000
DTEND;TZID=Europe/Paris:20180215T235500
DTSTAMP:20260421T220732
CREATED:20170909T211636Z
LAST-MODIFIED:20171010T091735Z
UID:8310-1518723000-1518738900@www.sv-deraadsheer.nl
SUMMARY:Handicap Snelschaaktoernooi
DESCRIPTION:Carnavalsvakantie \n  Lees verder ...
URL:http://www.sv-deraadsheer.nl/item/handicap-snelschaaktoernooi-2018/
LOCATION:Café Zaal Het Wapen van Zundert\, Katerstraat 12\, Zundert\, 4881 AR
CATEGORIES:Interne Schaak Competitie,Senioren
ORGANIZER;CN="Niek%20Oostvogels":MAILTO:niek@sv-deraadsheer.nl
END:VEVENT
BEGIN:VEVENT
DTSTART;TZID=Europe/Paris:20180222T193000
DTEND;TZID=Europe/Paris:20180222T235500
DTSTAMP:20260421T220733
CREATED:20170909T210902Z
LAST-MODIFIED:20171010T091716Z
UID:8305-1519327800-1519343700@www.sv-deraadsheer.nl
SUMMARY:Interne competitie
DESCRIPTION:Seizoen 2017-2018\, ronde 18 \nZie programma: \n\nGroep 1\nGroep 2: 3e cyclus\, ronde 1\nGroep 3: 3e cyclus\, ronde 1\nGroep 4: 3e cyclus\, ronde 1\n   Lees verder ...
URL:http://www.sv-deraadsheer.nl/item/interne-competitie-2018-02-22/
LOCATION:Café Zaal Het Wapen van Zundert\, Katerstraat 12\, Zundert\, 4881 AR
CATEGORIES:Interne Schaak Competitie,Senioren
ORGANIZER;CN="John%20van%20Dijk":MAILTO:john@sv-deraadsheer.nl
END:VEVENT
BEGIN:VEVENT
DTSTART;TZID=Europe/Paris:20180301T193000
DTEND;TZID=Europe/Paris:20180301T235500
DTSTAMP:20260421T220733
CREATED:20170909T211039Z
LAST-MODIFIED:20170909T211039Z
UID:8309-1519932600-1519948500@www.sv-deraadsheer.nl
SUMMARY:Interne competitie
DESCRIPTION:Seizoen 2017-2018\, ronde 19 \nZie programma: \n\nGroep 1\nGroep 2: 3e cyclus\, ronde 2\nGroep 3: 3e cyclus\, ronde 2\nGroep 4: 3e cyclus\, ronde 2\n   Lees verder ...
URL:http://www.sv-deraadsheer.nl/item/interne-competitie-2018-03-01/
LOCATION:Café Zaal Het Wapen van Zundert\, Katerstraat 12\, Zundert\, 4881 AR
CATEGORIES:Interne Schaak Competitie,Senioren
ORGANIZER;CN="John%20van%20Dijk":MAILTO:john@sv-deraadsheer.nl
END:VEVENT
BEGIN:VEVENT
DTSTART;TZID=Europe/Paris:20180308T193000
DTEND;TZID=Europe/Paris:20180308T235500
DTSTAMP:20260421T220733
CREATED:20170909T211248Z
LAST-MODIFIED:20170909T211248Z
UID:8307-1520537400-1520553300@www.sv-deraadsheer.nl
SUMMARY:Interne competitie
DESCRIPTION:Seizoen 2017-2018\, bekerronde en inhaalronde \nZie programma: \n\nGroep 1\nGroep 2: 3e cyclus\, inhaalronde\nGroep 3: 3e cyclus\, inhaalronde\nGroep 4: 3e cyclus\, inhaalronde\n   Lees verder ...
URL:http://www.sv-deraadsheer.nl/item/interne-competitie-2018-03-08/
LOCATION:Café Zaal Het Wapen van Zundert\, Katerstraat 12\, Zundert\, 4881 AR
CATEGORIES:Interne Schaak Competitie,Senioren
ORGANIZER;CN="John%20van%20Dijk":MAILTO:john@sv-deraadsheer.nl
END:VEVENT
BEGIN:VEVENT
DTSTART;TZID=Europe/Paris:20180310T000000
DTEND;TZID=Europe/Paris:20180310T000000
DTSTAMP:20260421T220733
CREATED:20170821T122142Z
LAST-MODIFIED:20170827T153626Z
UID:8139-1520640000-1520640000@www.sv-deraadsheer.nl
SUMMARY:Externe competitie NBSB
DESCRIPTION:7e ronde: \nde Raadsheer 1 \n6e ronde: \nde Raadsheer 2 \nde Raadsheer 3 \n\n  Lees verder ...
URL:http://www.sv-deraadsheer.nl/item/externe-competitie-nbsb-2017-03-10/
CATEGORIES:Externe Schaak Competitie,Senioren
END:VEVENT
BEGIN:VEVENT
DTSTART;TZID=Europe/Paris:20180315T193000
DTEND;TZID=Europe/Paris:20180315T235500
DTSTAMP:20260421T220733
CREATED:20170909T211109Z
LAST-MODIFIED:20170909T211154Z
UID:8308-1521142200-1521158100@www.sv-deraadsheer.nl
SUMMARY:Interne competitie
DESCRIPTION:Seizoen 2017-2018\, ronde 20 \nZie programma: \n\nGroep 1\nGroep 2: 3e cyclus\, ronde 3\nGroep 3: 3e cyclus\, ronde 3\nGroep 4: 3e cyclus\, ronde 3\n   Lees verder ...
URL:http://www.sv-deraadsheer.nl/item/interne-competitie-2018-03-15/
LOCATION:Café Zaal Het Wapen van Zundert\, Katerstraat 12\, Zundert\, 4881 AR
CATEGORIES:Interne Schaak Competitie,Senioren
ORGANIZER;CN="John%20van%20Dijk":MAILTO:john@sv-deraadsheer.nl
END:VEVENT
BEGIN:VEVENT
DTSTART;TZID=Europe/Paris:20180322T193000
DTEND;TZID=Europe/Paris:20180322T235500
DTSTAMP:20260421T220733
CREATED:20170909T211402Z
LAST-MODIFIED:20170909T211402Z
UID:8306-1521747000-1521762900@www.sv-deraadsheer.nl
SUMMARY:Interne competitie
DESCRIPTION:Seizoen 2017-2018\, ronde 21 \nZie programma: \n\nGroep 1\nGroep 2: 3e cyclus\, ronde 4\nGroep 3: 3e cyclus\, ronde 4\nGroep 4: 3e cyclus\, ronde 4\n   Lees verder ...
URL:http://www.sv-deraadsheer.nl/item/interne-competitie-2018-03-22/
LOCATION:Café Zaal Het Wapen van Zundert\, Katerstraat 12\, Zundert\, 4881 AR
CATEGORIES:Interne Schaak Competitie,Senioren
ORGANIZER;CN="John%20van%20Dijk":MAILTO:john@sv-deraadsheer.nl
END:VEVENT
BEGIN:VEVENT
DTSTART;TZID=Europe/Paris:20180329T193000
DTEND;TZID=Europe/Paris:20180329T235500
DTSTAMP:20260421T220733
CREATED:20170909T211853Z
LAST-MODIFIED:20170909T211853Z
UID:8317-1522351800-1522367700@www.sv-deraadsheer.nl
SUMMARY:Interne competitie
DESCRIPTION:Seizoen 2017-2018\, ronde 22 \nZie programma: \n\nGroep 1\nGroep 2: 3e cyclus\, ronde 5\nGroep 3: 3e cyclus\, ronde 5\nGroep 4: 3e cyclus\, ronde 5\n   Lees verder ...
URL:http://www.sv-deraadsheer.nl/item/interne-competitie-2018-03-29/
LOCATION:Café Zaal Het Wapen van Zundert\, Katerstraat 12\, Zundert\, 4881 AR
CATEGORIES:Interne Schaak Competitie,Senioren
ORGANIZER;CN="John%20van%20Dijk":MAILTO:john@sv-deraadsheer.nl
END:VEVENT
BEGIN:VEVENT
DTSTART;TZID=Europe/Paris:20180405T193000
DTEND;TZID=Europe/Paris:20180405T235500
DTSTAMP:20260421T220733
CREATED:20170909T211932Z
LAST-MODIFIED:20170909T211932Z
UID:8316-1522956600-1522972500@www.sv-deraadsheer.nl
SUMMARY:Interne competitie
DESCRIPTION:Seizoen 2017-2018\, ronde 23 \nZie programma: \n\nGroep 1\nGroep 2: 3e cyclus\, ronde 6\nGroep 3: 3e cyclus\, ronde 6\nGroep 4: 3e cyclus\, ronde 6\n   Lees verder ...
URL:http://www.sv-deraadsheer.nl/item/interne-competitie-2018-04-05/
LOCATION:Café Zaal Het Wapen van Zundert\, Katerstraat 12\, Zundert\, 4881 AR
CATEGORIES:Interne Schaak Competitie,Senioren
ORGANIZER;CN="John%20van%20Dijk":MAILTO:john@sv-deraadsheer.nl
END:VEVENT
BEGIN:VEVENT
DTSTART;TZID=Europe/Paris:20180407T000000
DTEND;TZID=Europe/Paris:20180407T000000
DTSTAMP:20260421T220733
CREATED:20170821T122308Z
LAST-MODIFIED:20170827T153537Z
UID:8140-1523059200-1523059200@www.sv-deraadsheer.nl
SUMMARY:Externe competitie NBSB
DESCRIPTION:8e ronde: \nde Raadsheer 1 \n7e ronde (laatste): \nde Raadsheer 2 \nde Raadsheer 3 \n\n  Lees verder ...
URL:http://www.sv-deraadsheer.nl/item/externe-competitie-nbsb-2018-04-07/
CATEGORIES:Externe Schaak Competitie,Senioren
END:VEVENT
BEGIN:VEVENT
DTSTART;TZID=Europe/Paris:20180412T193000
DTEND;TZID=Europe/Paris:20180412T235500
DTSTAMP:20260421T220733
CREATED:20170909T212235Z
LAST-MODIFIED:20170909T212235Z
UID:8312-1523561400-1523577300@www.sv-deraadsheer.nl
SUMMARY:Interne competitie
DESCRIPTION:Seizoen 2017-2018\, inhaalronde \nZie programma: \n\nGroep 1\nGroep 2: 3e cyclus\, inhaalronde\nGroep 3: 3e cyclus\, inhaalronde\nGroep 4: 3e cyclus\, inhaalronde\n   Lees verder ...
URL:http://www.sv-deraadsheer.nl/item/interne-competitie-2018-04-12/
LOCATION:Café Zaal Het Wapen van Zundert\, Katerstraat 12\, Zundert\, 4881 AR
CATEGORIES:Interne Schaak Competitie,Senioren
ORGANIZER;CN="John%20van%20Dijk":MAILTO:john@sv-deraadsheer.nl
END:VEVENT
BEGIN:VEVENT
DTSTART;TZID=Europe/Paris:20180419T193000
DTEND;TZID=Europe/Paris:20180419T235500
DTSTAMP:20260421T220733
CREATED:20170909T212009Z
LAST-MODIFIED:20170909T212009Z
UID:8315-1524166200-1524182100@www.sv-deraadsheer.nl
SUMMARY:Interne competitie
DESCRIPTION:Seizoen 2017-2018\, ronde 24 \nZie programma: \n\nGroep 1\nGroep 2: 3e cyclus\, ronde 7\nGroep 3: 3e cyclus\, ronde 7\nGroep 4: 3e cyclus\, ronde 7\n   Lees verder ...
URL:http://www.sv-deraadsheer.nl/item/interne-competitie-2018-04-19/
LOCATION:Café Zaal Het Wapen van Zundert\, Katerstraat 12\, Zundert\, 4881 AR
CATEGORIES:Interne Schaak Competitie,Senioren
ORGANIZER;CN="John%20van%20Dijk":MAILTO:john@sv-deraadsheer.nl
END:VEVENT
BEGIN:VEVENT
DTSTART;TZID=Europe/Paris:20180421T000000
DTEND;TZID=Europe/Paris:20180421T000000
DTSTAMP:20260421T220733
CREATED:20170821T122512Z
LAST-MODIFIED:20170821T122512Z
UID:8141-1524268800-1524268800@www.sv-deraadsheer.nl
SUMMARY:Externe competitie NBSB
DESCRIPTION:9e ronde (laatste): \nde Raadsheer 1 \n\n  Lees verder ...
URL:http://www.sv-deraadsheer.nl/item/externe-competitie-nbsb-2018-04-21/
CATEGORIES:Externe Schaak Competitie,Senioren
END:VEVENT
BEGIN:VEVENT
DTSTART;TZID=Europe/Paris:20180426T193000
DTEND;TZID=Europe/Paris:20180426T235500
DTSTAMP:20260421T220733
CREATED:20170909T212057Z
LAST-MODIFIED:20170909T212057Z
UID:8314-1524771000-1524786900@www.sv-deraadsheer.nl
SUMMARY:Interne competitie
DESCRIPTION:Seizoen 2017-2018\, ronde 25 \nZie programma: \n\nGroep 1\nGroep 2: 3e cyclus\, ronde 8\nGroep 3: 3e cyclus\, ronde 8\nGroep 4: 3e cyclus\, ronde 8\n   Lees verder ...
URL:http://www.sv-deraadsheer.nl/item/interne-competitie-2018-04-26/
LOCATION:Café Zaal Het Wapen van Zundert\, Katerstraat 12\, Zundert\, 4881 AR
CATEGORIES:Interne Schaak Competitie,Senioren
ORGANIZER;CN="John%20van%20Dijk":MAILTO:john@sv-deraadsheer.nl
END:VEVENT
BEGIN:VEVENT
DTSTART;TZID=Europe/Paris:20180503T193000
DTEND;TZID=Europe/Paris:20180503T235500
DTSTAMP:20260421T220733
CREATED:20170909T212139Z
LAST-MODIFIED:20170909T212139Z
UID:8313-1525375800-1525391700@www.sv-deraadsheer.nl
SUMMARY:Interne competitie
DESCRIPTION:Seizoen 2017-2018\, ronde 26 \nZie programma: \n\nGroep 1\nGroep 2: 3e cyclus\, ronde 9\nGroep 3: 3e cyclus\, ronde 9\nGroep 4: 3e cyclus\, ronde 9\n   Lees verder ...
URL:http://www.sv-deraadsheer.nl/item/interne-competitie-2018-05-03/
LOCATION:Café Zaal Het Wapen van Zundert\, Katerstraat 12\, Zundert\, 4881 AR
CATEGORIES:Interne Schaak Competitie,Senioren
ORGANIZER;CN="John%20van%20Dijk":MAILTO:john@sv-deraadsheer.nl
END:VEVENT
BEGIN:VEVENT
DTSTART;TZID=Europe/Paris:20180510T000000
DTEND;TZID=Europe/Paris:20180510T000000
DTSTAMP:20260421T220733
CREATED:20170827T172015Z
LAST-MODIFIED:20170827T172015Z
UID:8171-1525910400-1525910400@www.sv-deraadsheer.nl
SUMMARY:Hemelvaart
DESCRIPTION:Lees verder ...
URL:http://www.sv-deraadsheer.nl/item/hemelvaart-2018/
CATEGORIES:Senioren,Vakantie
END:VEVENT
BEGIN:VEVENT
DTSTART;TZID=Europe/Paris:20180517T193000
DTEND;TZID=Europe/Paris:20180517T235500
DTSTAMP:20260421T220733
CREATED:20170909T212316Z
LAST-MODIFIED:20170909T212316Z
UID:8311-1526585400-1526601300@www.sv-deraadsheer.nl
SUMMARY:Interne competitie
DESCRIPTION:Seizoen 2017-2018\, inhaalronde \nZie programma: \n\nGroep 1\nGroep 2: 3e cyclus\, inhaalronde\nGroep 3: 3e cyclus\, inhaalronde\nGroep 4: 3e cyclus\, inhaalronde\n   Lees verder ...
URL:http://www.sv-deraadsheer.nl/item/interne-competitie-2018-05-17/
LOCATION:Café Zaal Het Wapen van Zundert\, Katerstraat 12\, Zundert\, 4881 AR
CATEGORIES:Interne Schaak Competitie,Senioren
ORGANIZER;CN="John%20van%20Dijk":MAILTO:john@sv-deraadsheer.nl
END:VEVENT
BEGIN:VEVENT
DTSTART;TZID=Europe/Paris:20180524T193000
DTEND;TZID=Europe/Paris:20180524T230000
DTSTAMP:20260421T220733
CREATED:20170909T212531Z
LAST-MODIFIED:20170909T212531Z
UID:8318-1527190200-1527202800@www.sv-deraadsheer.nl
SUMMARY:Prijsuitreiking / Snelschaken / Bekerfinale
DESCRIPTION:Prijsuitreiking – snelschaken – bekerfinale \n  Lees verder ...
URL:http://www.sv-deraadsheer.nl/item/prijsuitreiking-2018/
LOCATION:Café Zaal Het Wapen van Zundert\, Katerstraat 12\, Zundert\, 4881 AR
CATEGORIES:Interne Schaak Competitie,Senioren
ORGANIZER;CN="John%20van%20Dijk":MAILTO:john@sv-deraadsheer.nl
END:VEVENT
BEGIN:VEVENT
DTSTART;TZID=Europe/Paris:20180823T193000
DTEND;TZID=Europe/Paris:20180823T230000
DTSTAMP:20260421T220733
CREATED:20180806T103343Z
LAST-MODIFIED:20180806T103343Z
UID:13080-1535052600-1535065200@www.sv-deraadsheer.nl
SUMMARY:Jaarvergadering
DESCRIPTION:Jaarvergadering \n  Lees verder ...
URL:http://www.sv-deraadsheer.nl/item/jaarvergadering-2018/
LOCATION:Café Zaal Het Wapen van Zundert\, Katerstraat 12\, Zundert\, 4881 AR
CATEGORIES:Algemeen,Senioren
END:VEVENT
BEGIN:VEVENT
DTSTART;TZID=Europe/Paris:20180906T193000
DTEND;TZID=Europe/Paris:20180906T235500
DTSTAMP:20260421T220733
CREATED:20180822T145451Z
LAST-MODIFIED:20180905T172631Z
UID:13087-1536262200-1536278100@www.sv-deraadsheer.nl
SUMMARY:Interne competitie
DESCRIPTION:Seizoen 2018-2019\, ronde 1 \n  Lees verder ...
URL:http://www.sv-deraadsheer.nl/item/interne-competitie-2018-09-06/
LOCATION:Café Zaal Het Wapen van Zundert\, Katerstraat 12\, Zundert\, 4881 AR
CATEGORIES:Interne Schaak Competitie,Senioren
ORGANIZER;CN="Niek%20Oostvogels":MAILTO:niek@sv-deraadsheer.nl
END:VEVENT
BEGIN:VEVENT
DTSTART;TZID=Europe/Paris:20180909T100000
DTEND;TZID=Europe/Paris:20180909T120000
DTSTAMP:20260421T220733
CREATED:20180429T183239Z
LAST-MODIFIED:20180429T183239Z
UID:9241-1536487200-1536494400@www.sv-deraadsheer.nl
SUMMARY:Open Dag
DESCRIPTION:Lees verder ...
URL:http://www.sv-deraadsheer.nl/item/open-dag-2018/
LOCATION:Café Zaal Het Wapen van Zundert\, Katerstraat 12\, Zundert\, 4881 AR
CATEGORIES:Algemeen,Jeugd,Senioren
ORGANIZER;CN="Inge%20Oostvogels":MAILTO:inge@sv-deraadsheer.nl
END:VEVENT
BEGIN:VEVENT
DTSTART;TZID=Europe/Paris:20180913T193000
DTEND;TZID=Europe/Paris:20180913T235500
DTSTAMP:20260421T220733
CREATED:20180827T090352Z
LAST-MODIFIED:20180905T172552Z
UID:13117-1536867000-1536882900@www.sv-deraadsheer.nl
SUMMARY:Interne competitie
DESCRIPTION:Seizoen 2018-2019\, ronde 2 \n  Lees verder ...
URL:http://www.sv-deraadsheer.nl/item/interne-competitie-2018-09-13/
LOCATION:Café Zaal Het Wapen van Zundert\, Katerstraat 12\, Zundert\, 4881 AR
CATEGORIES:Interne Schaak Competitie,Senioren
ORGANIZER;CN="Niek%20Oostvogels":MAILTO:niek@sv-deraadsheer.nl
END:VEVENT
END:VCALENDAR