BEGIN:VCALENDAR
VERSION:2.0
PRODID:-//SV de Raadsheer - ECPv6.0.8//NONSGML v1.0//EN
CALSCALE:GREGORIAN
METHOD:PUBLISH
X-ORIGINAL-URL:http://www.sv-deraadsheer.nl
X-WR-CALDESC:Evenementen voor SV de Raadsheer
REFRESH-INTERVAL;VALUE=DURATION:PT1H
X-Robots-Tag:noindex
X-PUBLISHED-TTL:PT1H
BEGIN:VTIMEZONE
TZID:Europe/Paris
BEGIN:DAYLIGHT
TZOFFSETFROM:+0100
TZOFFSETTO:+0200
TZNAME:CEST
DTSTART:20240331T010000
END:DAYLIGHT
BEGIN:STANDARD
TZOFFSETFROM:+0200
TZOFFSETTO:+0100
TZNAME:CET
DTSTART:20241027T010000
END:STANDARD
END:VTIMEZONE
BEGIN:VEVENT
DTSTART;TZID=Europe/Paris:20240404T193000
DTEND;TZID=Europe/Paris:20240404T230000
DTSTAMP:20260425T193812
CREATED:20230904T124515Z
LAST-MODIFIED:20230904T124515Z
UID:18104-1712259000-1712271600@www.sv-deraadsheer.nl
SUMMARY:Rapidschaken
DESCRIPTION:ronde 3 \n  Lees verder ...
URL:http://www.sv-deraadsheer.nl/item/rapidschaken-2024-04-04/
LOCATION:Café Zaal Het Wapen van Zundert\, Katerstraat 12\, Zundert\, 4881 AR
CATEGORIES:Schaak Toernooien
ORGANIZER;CN="Niek%20Oostvogels":MAILTO:niek@sv-deraadsheer.nl
END:VEVENT
BEGIN:VEVENT
DTSTART;TZID=Europe/Paris:20240407T094500
DTEND;TZID=Europe/Paris:20240407T123000
DTSTAMP:20260425T193812
CREATED:20231027T092109Z
LAST-MODIFIED:20231027T092109Z
UID:18461-1712483100-1712493000@www.sv-deraadsheer.nl
SUMMARY:Schaakles
DESCRIPTION:Schaakles I: 09:45-10:45 \nSchaakles II: 11:30-12:30 \n  Lees verder ...
URL:http://www.sv-deraadsheer.nl/item/schaakles-2024-04-07/
LOCATION:Café Zaal Het Wapen van Zundert\, Katerstraat 12\, Zundert\, 4881 AR
CATEGORIES:Jeugd,Schaakles
ORGANIZER;CN="Inge%20Oostvogels":MAILTO:inge@sv-deraadsheer.nl
END:VEVENT
BEGIN:VEVENT
DTSTART;TZID=Europe/Paris:20240407T104500
DTEND;TZID=Europe/Paris:20240407T113000
DTSTAMP:20260425T193812
CREATED:20231027T110833Z
LAST-MODIFIED:20231027T110833Z
UID:18482-1712486700-1712489400@www.sv-deraadsheer.nl
SUMMARY:Jeugdcompetitie
DESCRIPTION:Voorjaarscompetitie ronde 7 \n  Lees verder ...
URL:http://www.sv-deraadsheer.nl/item/jeugdcompetitie-2024-04-07/
LOCATION:Café Zaal Het Wapen van Zundert\, Katerstraat 12\, Zundert\, 4881 AR
CATEGORIES:Interne Jeugd Schaak Competitie,Jeugd
ORGANIZER;CN="Inge%20Oostvogels":MAILTO:inge@sv-deraadsheer.nl
END:VEVENT
BEGIN:VEVENT
DTSTART;TZID=Europe/Paris:20240411T193000
DTEND;TZID=Europe/Paris:20240411T235500
DTSTAMP:20260425T193812
CREATED:20230904T122136Z
LAST-MODIFIED:20230904T122136Z
UID:18077-1712863800-1712879700@www.sv-deraadsheer.nl
SUMMARY:Interne competitie
DESCRIPTION:2e cyclus\, ronde 9 \n  Lees verder ...
URL:http://www.sv-deraadsheer.nl/item/interne-competitie-2024-04-11/
LOCATION:Café Zaal Het Wapen van Zundert\, Katerstraat 12\, Zundert\, 4881 AR
CATEGORIES:Interne Schaak Competitie,Senioren
ORGANIZER;CN="Niek%20Oostvogels":MAILTO:niek@sv-deraadsheer.nl
END:VEVENT
BEGIN:VEVENT
DTSTART;TZID=Europe/Paris:20240414T094500
DTEND;TZID=Europe/Paris:20240414T123000
DTSTAMP:20260425T193812
CREATED:20231027T092111Z
LAST-MODIFIED:20231027T092111Z
UID:18462-1713087900-1713097800@www.sv-deraadsheer.nl
SUMMARY:Schaakles
DESCRIPTION:Schaakles I: 09:45-10:45 \nSchaakles II: 11:30-12:30 \n  Lees verder ...
URL:http://www.sv-deraadsheer.nl/item/schaakles-2024-04-14/
LOCATION:Café Zaal Het Wapen van Zundert\, Katerstraat 12\, Zundert\, 4881 AR
CATEGORIES:Jeugd,Schaakles
ORGANIZER;CN="Inge%20Oostvogels":MAILTO:inge@sv-deraadsheer.nl
END:VEVENT
BEGIN:VEVENT
DTSTART;TZID=Europe/Paris:20240414T104500
DTEND;TZID=Europe/Paris:20240414T113000
DTSTAMP:20260425T193812
CREATED:20231027T110835Z
LAST-MODIFIED:20231027T110835Z
UID:18483-1713091500-1713094200@www.sv-deraadsheer.nl
SUMMARY:Jeugdcompetitie
DESCRIPTION:Voorjaarscompetitie ronde 8 \n  Lees verder ...
URL:http://www.sv-deraadsheer.nl/item/jeugdcompetitie-2024-04-14/
LOCATION:Café Zaal Het Wapen van Zundert\, Katerstraat 12\, Zundert\, 4881 AR
CATEGORIES:Interne Jeugd Schaak Competitie,Jeugd
ORGANIZER;CN="Inge%20Oostvogels":MAILTO:inge@sv-deraadsheer.nl
END:VEVENT
BEGIN:VEVENT
DTSTART;TZID=Europe/Paris:20240418T193000
DTEND;TZID=Europe/Paris:20240418T235500
DTSTAMP:20260425T193812
CREATED:20230901T101333Z
LAST-MODIFIED:20230901T101333Z
UID:18039-1713468600-1713484500@www.sv-deraadsheer.nl
SUMMARY:Bekercompetitie
DESCRIPTION:ronde 7 \n  Lees verder ...
URL:http://www.sv-deraadsheer.nl/item/bekercompetitie-2024-04-18/
LOCATION:Café Zaal Het Wapen van Zundert\, Katerstraat 12\, Zundert\, 4881 AR
CATEGORIES:Bekertoernooi,Senioren
ORGANIZER;CN="Niek%20Oostvogels":MAILTO:niek@sv-deraadsheer.nl
END:VEVENT
BEGIN:VEVENT
DTSTART;TZID=Europe/Paris:20240420T130000
DTEND;TZID=Europe/Paris:20240420T180000
DTSTAMP:20260425T193812
CREATED:20230602T085456Z
LAST-MODIFIED:20230904T110907Z
UID:17866-1713618000-1713636000@www.sv-deraadsheer.nl
SUMMARY:Externe competitie
DESCRIPTION:Ronde 9\nDe Raadsheer 1 – DSC Dongen 1\nDe Raadsheer 2 – Vrij\nDe Raadsheer 3 – Vrij \n  Lees verder ...
URL:http://www.sv-deraadsheer.nl/item/externe-competitie-2024-04-20/
CATEGORIES:Externe Schaak Competitie,Senioren
END:VEVENT
BEGIN:VEVENT
DTSTART;TZID=Europe/Paris:20240421T094500
DTEND;TZID=Europe/Paris:20240421T123000
DTSTAMP:20260425T193812
CREATED:20231027T092113Z
LAST-MODIFIED:20231027T092113Z
UID:18463-1713692700-1713702600@www.sv-deraadsheer.nl
SUMMARY:Schaakles
DESCRIPTION:Schaakles I: 09:45-10:45 \nSchaakles II: 11:30-12:30 \n  Lees verder ...
URL:http://www.sv-deraadsheer.nl/item/schaakles-2024-04-21/
LOCATION:Café Zaal Het Wapen van Zundert\, Katerstraat 12\, Zundert\, 4881 AR
CATEGORIES:Jeugd,Schaakles
ORGANIZER;CN="Inge%20Oostvogels":MAILTO:inge@sv-deraadsheer.nl
END:VEVENT
BEGIN:VEVENT
DTSTART;TZID=Europe/Paris:20240421T104500
DTEND;TZID=Europe/Paris:20240421T113000
DTSTAMP:20260425T193812
CREATED:20231027T110837Z
LAST-MODIFIED:20231027T110837Z
UID:18484-1713696300-1713699000@www.sv-deraadsheer.nl
SUMMARY:Jeugdcompetitie
DESCRIPTION:Voorjaarscompetitie ronde 9 \n  Lees verder ...
URL:http://www.sv-deraadsheer.nl/item/jeugdcompetitie-2024-04-21/
LOCATION:Café Zaal Het Wapen van Zundert\, Katerstraat 12\, Zundert\, 4881 AR
CATEGORIES:Interne Jeugd Schaak Competitie,Jeugd
ORGANIZER;CN="Inge%20Oostvogels":MAILTO:inge@sv-deraadsheer.nl
END:VEVENT
BEGIN:VEVENT
DTSTART;TZID=Europe/Paris:20240425T193000
DTEND;TZID=Europe/Paris:20240425T235500
DTSTAMP:20260425T193812
CREATED:20230904T122203Z
LAST-MODIFIED:20230904T122203Z
UID:18078-1714073400-1714089300@www.sv-deraadsheer.nl
SUMMARY:Interne competitie
DESCRIPTION:2e cyclus\, ronde 10 \n  Lees verder ...
URL:http://www.sv-deraadsheer.nl/item/interne-competitie-2024-04-25/
LOCATION:Café Zaal Het Wapen van Zundert\, Katerstraat 12\, Zundert\, 4881 AR
CATEGORIES:Interne Schaak Competitie,Senioren
ORGANIZER;CN="Niek%20Oostvogels":MAILTO:niek@sv-deraadsheer.nl
END:VEVENT
BEGIN:VEVENT
DTSTART;TZID=Europe/Paris:20240428T094500
DTEND;TZID=Europe/Paris:20240428T123000
DTSTAMP:20260425T193812
CREATED:20231027T092115Z
LAST-MODIFIED:20231027T092115Z
UID:18464-1714297500-1714307400@www.sv-deraadsheer.nl
SUMMARY:Schaakles
DESCRIPTION:Schaakles I: 09:45-10:45 \nSchaakles II: 11:30-12:30 \n  Lees verder ...
URL:http://www.sv-deraadsheer.nl/item/schaakles-2024-04-28/
LOCATION:Café Zaal Het Wapen van Zundert\, Katerstraat 12\, Zundert\, 4881 AR
CATEGORIES:Jeugd,Schaakles
ORGANIZER;CN="Inge%20Oostvogels":MAILTO:inge@sv-deraadsheer.nl
END:VEVENT
BEGIN:VEVENT
DTSTART;TZID=Europe/Paris:20240428T104500
DTEND;TZID=Europe/Paris:20240428T113000
DTSTAMP:20260425T193812
CREATED:20231027T110839Z
LAST-MODIFIED:20231027T110839Z
UID:18485-1714301100-1714303800@www.sv-deraadsheer.nl
SUMMARY:Jeugdcompetitie
DESCRIPTION:Voorjaarscompetitie ronde 10 \n  Lees verder ...
URL:http://www.sv-deraadsheer.nl/item/jeugdcompetitie-2024-04-28/
LOCATION:Café Zaal Het Wapen van Zundert\, Katerstraat 12\, Zundert\, 4881 AR
CATEGORIES:Interne Jeugd Schaak Competitie,Jeugd
ORGANIZER;CN="Inge%20Oostvogels":MAILTO:inge@sv-deraadsheer.nl
END:VEVENT
END:VCALENDAR