BEGIN:VCALENDAR
VERSION:2.0
PRODID:-//SV de Raadsheer - ECPv6.0.8//NONSGML v1.0//EN
CALSCALE:GREGORIAN
METHOD:PUBLISH
X-ORIGINAL-URL:http://www.sv-deraadsheer.nl
X-WR-CALDESC:Evenementen voor SV de Raadsheer
REFRESH-INTERVAL;VALUE=DURATION:PT1H
X-Robots-Tag:noindex
X-PUBLISHED-TTL:PT1H
BEGIN:VTIMEZONE
TZID:Europe/Paris
BEGIN:DAYLIGHT
TZOFFSETFROM:+0100
TZOFFSETTO:+0200
TZNAME:CEST
DTSTART:20240331T010000
END:DAYLIGHT
BEGIN:STANDARD
TZOFFSETFROM:+0200
TZOFFSETTO:+0100
TZNAME:CET
DTSTART:20241027T010000
END:STANDARD
END:VTIMEZONE
BEGIN:VEVENT
DTSTART;TZID=Europe/Paris:20240602T094500
DTEND;TZID=Europe/Paris:20240602T123000
DTSTAMP:20260425T143409
CREATED:20240102T132858Z
LAST-MODIFIED:20240102T132858Z
UID:18682-1717321500-1717331400@www.sv-deraadsheer.nl
SUMMARY:Schaakles
DESCRIPTION:Schaakles I: 09:45-10:45 \nSchaakles II: 11:30-12:30 \n  Lees verder ...
URL:http://www.sv-deraadsheer.nl/item/schaakles-2024-06-02/
LOCATION:Café Zaal Het Wapen van Zundert\, Katerstraat 12\, Zundert\, 4881 AR
CATEGORIES:Jeugd,Schaakles
ORGANIZER;CN="Inge%20Oostvogels":MAILTO:inge@sv-deraadsheer.nl
END:VEVENT
BEGIN:VEVENT
DTSTART;TZID=Europe/Paris:20240602T104500
DTEND;TZID=Europe/Paris:20240602T113000
DTSTAMP:20260425T143409
CREATED:20240102T133456Z
LAST-MODIFIED:20240102T133456Z
UID:18692-1717325100-1717327800@www.sv-deraadsheer.nl
SUMMARY:Jeugdcompetitie
DESCRIPTION:Voorjaarscompetitie ronde 14 \n  Lees verder ...
URL:http://www.sv-deraadsheer.nl/item/jeugdcompetitie-2024-06-02/
LOCATION:Café Zaal Het Wapen van Zundert\, Katerstraat 12\, Zundert\, 4881 AR
CATEGORIES:Interne Jeugd Schaak Competitie,Jeugd
ORGANIZER;CN="Inge%20Oostvogels":MAILTO:inge@sv-deraadsheer.nl
END:VEVENT
BEGIN:VEVENT
DTSTART;VALUE=DATE:20240609
DTEND;VALUE=DATE:20240610
DTSTAMP:20260425T143409
CREATED:20240102T133827Z
LAST-MODIFIED:20240102T133943Z
UID:18700-1717891200-1717977599@www.sv-deraadsheer.nl
SUMMARY:Aardbeienfeesten
DESCRIPTION:GEEN Jeugdcompetitie en GEEN Schaakles \n  Lees verder ...
URL:http://www.sv-deraadsheer.nl/item/aardbeienfeesten-2024-06-09/
CATEGORIES:Algemeen
END:VEVENT
BEGIN:VEVENT
DTSTART;TZID=Europe/Paris:20240616T094500
DTEND;TZID=Europe/Paris:20240616T123000
DTSTAMP:20260425T143409
CREATED:20240102T132900Z
LAST-MODIFIED:20240102T132900Z
UID:18683-1718531100-1718541000@www.sv-deraadsheer.nl
SUMMARY:Schaakles
DESCRIPTION:Schaakles I: 09:45-10:45 \nSchaakles II: 11:30-12:30 \n  Lees verder ...
URL:http://www.sv-deraadsheer.nl/item/schaakles-2024-06-16/
LOCATION:Café Zaal Het Wapen van Zundert\, Katerstraat 12\, Zundert\, 4881 AR
CATEGORIES:Jeugd,Schaakles
ORGANIZER;CN="Inge%20Oostvogels":MAILTO:inge@sv-deraadsheer.nl
END:VEVENT
BEGIN:VEVENT
DTSTART;TZID=Europe/Paris:20240616T104500
DTEND;TZID=Europe/Paris:20240616T113000
DTSTAMP:20260425T143409
CREATED:20240102T133458Z
LAST-MODIFIED:20240102T133458Z
UID:18693-1718534700-1718537400@www.sv-deraadsheer.nl
SUMMARY:Jeugdcompetitie
DESCRIPTION:Voorjaarscompetitie ronde 15 \n  Lees verder ...
URL:http://www.sv-deraadsheer.nl/item/jeugdcompetitie-2024-06-16/
LOCATION:Café Zaal Het Wapen van Zundert\, Katerstraat 12\, Zundert\, 4881 AR
CATEGORIES:Interne Jeugd Schaak Competitie,Jeugd
ORGANIZER;CN="Inge%20Oostvogels":MAILTO:inge@sv-deraadsheer.nl
END:VEVENT
BEGIN:VEVENT
DTSTART;TZID=Europe/Paris:20240623T094500
DTEND;TZID=Europe/Paris:20240623T123000
DTSTAMP:20260425T143409
CREATED:20240102T132902Z
LAST-MODIFIED:20240102T132902Z
UID:18684-1719135900-1719145800@www.sv-deraadsheer.nl
SUMMARY:Schaakles
DESCRIPTION:Schaakles I: 09:45-10:45 \nSchaakles II: 11:30-12:30 \n  Lees verder ...
URL:http://www.sv-deraadsheer.nl/item/schaakles-2024-06-23/
LOCATION:Café Zaal Het Wapen van Zundert\, Katerstraat 12\, Zundert\, 4881 AR
CATEGORIES:Jeugd,Schaakles
ORGANIZER;CN="Inge%20Oostvogels":MAILTO:inge@sv-deraadsheer.nl
END:VEVENT
BEGIN:VEVENT
DTSTART;TZID=Europe/Paris:20240623T104500
DTEND;TZID=Europe/Paris:20240623T113000
DTSTAMP:20260425T143409
CREATED:20240102T133501Z
LAST-MODIFIED:20240102T133501Z
UID:18694-1719139500-1719142200@www.sv-deraadsheer.nl
SUMMARY:Jeugdcompetitie
DESCRIPTION:Voorjaarscompetitie ronde 16 \n  Lees verder ...
URL:http://www.sv-deraadsheer.nl/item/jeugdcompetitie-2024-06-23/
LOCATION:Café Zaal Het Wapen van Zundert\, Katerstraat 12\, Zundert\, 4881 AR
CATEGORIES:Interne Jeugd Schaak Competitie,Jeugd
ORGANIZER;CN="Inge%20Oostvogels":MAILTO:inge@sv-deraadsheer.nl
END:VEVENT
BEGIN:VEVENT
DTSTART;TZID=Europe/Paris:20240630T100000
DTEND;TZID=Europe/Paris:20240630T123000
DTSTAMP:20260425T143409
CREATED:20240102T134259Z
LAST-MODIFIED:20240102T134259Z
UID:18702-1719741600-1719750600@www.sv-deraadsheer.nl
SUMMARY:Afsluiting Jeugdseizoen
DESCRIPTION:Afsluiting Jeugdseizoen (incl. Diploma &\nprijsuitreiking voorjaar) \n  Lees verder ...
URL:http://www.sv-deraadsheer.nl/item/afsluiting-jeugdseizoen-2024/
LOCATION:Café Zaal Het Wapen van Zundert\, Katerstraat 12\, Zundert\, 4881 AR
CATEGORIES:Interne Jeugd Schaak Competitie,Jeugd
ORGANIZER;CN="Inge%20Oostvogels":MAILTO:inge@sv-deraadsheer.nl
END:VEVENT
END:VCALENDAR