BEGIN:VCALENDAR
VERSION:2.0
PRODID:-//SV de Raadsheer - ECPv6.0.8//NONSGML v1.0//EN
CALSCALE:GREGORIAN
METHOD:PUBLISH
X-WR-CALNAME:SV de Raadsheer
X-ORIGINAL-URL:http://www.sv-deraadsheer.nl
X-WR-CALDESC:Evenementen voor SV de Raadsheer
REFRESH-INTERVAL;VALUE=DURATION:PT1H
X-Robots-Tag:noindex
X-PUBLISHED-TTL:PT1H
BEGIN:VTIMEZONE
TZID:Europe/Paris
BEGIN:DAYLIGHT
TZOFFSETFROM:+0100
TZOFFSETTO:+0200
TZNAME:CEST
DTSTART:20240331T010000
END:DAYLIGHT
BEGIN:STANDARD
TZOFFSETFROM:+0200
TZOFFSETTO:+0100
TZNAME:CET
DTSTART:20241027T010000
END:STANDARD
END:VTIMEZONE
BEGIN:VEVENT
DTSTART;TZID=Europe/Paris:20241201T094500
DTEND;TZID=Europe/Paris:20241201T123000
DTSTAMP:20260421T215818
CREATED:20241025T131135Z
LAST-MODIFIED:20241025T131135Z
UID:19459-1733046300-1733056200@www.sv-deraadsheer.nl
SUMMARY:Schaakles
DESCRIPTION:Schaakles I: 09:45-10:45 \nSchaakles II: 11:30-12:30 \n  Lees verder ...
URL:http://www.sv-deraadsheer.nl/item/schaakles-2024-12-01/
LOCATION:Café Zaal Het Wapen van Zundert\, Katerstraat 12\, Zundert\, 4881 AR
CATEGORIES:Jeugd,Schaakles
ORGANIZER;CN="Inge%20Oostvogels":MAILTO:inge@sv-deraadsheer.nl
END:VEVENT
BEGIN:VEVENT
DTSTART;TZID=Europe/Paris:20241201T104500
DTEND;TZID=Europe/Paris:20241201T113000
DTSTAMP:20260421T215818
CREATED:20241025T125641Z
LAST-MODIFIED:20241025T125641Z
UID:19434-1733049900-1733052600@www.sv-deraadsheer.nl
SUMMARY:Jeugdcompetitie
DESCRIPTION:Najaarscompetitie ronde 10 \n  Lees verder ...
URL:http://www.sv-deraadsheer.nl/item/jeugdcompetitie-2024-12-01/
LOCATION:Café Zaal Het Wapen van Zundert\, Katerstraat 12\, Zundert\, 4881 AR
CATEGORIES:Interne Jeugd Schaak Competitie,Jeugd
ORGANIZER;CN="Inge%20Oostvogels":MAILTO:inge@sv-deraadsheer.nl
END:VEVENT
BEGIN:VEVENT
DTSTART;VALUE=DATE:20241205
DTEND;VALUE=DATE:20241206
DTSTAMP:20260421T215818
CREATED:20240830T120811Z
LAST-MODIFIED:20240830T121118Z
UID:19200-1733356800-1733443199@www.sv-deraadsheer.nl
SUMMARY:Sinterklaas
DESCRIPTION:Geen schaken \n  Lees verder ...
URL:http://www.sv-deraadsheer.nl/item/sinterklaas-2024/
CATEGORIES:Senioren,Vakantie
END:VEVENT
BEGIN:VEVENT
DTSTART;TZID=Europe/Paris:20241208T094500
DTEND;TZID=Europe/Paris:20241208T123000
DTSTAMP:20260421T215818
CREATED:20241025T131138Z
LAST-MODIFIED:20241025T131138Z
UID:19460-1733651100-1733661000@www.sv-deraadsheer.nl
SUMMARY:Schaakles
DESCRIPTION:Schaakles I: 09:45-10:45 \nSchaakles II: 11:30-12:30 \n  Lees verder ...
URL:http://www.sv-deraadsheer.nl/item/schaakles-2024-12-08/
LOCATION:Café Zaal Het Wapen van Zundert\, Katerstraat 12\, Zundert\, 4881 AR
CATEGORIES:Jeugd,Schaakles
ORGANIZER;CN="Inge%20Oostvogels":MAILTO:inge@sv-deraadsheer.nl
END:VEVENT
BEGIN:VEVENT
DTSTART;TZID=Europe/Paris:20241208T104500
DTEND;TZID=Europe/Paris:20241208T113000
DTSTAMP:20260421T215818
CREATED:20241025T125643Z
LAST-MODIFIED:20241025T125643Z
UID:19435-1733654700-1733657400@www.sv-deraadsheer.nl
SUMMARY:Jeugdcompetitie
DESCRIPTION:Najaarscompetitie ronde 11 \n  Lees verder ...
URL:http://www.sv-deraadsheer.nl/item/jeugdcompetitie-2024-12-08/
LOCATION:Café Zaal Het Wapen van Zundert\, Katerstraat 12\, Zundert\, 4881 AR
CATEGORIES:Interne Jeugd Schaak Competitie,Jeugd
ORGANIZER;CN="Inge%20Oostvogels":MAILTO:inge@sv-deraadsheer.nl
END:VEVENT
BEGIN:VEVENT
DTSTART;TZID=Europe/Paris:20241212T194500
DTEND;TZID=Europe/Paris:20241212T235500
DTSTAMP:20260421T215818
CREATED:20240830T112355Z
LAST-MODIFIED:20240830T112355Z
UID:19174-1734032700-1734047700@www.sv-deraadsheer.nl
SUMMARY:Raadsheer Open
DESCRIPTION:ronde 3 \n  Lees verder ...
URL:http://www.sv-deraadsheer.nl/item/raadsheer-open-2024-12-12/
LOCATION:Café Zaal Het Wapen van Zundert\, Katerstraat 12\, Zundert\, 4881 AR
CATEGORIES:Bekertoernooi,Senioren
ORGANIZER;CN="Niek%20Oostvogels":MAILTO:niek@sv-deraadsheer.nl
END:VEVENT
BEGIN:VEVENT
DTSTART;TZID=Europe/Paris:20241214T120000
DTEND;TZID=Europe/Paris:20241214T180000
DTSTAMP:20260421T215818
CREATED:20240517T090133Z
LAST-MODIFIED:20240830T100201Z
UID:18993-1734177600-1734199200@www.sv-deraadsheer.nl
SUMMARY:Externe competitie
DESCRIPTION:Ronde 5\nDe Raadsheer 1 – Vrij\nDe Zwarte Dame 2 – De Raadsheer 2\nDe Raadsheer 3 – nnb \n  Lees verder ...
URL:http://www.sv-deraadsheer.nl/item/externe-competitie-2024-12-14/
CATEGORIES:Externe Schaak Competitie,Senioren
END:VEVENT
BEGIN:VEVENT
DTSTART;TZID=Europe/Paris:20241215T094500
DTEND;TZID=Europe/Paris:20241215T123000
DTSTAMP:20260421T215818
CREATED:20241025T131140Z
LAST-MODIFIED:20241025T131140Z
UID:19461-1734255900-1734265800@www.sv-deraadsheer.nl
SUMMARY:Schaakles
DESCRIPTION:Schaakles I: 09:45-10:45 \nSchaakles II: 11:30-12:30 \n  Lees verder ...
URL:http://www.sv-deraadsheer.nl/item/schaakles-2024-12-15/
LOCATION:Café Zaal Het Wapen van Zundert\, Katerstraat 12\, Zundert\, 4881 AR
CATEGORIES:Jeugd,Schaakles
ORGANIZER;CN="Inge%20Oostvogels":MAILTO:inge@sv-deraadsheer.nl
END:VEVENT
BEGIN:VEVENT
DTSTART;TZID=Europe/Paris:20241215T104500
DTEND;TZID=Europe/Paris:20241215T113000
DTSTAMP:20260421T215819
CREATED:20241025T125645Z
LAST-MODIFIED:20241025T130147Z
UID:19436-1734259500-1734262200@www.sv-deraadsheer.nl
SUMMARY:Jeugdcompetitie
DESCRIPTION:Najaarscompetitie ronde 12 \n  Lees verder ...
URL:http://www.sv-deraadsheer.nl/item/jeugdcompetitie-2024-12-15/
LOCATION:Café Zaal Het Wapen van Zundert\, Katerstraat 12\, Zundert\, 4881 AR
CATEGORIES:Interne Jeugd Schaak Competitie,Jeugd
ORGANIZER;CN="Inge%20Oostvogels":MAILTO:inge@sv-deraadsheer.nl
END:VEVENT
BEGIN:VEVENT
DTSTART;TZID=Europe/Paris:20241219T194500
DTEND;TZID=Europe/Paris:20241219T230000
DTSTAMP:20260421T215819
CREATED:20240830T121030Z
LAST-MODIFIED:20240830T121041Z
UID:19202-1734637500-1734649200@www.sv-deraadsheer.nl
SUMMARY:Kersttoernooi
DESCRIPTION:Lees verder ...
URL:http://www.sv-deraadsheer.nl/item/kersttoernooi-2024/
LOCATION:Café Zaal Het Wapen van Zundert\, Katerstraat 12\, Zundert\, 4881 AR
CATEGORIES:Schaak Toernooien,Senioren
ORGANIZER;CN="Niek%20Oostvogels":MAILTO:niek@sv-deraadsheer.nl
END:VEVENT
BEGIN:VEVENT
DTSTART;TZID=Europe/Paris:20241222T094500
DTEND;TZID=Europe/Paris:20241222T123000
DTSTAMP:20260421T215819
CREATED:20241025T131141Z
LAST-MODIFIED:20241025T131350Z
UID:19462-1734860700-1734870600@www.sv-deraadsheer.nl
SUMMARY:Schaakles
DESCRIPTION:Schaakles I: 09:45-10:45 \nSchaakles II: 11:30-12:30 \n  Lees verder ...
URL:http://www.sv-deraadsheer.nl/item/schaakles-2024-12-22/
LOCATION:Café Zaal Het Wapen van Zundert\, Katerstraat 12\, Zundert\, 4881 AR
CATEGORIES:Jeugd,Schaakles
ORGANIZER;CN="Inge%20Oostvogels":MAILTO:inge@sv-deraadsheer.nl
END:VEVENT
BEGIN:VEVENT
DTSTART;TZID=Europe/Paris:20241222T104500
DTEND;TZID=Europe/Paris:20241222T113000
DTSTAMP:20260421T215819
CREATED:20241025T125648Z
LAST-MODIFIED:20241025T125648Z
UID:19437-1734864300-1734867000@www.sv-deraadsheer.nl
SUMMARY:Jeugdcompetitie
DESCRIPTION:Najaarscompetitie ronde 13 \n  Lees verder ...
URL:http://www.sv-deraadsheer.nl/item/jeugdcompetitie-2024-12-22/
LOCATION:Café Zaal Het Wapen van Zundert\, Katerstraat 12\, Zundert\, 4881 AR
CATEGORIES:Interne Jeugd Schaak Competitie,Jeugd
ORGANIZER;CN="Inge%20Oostvogels":MAILTO:inge@sv-deraadsheer.nl
END:VEVENT
BEGIN:VEVENT
DTSTART;VALUE=DATE:20241226
DTEND;VALUE=DATE:20241227
DTSTAMP:20260421T215819
CREATED:20240830T120657Z
LAST-MODIFIED:20240830T120657Z
UID:19198-1735171200-1735257599@www.sv-deraadsheer.nl
SUMMARY:Tweede Kerstdag
DESCRIPTION:Geen schaken \n  Lees verder ...
URL:http://www.sv-deraadsheer.nl/item/tweede-kerstdag-2024/
CATEGORIES:Senioren,Vakantie
END:VEVENT
BEGIN:VEVENT
DTSTART;VALUE=DATE:20241229
DTEND;VALUE=DATE:20241230
DTSTAMP:20260421T215819
CREATED:20241025T132004Z
LAST-MODIFIED:20241025T132014Z
UID:19481-1735430400-1735516799@www.sv-deraadsheer.nl
SUMMARY:Kerstvakantie
DESCRIPTION:GEEN Schaken \n  Lees verder ...
URL:http://www.sv-deraadsheer.nl/item/kerstvakantie-2024/
CATEGORIES:Jeugd,Vakantie
END:VEVENT
END:VCALENDAR