BEGIN:VCALENDAR
VERSION:2.0
PRODID:-//SV de Raadsheer - ECPv6.0.8//NONSGML v1.0//EN
CALSCALE:GREGORIAN
METHOD:PUBLISH
X-ORIGINAL-URL:http://www.sv-deraadsheer.nl
X-WR-CALDESC:Evenementen voor SV de Raadsheer
REFRESH-INTERVAL;VALUE=DURATION:PT1H
X-Robots-Tag:noindex
X-PUBLISHED-TTL:PT1H
BEGIN:VTIMEZONE
TZID:Europe/Paris
BEGIN:DAYLIGHT
TZOFFSETFROM:+0100
TZOFFSETTO:+0200
TZNAME:CEST
DTSTART:20250330T010000
END:DAYLIGHT
BEGIN:STANDARD
TZOFFSETFROM:+0200
TZOFFSETTO:+0100
TZNAME:CET
DTSTART:20251026T010000
END:STANDARD
END:VTIMEZONE
BEGIN:VEVENT
DTSTART;TZID=Europe/Paris:20250102T194500
DTEND;TZID=Europe/Paris:20250102T230000
DTSTAMP:20260421T182741
CREATED:20240830T121649Z
LAST-MODIFIED:20241220T100359Z
UID:19204-1735847100-1735858800@www.sv-deraadsheer.nl
SUMMARY:Rapidschaken
DESCRIPTION:ronde 2 \n  Lees verder ...
URL:http://www.sv-deraadsheer.nl/item/rapidschaken-2025-01-02/
CATEGORIES:Schaak Toernooien
ORGANIZER;CN="Niek%20Oostvogels":MAILTO:niek@sv-deraadsheer.nl
END:VEVENT
BEGIN:VEVENT
DTSTART;TZID=Europe/Paris:20250105T094500
DTEND;TZID=Europe/Paris:20250105T123000
DTSTAMP:20260421T182741
CREATED:20241025T131143Z
LAST-MODIFIED:20241025T131143Z
UID:19463-1736070300-1736080200@www.sv-deraadsheer.nl
SUMMARY:Schaakles
DESCRIPTION:Schaakles I: 09:45-10:45 \nSchaakles II: 11:30-12:30 \n  Lees verder ...
URL:http://www.sv-deraadsheer.nl/item/schaakles-2025-01-05/
CATEGORIES:Jeugd,Schaakles
ORGANIZER;CN="Inge%20Oostvogels":MAILTO:inge@sv-deraadsheer.nl
END:VEVENT
BEGIN:VEVENT
DTSTART;TZID=Europe/Paris:20250105T104500
DTEND;TZID=Europe/Paris:20250105T113000
DTSTAMP:20260421T182741
CREATED:20241025T125650Z
LAST-MODIFIED:20241025T125650Z
UID:19438-1736073900-1736076600@www.sv-deraadsheer.nl
SUMMARY:Jeugdcompetitie
DESCRIPTION:Najaarscompetitie ronde 14 \n  Lees verder ...
URL:http://www.sv-deraadsheer.nl/item/jeugdcompetitie-2025-01-05/
CATEGORIES:Interne Jeugd Schaak Competitie,Jeugd
ORGANIZER;CN="Inge%20Oostvogels":MAILTO:inge@sv-deraadsheer.nl
END:VEVENT
BEGIN:VEVENT
DTSTART;TZID=Europe/Paris:20250109T194500
DTEND;TZID=Europe/Paris:20250109T235500
DTSTAMP:20260421T182741
CREATED:20240830T104017Z
LAST-MODIFIED:20240830T105721Z
UID:19122-1736451900-1736466900@www.sv-deraadsheer.nl
SUMMARY:Interne competitie
DESCRIPTION:1e cyclus\, ronde 11 \n  Lees verder ...
URL:http://www.sv-deraadsheer.nl/item/interne-competitie-2025-01-09/
LOCATION:Café Zaal Het Wapen van Zundert\, Katerstraat 12\, Zundert\, 4881 AR
CATEGORIES:Interne Schaak Competitie,Senioren
ORGANIZER;CN="Niek%20Oostvogels":MAILTO:niek@sv-deraadsheer.nl
END:VEVENT
BEGIN:VEVENT
DTSTART;TZID=Europe/Paris:20250112T094500
DTEND;TZID=Europe/Paris:20250112T123000
DTSTAMP:20260421T182741
CREATED:20241025T131146Z
LAST-MODIFIED:20241025T131146Z
UID:19464-1736675100-1736685000@www.sv-deraadsheer.nl
SUMMARY:Schaakles
DESCRIPTION:Schaakles I: 09:45-10:45 \nSchaakles II: 11:30-12:30 \n  Lees verder ...
URL:http://www.sv-deraadsheer.nl/item/schaakles-2025-01-12/
CATEGORIES:Jeugd,Schaakles
ORGANIZER;CN="Inge%20Oostvogels":MAILTO:inge@sv-deraadsheer.nl
END:VEVENT
BEGIN:VEVENT
DTSTART;TZID=Europe/Paris:20250112T104500
DTEND;TZID=Europe/Paris:20250112T113000
DTSTAMP:20260421T182741
CREATED:20241025T125652Z
LAST-MODIFIED:20241025T130044Z
UID:19439-1736678700-1736681400@www.sv-deraadsheer.nl
SUMMARY:Jeugdcompetitie
DESCRIPTION:Najaarscompetitie ronde 15 \n  Lees verder ...
URL:http://www.sv-deraadsheer.nl/item/jeugdcompetitie-2025-01-12/
CATEGORIES:Interne Jeugd Schaak Competitie,Jeugd
ORGANIZER;CN="Inge%20Oostvogels":MAILTO:inge@sv-deraadsheer.nl
END:VEVENT
BEGIN:VEVENT
DTSTART;TZID=Europe/Paris:20250116T194500
DTEND;TZID=Europe/Paris:20250116T235500
DTSTAMP:20260421T182741
CREATED:20240830T104018Z
LAST-MODIFIED:20240830T105727Z
UID:19124-1737056700-1737071700@www.sv-deraadsheer.nl
SUMMARY:Interne competitie
DESCRIPTION:1e cyclus\, ronde 12 \n  Lees verder ...
URL:http://www.sv-deraadsheer.nl/item/interne-competitie-2025-01-16/
LOCATION:Café Zaal Het Wapen van Zundert\, Katerstraat 12\, Zundert\, 4881 AR
CATEGORIES:Interne Schaak Competitie,Senioren
ORGANIZER;CN="Niek%20Oostvogels":MAILTO:niek@sv-deraadsheer.nl
END:VEVENT
BEGIN:VEVENT
DTSTART;TZID=Europe/Paris:20250119T094500
DTEND;TZID=Europe/Paris:20250119T123000
DTSTAMP:20260421T182741
CREATED:20241025T131147Z
LAST-MODIFIED:20241025T131147Z
UID:19465-1737279900-1737289800@www.sv-deraadsheer.nl
SUMMARY:Schaakles
DESCRIPTION:Schaakles I: 09:45-10:45 \nSchaakles II: 11:30-12:30 \n  Lees verder ...
URL:http://www.sv-deraadsheer.nl/item/schaakles-2025-01-19/
CATEGORIES:Jeugd,Schaakles
ORGANIZER;CN="Inge%20Oostvogels":MAILTO:inge@sv-deraadsheer.nl
END:VEVENT
BEGIN:VEVENT
DTSTART;TZID=Europe/Paris:20250119T104500
DTEND;TZID=Europe/Paris:20250119T113000
DTSTAMP:20260421T182741
CREATED:20241025T125654Z
LAST-MODIFIED:20241025T130027Z
UID:19440-1737283500-1737286200@www.sv-deraadsheer.nl
SUMMARY:Jeugdcompetitie
DESCRIPTION:Najaarscompetitie ronde 16 \n  Lees verder ...
URL:http://www.sv-deraadsheer.nl/item/jeugdcompetitie-2025-01-19/
CATEGORIES:Interne Jeugd Schaak Competitie,Jeugd
ORGANIZER;CN="Inge%20Oostvogels":MAILTO:inge@sv-deraadsheer.nl
END:VEVENT
BEGIN:VEVENT
DTSTART;TZID=Europe/Paris:20250123T194500
DTEND;TZID=Europe/Paris:20250123T194500
DTSTAMP:20260421T182741
CREATED:20240830T130417Z
LAST-MODIFIED:20240830T131016Z
UID:19213-1737661500-1737661500@www.sv-deraadsheer.nl
SUMMARY:Interne competitie
DESCRIPTION:2e cyclus\, ronde 1\nprijsuitreiking 1e cyclus \n  Lees verder ...
URL:http://www.sv-deraadsheer.nl/item/interne-competitie-2025-01-23/
LOCATION:Café Zaal Het Wapen van Zundert\, Katerstraat 12\, Zundert\, 4881 AR
CATEGORIES:Interne Schaak Competitie,Senioren
ORGANIZER;CN="Niek%20Oostvogels":MAILTO:niek@sv-deraadsheer.nl
END:VEVENT
BEGIN:VEVENT
DTSTART;TZID=Europe/Paris:20250126T094500
DTEND;TZID=Europe/Paris:20250126T123000
DTSTAMP:20260421T182741
CREATED:20241025T131148Z
LAST-MODIFIED:20241025T131148Z
UID:19466-1737884700-1737894600@www.sv-deraadsheer.nl
SUMMARY:Schaakles
DESCRIPTION:Schaakles I: 09:45-10:45 \nSchaakles II: 11:30-12:30 \n  Lees verder ...
URL:http://www.sv-deraadsheer.nl/item/schaakles-2025-01-26/
CATEGORIES:Jeugd,Schaakles
ORGANIZER;CN="Inge%20Oostvogels":MAILTO:inge@sv-deraadsheer.nl
END:VEVENT
BEGIN:VEVENT
DTSTART;TZID=Europe/Paris:20250126T104500
DTEND;TZID=Europe/Paris:20250126T113000
DTSTAMP:20260421T182741
CREATED:20241025T125656Z
LAST-MODIFIED:20241025T130012Z
UID:19441-1737888300-1737891000@www.sv-deraadsheer.nl
SUMMARY:Jeugdcompetitie
DESCRIPTION:Diploma & Prijsuitreiking najaar \n  Lees verder ...
URL:http://www.sv-deraadsheer.nl/item/jeugdcompetitie-2025-01-26/
CATEGORIES:Interne Jeugd Schaak Competitie,Jeugd
ORGANIZER;CN="Inge%20Oostvogels":MAILTO:inge@sv-deraadsheer.nl
END:VEVENT
BEGIN:VEVENT
DTSTART;TZID=Europe/Paris:20250130T194500
DTEND;TZID=Europe/Paris:20250130T235500
DTSTAMP:20260421T182741
CREATED:20240830T112353Z
LAST-MODIFIED:20240830T112353Z
UID:19175-1738266300-1738281300@www.sv-deraadsheer.nl
SUMMARY:Raadsheer Open
DESCRIPTION:ronde 4 \n  Lees verder ...
URL:http://www.sv-deraadsheer.nl/item/raadsheer-open-2025-01-30/
LOCATION:Café Zaal Het Wapen van Zundert\, Katerstraat 12\, Zundert\, 4881 AR
CATEGORIES:Bekertoernooi,Senioren
ORGANIZER;CN="Niek%20Oostvogels":MAILTO:niek@sv-deraadsheer.nl
END:VEVENT
END:VCALENDAR