BEGIN:VCALENDAR
VERSION:2.0
PRODID:-//SV de Raadsheer - ECPv6.0.8//NONSGML v1.0//EN
CALSCALE:GREGORIAN
METHOD:PUBLISH
X-ORIGINAL-URL:http://www.sv-deraadsheer.nl
X-WR-CALDESC:Evenementen voor SV de Raadsheer
REFRESH-INTERVAL;VALUE=DURATION:PT1H
X-Robots-Tag:noindex
X-PUBLISHED-TTL:PT1H
BEGIN:VTIMEZONE
TZID:Europe/Paris
BEGIN:DAYLIGHT
TZOFFSETFROM:+0100
TZOFFSETTO:+0200
TZNAME:CEST
DTSTART:20250330T010000
END:DAYLIGHT
BEGIN:STANDARD
TZOFFSETFROM:+0200
TZOFFSETTO:+0100
TZNAME:CET
DTSTART:20251026T010000
END:STANDARD
END:VTIMEZONE
BEGIN:VEVENT
DTSTART;TZID=Europe/Paris:20250501T194500
DTEND;TZID=Europe/Paris:20250501T194500
DTSTAMP:20260421T021453
CREATED:20240830T130446Z
LAST-MODIFIED:20240830T130446Z
UID:19220-1746128700-1746128700@www.sv-deraadsheer.nl
SUMMARY:Interne competitie
DESCRIPTION:2e cyclus\, ronde 10 \n  Lees verder ...
URL:http://www.sv-deraadsheer.nl/item/interne-competitie-2025-05-01/
LOCATION:Café Zaal Het Wapen van Zundert\, Katerstraat 12\, Zundert\, 4881 AR
CATEGORIES:Interne Schaak Competitie,Senioren
ORGANIZER;CN="Niek%20Oostvogels":MAILTO:niek@sv-deraadsheer.nl
END:VEVENT
BEGIN:VEVENT
DTSTART;TZID=Europe/Paris:20250504T094500
DTEND;TZID=Europe/Paris:20250504T123000
DTSTAMP:20260421T021453
CREATED:20250418T130252Z
LAST-MODIFIED:20250418T130252Z
UID:20029-1746351900-1746361800@www.sv-deraadsheer.nl
SUMMARY:Schaakles
DESCRIPTION:Schaakles I: 09:45-10:45 \nSchaakles II: 11:30-12:30 \n  Lees verder ...
URL:http://www.sv-deraadsheer.nl/item/schaakles-2025-05-04/
CATEGORIES:Jeugd,Schaakles
ORGANIZER;CN="Inge%20Oostvogels":MAILTO:inge@sv-deraadsheer.nl
END:VEVENT
BEGIN:VEVENT
DTSTART;TZID=Europe/Paris:20250504T104500
DTEND;TZID=Europe/Paris:20250504T113000
DTSTAMP:20260421T021453
CREATED:20250418T125555Z
LAST-MODIFIED:20250418T125555Z
UID:20017-1746355500-1746358200@www.sv-deraadsheer.nl
SUMMARY:Jeugdcompetitie
DESCRIPTION:Voorjaarscompetitie ronde 12 \n  Lees verder ...
URL:http://www.sv-deraadsheer.nl/item/jeugdcompetitie-2025-05-04/
CATEGORIES:Interne Jeugd Schaak Competitie,Jeugd
ORGANIZER;CN="Inge%20Oostvogels":MAILTO:inge@sv-deraadsheer.nl
END:VEVENT
BEGIN:VEVENT
DTSTART;TZID=Europe/Paris:20250508T194500
DTEND;TZID=Europe/Paris:20250508T230000
DTSTAMP:20260421T021453
CREATED:20240830T112345Z
LAST-MODIFIED:20240830T112345Z
UID:19179-1746733500-1746745200@www.sv-deraadsheer.nl
SUMMARY:Raadsheer Open
DESCRIPTION:toernooi en prijsuitreiking \n  Lees verder ...
URL:http://www.sv-deraadsheer.nl/item/raadsheer-open-2025-05-08/
LOCATION:Café Zaal Het Wapen van Zundert\, Katerstraat 12\, Zundert\, 4881 AR
CATEGORIES:Bekertoernooi,Senioren
ORGANIZER;CN="Niek%20Oostvogels":MAILTO:niek@sv-deraadsheer.nl
END:VEVENT
BEGIN:VEVENT
DTSTART;TZID=Europe/Paris:20250510T120000
DTEND;TZID=Europe/Paris:20250510T180000
DTSTAMP:20260421T021453
CREATED:20240517T090142Z
LAST-MODIFIED:20240830T100133Z
UID:18997-1746878400-1746900000@www.sv-deraadsheer.nl
SUMMARY:Externe competitie
DESCRIPTION:Ronde 9\nGoes 1 – De Raadsheer 1\nDe Raadsheer 2 – Vrij\nDe Raadsheer 3 – Vrij \n  Lees verder ...
URL:http://www.sv-deraadsheer.nl/item/externe-competitie-2025-05-10/
CATEGORIES:Externe Schaak Competitie,Senioren
END:VEVENT
BEGIN:VEVENT
DTSTART;TZID=Europe/Paris:20250511T094500
DTEND;TZID=Europe/Paris:20250511T123000
DTSTAMP:20260421T021453
CREATED:20250418T130253Z
LAST-MODIFIED:20250418T130253Z
UID:20030-1746956700-1746966600@www.sv-deraadsheer.nl
SUMMARY:Schaakles
DESCRIPTION:Schaakles I: 09:45-10:45 \nSchaakles II: 11:30-12:30 \n  Lees verder ...
URL:http://www.sv-deraadsheer.nl/item/schaakles-2025-05-11/
CATEGORIES:Jeugd,Schaakles
ORGANIZER;CN="Inge%20Oostvogels":MAILTO:inge@sv-deraadsheer.nl
END:VEVENT
BEGIN:VEVENT
DTSTART;TZID=Europe/Paris:20250511T104500
DTEND;TZID=Europe/Paris:20250511T113000
DTSTAMP:20260421T021453
CREATED:20250418T125557Z
LAST-MODIFIED:20250418T125557Z
UID:20018-1746960300-1746963000@www.sv-deraadsheer.nl
SUMMARY:Jeugdcompetitie
DESCRIPTION:Voorjaarscompetitie ronde 13 \n  Lees verder ...
URL:http://www.sv-deraadsheer.nl/item/jeugdcompetitie-2025-05-11/
CATEGORIES:Interne Jeugd Schaak Competitie,Jeugd
ORGANIZER;CN="Inge%20Oostvogels":MAILTO:inge@sv-deraadsheer.nl
END:VEVENT
BEGIN:VEVENT
DTSTART;TZID=Europe/Paris:20250515T194500
DTEND;TZID=Europe/Paris:20250515T194500
DTSTAMP:20260421T021453
CREATED:20240830T130448Z
LAST-MODIFIED:20240830T130448Z
UID:19221-1747338300-1747338300@www.sv-deraadsheer.nl
SUMMARY:Interne competitie
DESCRIPTION:2e cyclus\, ronde 11 \n  Lees verder ...
URL:http://www.sv-deraadsheer.nl/item/interne-competitie-2025-05-15/
LOCATION:Café Zaal Het Wapen van Zundert\, Katerstraat 12\, Zundert\, 4881 AR
CATEGORIES:Interne Schaak Competitie,Senioren
ORGANIZER;CN="Niek%20Oostvogels":MAILTO:niek@sv-deraadsheer.nl
END:VEVENT
BEGIN:VEVENT
DTSTART;TZID=Europe/Paris:20250518T094500
DTEND;TZID=Europe/Paris:20250518T123000
DTSTAMP:20260421T021453
CREATED:20250418T130256Z
LAST-MODIFIED:20250418T130256Z
UID:20031-1747561500-1747571400@www.sv-deraadsheer.nl
SUMMARY:Schaakles
DESCRIPTION:Schaakles I: 09:45-10:45 \nSchaakles II: 11:30-12:30 \n  Lees verder ...
URL:http://www.sv-deraadsheer.nl/item/schaakles-2025-05-18/
CATEGORIES:Jeugd,Schaakles
ORGANIZER;CN="Inge%20Oostvogels":MAILTO:inge@sv-deraadsheer.nl
END:VEVENT
BEGIN:VEVENT
DTSTART;TZID=Europe/Paris:20250518T104500
DTEND;TZID=Europe/Paris:20250518T113000
DTSTAMP:20260421T021453
CREATED:20250418T125559Z
LAST-MODIFIED:20250418T125559Z
UID:20019-1747565100-1747567800@www.sv-deraadsheer.nl
SUMMARY:Jeugdcompetitie
DESCRIPTION:Voorjaarscompetitie ronde 14 \n  Lees verder ...
URL:http://www.sv-deraadsheer.nl/item/jeugdcompetitie-2025-05-18/
CATEGORIES:Interne Jeugd Schaak Competitie,Jeugd
ORGANIZER;CN="Inge%20Oostvogels":MAILTO:inge@sv-deraadsheer.nl
END:VEVENT
BEGIN:VEVENT
DTSTART;TZID=Europe/Paris:20250522T194500
DTEND;TZID=Europe/Paris:20250522T194500
DTSTAMP:20260421T021453
CREATED:20240830T130451Z
LAST-MODIFIED:20240830T130451Z
UID:19222-1747943100-1747943100@www.sv-deraadsheer.nl
SUMMARY:Interne competitie
DESCRIPTION:2e cyclus\, ronde 12 \n  Lees verder ...
URL:http://www.sv-deraadsheer.nl/item/interne-competitie-2025-05-22/
LOCATION:Café Zaal Het Wapen van Zundert\, Katerstraat 12\, Zundert\, 4881 AR
CATEGORIES:Interne Schaak Competitie,Senioren
ORGANIZER;CN="Niek%20Oostvogels":MAILTO:niek@sv-deraadsheer.nl
END:VEVENT
BEGIN:VEVENT
DTSTART;TZID=Europe/Paris:20250525T094500
DTEND;TZID=Europe/Paris:20250525T123000
DTSTAMP:20260421T021453
CREATED:20250418T130258Z
LAST-MODIFIED:20250418T130258Z
UID:20032-1748166300-1748176200@www.sv-deraadsheer.nl
SUMMARY:Schaakles
DESCRIPTION:Schaakles I: 09:45-10:45 \nSchaakles II: 11:30-12:30 \n  Lees verder ...
URL:http://www.sv-deraadsheer.nl/item/schaakles-2025-05-25/
CATEGORIES:Jeugd,Schaakles
ORGANIZER;CN="Inge%20Oostvogels":MAILTO:inge@sv-deraadsheer.nl
END:VEVENT
BEGIN:VEVENT
DTSTART;TZID=Europe/Paris:20250525T104500
DTEND;TZID=Europe/Paris:20250525T113000
DTSTAMP:20260421T021453
CREATED:20250418T125601Z
LAST-MODIFIED:20250418T125601Z
UID:20020-1748169900-1748172600@www.sv-deraadsheer.nl
SUMMARY:Jeugdcompetitie
DESCRIPTION:Voorjaarscompetitie ronde 15 \n  Lees verder ...
URL:http://www.sv-deraadsheer.nl/item/jeugdcompetitie-2025-05-25/
CATEGORIES:Interne Jeugd Schaak Competitie,Jeugd
ORGANIZER;CN="Inge%20Oostvogels":MAILTO:inge@sv-deraadsheer.nl
END:VEVENT
BEGIN:VEVENT
DTSTART;VALUE=DATE:20250529
DTEND;VALUE=DATE:20250530
DTSTAMP:20260421T021454
CREATED:20240830T131442Z
LAST-MODIFIED:20240830T131453Z
UID:19236-1748476800-1748563199@www.sv-deraadsheer.nl
SUMMARY:Hemelvaart
DESCRIPTION:Geen schaken \n  Lees verder ...
URL:http://www.sv-deraadsheer.nl/item/hemelvaart-2025/
CATEGORIES:Senioren,Vakantie
END:VEVENT
END:VCALENDAR