BEGIN:VCALENDAR
VERSION:2.0
PRODID:-//SV de Raadsheer - ECPv6.0.8//NONSGML v1.0//EN
CALSCALE:GREGORIAN
METHOD:PUBLISH
X-WR-CALNAME:SV de Raadsheer
X-ORIGINAL-URL:http://www.sv-deraadsheer.nl
X-WR-CALDESC:Evenementen voor SV de Raadsheer
REFRESH-INTERVAL;VALUE=DURATION:PT1H
X-Robots-Tag:noindex
X-PUBLISHED-TTL:PT1H
BEGIN:VTIMEZONE
TZID:Europe/Paris
BEGIN:DAYLIGHT
TZOFFSETFROM:+0100
TZOFFSETTO:+0200
TZNAME:CEST
DTSTART:20250330T010000
END:DAYLIGHT
BEGIN:STANDARD
TZOFFSETFROM:+0200
TZOFFSETTO:+0100
TZNAME:CET
DTSTART:20251026T010000
END:STANDARD
END:VTIMEZONE
BEGIN:VEVENT
DTSTART;TZID=Europe/Paris:20250601T094500
DTEND;TZID=Europe/Paris:20250601T123000
DTSTAMP:20260421T004249
CREATED:20250418T130300Z
LAST-MODIFIED:20250418T130300Z
UID:20033-1748771100-1748781000@www.sv-deraadsheer.nl
SUMMARY:Schaakles
DESCRIPTION:Schaakles I: 09:45-10:45 \nSchaakles II: 11:30-12:30 \n  Lees verder ...
URL:http://www.sv-deraadsheer.nl/item/schaakles-2025-06-01/
CATEGORIES:Jeugd,Schaakles
ORGANIZER;CN="Inge%20Oostvogels":MAILTO:inge@sv-deraadsheer.nl
END:VEVENT
BEGIN:VEVENT
DTSTART;TZID=Europe/Paris:20250601T104500
DTEND;TZID=Europe/Paris:20250601T113000
DTSTAMP:20260421T004249
CREATED:20250418T125603Z
LAST-MODIFIED:20250418T125603Z
UID:20021-1748774700-1748777400@www.sv-deraadsheer.nl
SUMMARY:Jeugdcompetitie
DESCRIPTION:Voorjaarscompetitie ronde 16 \n  Lees verder ...
URL:http://www.sv-deraadsheer.nl/item/jeugdcompetitie-2025-06-01/
CATEGORIES:Interne Jeugd Schaak Competitie,Jeugd
ORGANIZER;CN="Inge%20Oostvogels":MAILTO:inge@sv-deraadsheer.nl
END:VEVENT
BEGIN:VEVENT
DTSTART;TZID=Europe/Paris:20250605T194500
DTEND;TZID=Europe/Paris:20250605T230000
DTSTAMP:20260421T004249
CREATED:20240830T121653Z
LAST-MODIFIED:20240830T131800Z
UID:19206-1749152700-1749164400@www.sv-deraadsheer.nl
SUMMARY:Rapidschaken
DESCRIPTION:ronde 4 \n  Lees verder ...
URL:http://www.sv-deraadsheer.nl/item/rapidschaken-2025-06-05/
LOCATION:Café Zaal Het Wapen van Zundert\, Katerstraat 12\, Zundert\, 4881 AR
CATEGORIES:Schaak Toernooien
ORGANIZER;CN="Niek%20Oostvogels":MAILTO:niek@sv-deraadsheer.nl
END:VEVENT
BEGIN:VEVENT
DTSTART;TZID=Europe/Paris:20250605T194500
DTEND;TZID=Europe/Paris:20250605T230000
DTSTAMP:20260421T004249
CREATED:20240830T131943Z
LAST-MODIFIED:20240830T131943Z
UID:19240-1749152700-1749164400@www.sv-deraadsheer.nl
SUMMARY:Interne competitie
DESCRIPTION:prijsuitreiking 2e cyclus \n  Lees verder ...
URL:http://www.sv-deraadsheer.nl/item/interne-competitie-2025-06-05/
LOCATION:Café Zaal Het Wapen van Zundert\, Katerstraat 12\, Zundert\, 4881 AR
CATEGORIES:Interne Schaak Competitie,Senioren
ORGANIZER;CN="Niek%20Oostvogels":MAILTO:niek@sv-deraadsheer.nl
END:VEVENT
BEGIN:VEVENT
DTSTART;VALUE=DATE:20250608
DTEND;VALUE=DATE:20250609
DTSTAMP:20260421T004249
CREATED:20250223T201315Z
LAST-MODIFIED:20250223T201315Z
UID:19820-1749340800-1749427199@www.sv-deraadsheer.nl
SUMMARY:Pinksteren
DESCRIPTION:GEEN Jeugdcompetitie en GEEN Schaakles \n  Lees verder ...
URL:http://www.sv-deraadsheer.nl/item/pinksteren-2025/
CATEGORIES:Jeugd
END:VEVENT
BEGIN:VEVENT
DTSTART;VALUE=DATE:20250615
DTEND;VALUE=DATE:20250616
DTSTAMP:20260421T004249
CREATED:20250418T130603Z
LAST-MODIFIED:20250418T130613Z
UID:20041-1749945600-1750031999@www.sv-deraadsheer.nl
SUMMARY:Aardbeienfeesten
DESCRIPTION:GEEN Jeugdcompetitie en GEEN Schaakles \n  Lees verder ...
URL:http://www.sv-deraadsheer.nl/item/aardbeienfeesten-2025/
CATEGORIES:Algemeen
END:VEVENT
BEGIN:VEVENT
DTSTART;TZID=Europe/Paris:20250622T094500
DTEND;TZID=Europe/Paris:20250622T123000
DTSTAMP:20260421T004249
CREATED:20250418T130302Z
LAST-MODIFIED:20250418T130302Z
UID:20034-1750585500-1750595400@www.sv-deraadsheer.nl
SUMMARY:Schaakles
DESCRIPTION:Schaakles I: 09:45-10:45 \nSchaakles II: 11:30-12:30 \n  Lees verder ...
URL:http://www.sv-deraadsheer.nl/item/schaakles-2025-06-22/
CATEGORIES:Jeugd,Schaakles
ORGANIZER;CN="Inge%20Oostvogels":MAILTO:inge@sv-deraadsheer.nl
END:VEVENT
BEGIN:VEVENT
DTSTART;TZID=Europe/Paris:20250622T104500
DTEND;TZID=Europe/Paris:20250622T113000
DTSTAMP:20260421T004249
CREATED:20250418T125605Z
LAST-MODIFIED:20250418T125605Z
UID:20022-1750589100-1750591800@www.sv-deraadsheer.nl
SUMMARY:Jeugdcompetitie
DESCRIPTION:Voorjaarscompetitie ronde 17 \n  Lees verder ...
URL:http://www.sv-deraadsheer.nl/item/jeugdcompetitie-2025-06-22/
CATEGORIES:Interne Jeugd Schaak Competitie,Jeugd
ORGANIZER;CN="Inge%20Oostvogels":MAILTO:inge@sv-deraadsheer.nl
END:VEVENT
BEGIN:VEVENT
DTSTART;TZID=Europe/Paris:20250629T100000
DTEND;TZID=Europe/Paris:20250629T123000
DTSTAMP:20260421T004249
CREATED:20250418T130925Z
LAST-MODIFIED:20250418T130925Z
UID:20043-1751191200-1751200200@www.sv-deraadsheer.nl
SUMMARY:Afsluiting Jeugdseizoen
DESCRIPTION:Afsluiting Jeugdseizoen (incl. Diploma &\nprijsuitreiking voorjaar) \n  Lees verder ...
URL:http://www.sv-deraadsheer.nl/item/afsluiting-jeugdseizoen-2025/
CATEGORIES:Interne Jeugd Schaak Competitie,Jeugd
ORGANIZER;CN="Inge%20Oostvogels":MAILTO:inge@sv-deraadsheer.nl
END:VEVENT
END:VCALENDAR