BEGIN:VCALENDAR
VERSION:2.0
PRODID:-//SV de Raadsheer - ECPv6.0.8//NONSGML v1.0//EN
CALSCALE:GREGORIAN
METHOD:PUBLISH
X-ORIGINAL-URL:http://www.sv-deraadsheer.nl
X-WR-CALDESC:Evenementen voor SV de Raadsheer
REFRESH-INTERVAL;VALUE=DURATION:PT1H
X-Robots-Tag:noindex
X-PUBLISHED-TTL:PT1H
BEGIN:VTIMEZONE
TZID:Europe/Paris
BEGIN:DAYLIGHT
TZOFFSETFROM:+0100
TZOFFSETTO:+0200
TZNAME:CEST
DTSTART:20250330T010000
END:DAYLIGHT
BEGIN:STANDARD
TZOFFSETFROM:+0200
TZOFFSETTO:+0100
TZNAME:CET
DTSTART:20251026T010000
END:STANDARD
END:VTIMEZONE
BEGIN:VEVENT
DTSTART;TZID=Europe/Paris:20250911T194500
DTEND;TZID=Europe/Paris:20250911T194500
DTSTAMP:20260420T083438
CREATED:20250908T131032Z
LAST-MODIFIED:20250908T131153Z
UID:20216-1757619900-1757619900@www.sv-deraadsheer.nl
SUMMARY:Interne competitie
DESCRIPTION:1e cyclus\, ronde 1 \n  Lees verder ...
URL:http://www.sv-deraadsheer.nl/item/interne-competitie-2025-09-11/
CATEGORIES:Interne Schaak Competitie,Senioren
ORGANIZER;CN="Niek%20Oostvogels":MAILTO:niek@sv-deraadsheer.nl
END:VEVENT
BEGIN:VEVENT
DTSTART;TZID=Europe/Paris:20250914T100000
DTEND;TZID=Europe/Paris:20250914T120000
DTSTAMP:20260420T083438
CREATED:20250914T161602Z
LAST-MODIFIED:20250914T161632Z
UID:20327-1757844000-1757851200@www.sv-deraadsheer.nl
SUMMARY:Open dag
DESCRIPTION:Lees verder ...
URL:http://www.sv-deraadsheer.nl/item/open-dag-2025/
CATEGORIES:Algemeen,Jeugd,Senioren
ORGANIZER;CN="Inge%20Oostvogels":MAILTO:inge@sv-deraadsheer.nl
END:VEVENT
BEGIN:VEVENT
DTSTART;TZID=Europe/Paris:20250918T194500
DTEND;TZID=Europe/Paris:20250918T194500
DTSTAMP:20260420T083438
CREATED:20250908T132406Z
LAST-MODIFIED:20250908T132754Z
UID:20218-1758224700-1758224700@www.sv-deraadsheer.nl
SUMMARY:Interne competitie
DESCRIPTION:1e cyclus\, ronde 2 \n  Lees verder ...
URL:http://www.sv-deraadsheer.nl/item/interne-competitie-2025-09-18/
CATEGORIES:Interne Schaak Competitie,Senioren
ORGANIZER;CN="Niek%20Oostvogels":MAILTO:niek@sv-deraadsheer.nl
END:VEVENT
BEGIN:VEVENT
DTSTART;TZID=Europe/Paris:20250920T120000
DTEND;TZID=Europe/Paris:20250920T180000
DTSTAMP:20260420T083438
CREATED:20250509T115943Z
LAST-MODIFIED:20250908T124755Z
UID:20075-1758369600-1758391200@www.sv-deraadsheer.nl
SUMMARY:Externe competitie
DESCRIPTION:Ronde 1\nOverschie 1 – De Raadsheer 1\nDe Baronie 1 – De Raadsheer 2\nDe Raadsheer 3 – Vrij \n  Lees verder ...
URL:http://www.sv-deraadsheer.nl/item/externe-competitie-2025-09-20/
CATEGORIES:Externe Schaak Competitie,Senioren
END:VEVENT
BEGIN:VEVENT
DTSTART;VALUE=DATE:20250921
DTEND;VALUE=DATE:20250922
DTSTAMP:20260420T083438
CREATED:20250914T161317Z
LAST-MODIFIED:20250914T161317Z
UID:20325-1758412800-1758499199@www.sv-deraadsheer.nl
SUMMARY:Jeugdcorso
DESCRIPTION:GEEN Jeugdcompetitie \n  Lees verder ...
URL:http://www.sv-deraadsheer.nl/item/jeugdcorso-2025/
CATEGORIES:Jeugd,Vakantie
END:VEVENT
BEGIN:VEVENT
DTSTART;TZID=Europe/Paris:20250925T194500
DTEND;TZID=Europe/Paris:20250925T194500
DTSTAMP:20260420T083438
CREATED:20250908T132408Z
LAST-MODIFIED:20250908T132759Z
UID:20219-1758829500-1758829500@www.sv-deraadsheer.nl
SUMMARY:Interne competitie
DESCRIPTION:1e cyclus\, ronde 3 \n  Lees verder ...
URL:http://www.sv-deraadsheer.nl/item/interne-competitie-2025-09-25/
CATEGORIES:Interne Schaak Competitie,Senioren
ORGANIZER;CN="Niek%20Oostvogels":MAILTO:niek@sv-deraadsheer.nl
END:VEVENT
BEGIN:VEVENT
DTSTART;TZID=Europe/Paris:20250928T094500
DTEND;TZID=Europe/Paris:20250928T123000
DTSTAMP:20260420T083438
CREATED:20250919T101547Z
LAST-MODIFIED:20250919T101547Z
UID:20362-1759052700-1759062600@www.sv-deraadsheer.nl
SUMMARY:Schaakles
DESCRIPTION:Schaakles I: 09:45-10:45 \nSchaakles II: 11:30-12:30 \n  Lees verder ...
URL:http://www.sv-deraadsheer.nl/item/schaakles-2025-09-28/
CATEGORIES:Jeugd,Schaakles
ORGANIZER;CN="Inge%20Oostvogels":MAILTO:inge@sv-deraadsheer.nl
END:VEVENT
BEGIN:VEVENT
DTSTART;TZID=Europe/Paris:20250928T104500
DTEND;TZID=Europe/Paris:20250928T113000
DTSTAMP:20260420T083438
CREATED:20250919T095317Z
LAST-MODIFIED:20250919T095317Z
UID:20354-1759056300-1759059000@www.sv-deraadsheer.nl
SUMMARY:Jeugdcompetitie
DESCRIPTION:Najaarscompetitie ronde 1 \n  Lees verder ...
URL:http://www.sv-deraadsheer.nl/item/jeugdcompetitie-2025-09-28/
CATEGORIES:Interne Jeugd Schaak Competitie,Jeugd
ORGANIZER;CN="Inge%20Oostvogels":MAILTO:inge@sv-deraadsheer.nl
END:VEVENT
END:VCALENDAR