BEGIN:VCALENDAR
VERSION:2.0
PRODID:-//SV de Raadsheer - ECPv6.0.8//NONSGML v1.0//EN
CALSCALE:GREGORIAN
METHOD:PUBLISH
X-WR-CALNAME:SV de Raadsheer
X-ORIGINAL-URL:http://www.sv-deraadsheer.nl
X-WR-CALDESC:Evenementen voor SV de Raadsheer
REFRESH-INTERVAL;VALUE=DURATION:PT1H
X-Robots-Tag:noindex
X-PUBLISHED-TTL:PT1H
BEGIN:VTIMEZONE
TZID:Europe/Paris
BEGIN:DAYLIGHT
TZOFFSETFROM:+0100
TZOFFSETTO:+0200
TZNAME:CEST
DTSTART:20170326T010000
END:DAYLIGHT
BEGIN:STANDARD
TZOFFSETFROM:+0200
TZOFFSETTO:+0100
TZNAME:CET
DTSTART:20171029T010000
END:STANDARD
END:VTIMEZONE
BEGIN:VEVENT
DTSTART;TZID=Europe/Paris:20171224T000000
DTEND;TZID=Europe/Paris:20171224T000000
DTSTAMP:20260421T064653
CREATED:20170827T171151Z
LAST-MODIFIED:20170827T171151Z
UID:8167-1514073600-1514073600@www.sv-deraadsheer.nl
SUMMARY:Kerstavond
DESCRIPTION:GEEN Jeugdcompetitie \n  Lees verder ...
URL:http://www.sv-deraadsheer.nl/item/kerstavond-2017/
CATEGORIES:Jeugd,Vakantie
END:VEVENT
BEGIN:VEVENT
DTSTART;TZID=Europe/Paris:20171231T000000
DTEND;TZID=Europe/Paris:20171231T000000
DTSTAMP:20260421T064653
CREATED:20170827T171252Z
LAST-MODIFIED:20170827T171252Z
UID:8169-1514678400-1514678400@www.sv-deraadsheer.nl
SUMMARY:Oudejaarsdag
DESCRIPTION:GEEN Jeugdcompetitie \n  Lees verder ...
URL:http://www.sv-deraadsheer.nl/item/oudejaarsdag-2017/
CATEGORIES:Senioren,Vakantie
END:VEVENT
END:VCALENDAR