BEGIN:VCALENDAR
VERSION:2.0
PRODID:-//SV de Raadsheer - ECPv6.0.8//NONSGML v1.0//EN
CALSCALE:GREGORIAN
METHOD:PUBLISH
X-WR-CALNAME:SV de Raadsheer
X-ORIGINAL-URL:https://www.sv-deraadsheer.nl
X-WR-CALDESC:Evenementen voor SV de Raadsheer
REFRESH-INTERVAL;VALUE=DURATION:PT1H
X-Robots-Tag:noindex
X-PUBLISHED-TTL:PT1H
BEGIN:VTIMEZONE
TZID:Europe/Paris
BEGIN:DAYLIGHT
TZOFFSETFROM:+0100
TZOFFSETTO:+0200
TZNAME:CEST
DTSTART:20240331T010000
END:DAYLIGHT
BEGIN:STANDARD
TZOFFSETFROM:+0200
TZOFFSETTO:+0100
TZNAME:CET
DTSTART:20241027T010000
END:STANDARD
END:VTIMEZONE
BEGIN:VEVENT
DTSTART;TZID=Europe/Paris:20241201T104500
DTEND;TZID=Europe/Paris:20241201T113000
DTSTAMP:20260424T182722
CREATED:20241025T125641Z
LAST-MODIFIED:20241025T125641Z
UID:19434-1733049900-1733052600@www.sv-deraadsheer.nl
SUMMARY:Jeugdcompetitie
DESCRIPTION:Najaarscompetitie ronde 10 \n  Lees verder ...
URL:https://www.sv-deraadsheer.nl/item/jeugdcompetitie-2024-12-01/
LOCATION:Café Zaal Het Wapen van Zundert\, Katerstraat 12\, Zundert\, 4881 AR
CATEGORIES:Interne Jeugd Schaak Competitie,Jeugd
ORGANIZER;CN="Inge%20Oostvogels":MAILTO:inge@sv-deraadsheer.nl
END:VEVENT
BEGIN:VEVENT
DTSTART;TZID=Europe/Paris:20241208T104500
DTEND;TZID=Europe/Paris:20241208T113000
DTSTAMP:20260424T182722
CREATED:20241025T125643Z
LAST-MODIFIED:20241025T125643Z
UID:19435-1733654700-1733657400@www.sv-deraadsheer.nl
SUMMARY:Jeugdcompetitie
DESCRIPTION:Najaarscompetitie ronde 11 \n  Lees verder ...
URL:https://www.sv-deraadsheer.nl/item/jeugdcompetitie-2024-12-08/
LOCATION:Café Zaal Het Wapen van Zundert\, Katerstraat 12\, Zundert\, 4881 AR
CATEGORIES:Interne Jeugd Schaak Competitie,Jeugd
ORGANIZER;CN="Inge%20Oostvogels":MAILTO:inge@sv-deraadsheer.nl
END:VEVENT
BEGIN:VEVENT
DTSTART;TZID=Europe/Paris:20241215T104500
DTEND;TZID=Europe/Paris:20241215T113000
DTSTAMP:20260424T182722
CREATED:20241025T125645Z
LAST-MODIFIED:20241025T130147Z
UID:19436-1734259500-1734262200@www.sv-deraadsheer.nl
SUMMARY:Jeugdcompetitie
DESCRIPTION:Najaarscompetitie ronde 12 \n  Lees verder ...
URL:https://www.sv-deraadsheer.nl/item/jeugdcompetitie-2024-12-15/
LOCATION:Café Zaal Het Wapen van Zundert\, Katerstraat 12\, Zundert\, 4881 AR
CATEGORIES:Interne Jeugd Schaak Competitie,Jeugd
ORGANIZER;CN="Inge%20Oostvogels":MAILTO:inge@sv-deraadsheer.nl
END:VEVENT
BEGIN:VEVENT
DTSTART;TZID=Europe/Paris:20241222T104500
DTEND;TZID=Europe/Paris:20241222T113000
DTSTAMP:20260424T182722
CREATED:20241025T125648Z
LAST-MODIFIED:20241025T125648Z
UID:19437-1734864300-1734867000@www.sv-deraadsheer.nl
SUMMARY:Jeugdcompetitie
DESCRIPTION:Najaarscompetitie ronde 13 \n  Lees verder ...
URL:https://www.sv-deraadsheer.nl/item/jeugdcompetitie-2024-12-22/
LOCATION:Café Zaal Het Wapen van Zundert\, Katerstraat 12\, Zundert\, 4881 AR
CATEGORIES:Interne Jeugd Schaak Competitie,Jeugd
ORGANIZER;CN="Inge%20Oostvogels":MAILTO:inge@sv-deraadsheer.nl
END:VEVENT
END:VCALENDAR