BEGIN:VCALENDAR
VERSION:2.0
PRODID:-//SV de Raadsheer - ECPv6.0.8//NONSGML v1.0//EN
CALSCALE:GREGORIAN
METHOD:PUBLISH
X-ORIGINAL-URL:https://www.sv-deraadsheer.nl
X-WR-CALDESC:Evenementen voor SV de Raadsheer
REFRESH-INTERVAL;VALUE=DURATION:PT1H
X-Robots-Tag:noindex
X-PUBLISHED-TTL:PT1H
BEGIN:VTIMEZONE
TZID:Europe/Paris
BEGIN:DAYLIGHT
TZOFFSETFROM:+0100
TZOFFSETTO:+0200
TZNAME:CEST
DTSTART:20260329T010000
END:DAYLIGHT
BEGIN:STANDARD
TZOFFSETFROM:+0200
TZOFFSETTO:+0100
TZNAME:CET
DTSTART:20261025T010000
END:STANDARD
END:VTIMEZONE
BEGIN:VEVENT
DTSTART;TZID=Europe/Paris:20260104T104500
DTEND;TZID=Europe/Paris:20260104T113000
DTSTAMP:20260420T002654
CREATED:20251108T125033Z
LAST-MODIFIED:20251108T125033Z
UID:20571-1767523500-1767526200@www.sv-deraadsheer.nl
SUMMARY:Jeugdcompetitie
DESCRIPTION:Najaarscompetitie ronde 13 \n  Lees verder ...
URL:https://www.sv-deraadsheer.nl/item/jeugdcompetitie-2026-01-04/
CATEGORIES:Interne Jeugd Schaak Competitie,Jeugd
ORGANIZER;CN="Inge%20Oostvogels":MAILTO:inge@sv-deraadsheer.nl
END:VEVENT
BEGIN:VEVENT
DTSTART;TZID=Europe/Paris:20260111T104500
DTEND;TZID=Europe/Paris:20260111T113000
DTSTAMP:20260420T002654
CREATED:20251108T125034Z
LAST-MODIFIED:20251108T125034Z
UID:20572-1768128300-1768131000@www.sv-deraadsheer.nl
SUMMARY:Jeugdcompetitie
DESCRIPTION:Najaarscompetitie ronde 14 \n  Lees verder ...
URL:https://www.sv-deraadsheer.nl/item/jeugdcompetitie-2026-01-11/
CATEGORIES:Interne Jeugd Schaak Competitie,Jeugd
ORGANIZER;CN="Inge%20Oostvogels":MAILTO:inge@sv-deraadsheer.nl
END:VEVENT
BEGIN:VEVENT
DTSTART;TZID=Europe/Paris:20260118T104500
DTEND;TZID=Europe/Paris:20260118T113000
DTSTAMP:20260420T002655
CREATED:20251214T194140Z
LAST-MODIFIED:20251214T194159Z
UID:20704-1768733100-1768735800@www.sv-deraadsheer.nl
SUMMARY:Jeugdcompetitie
DESCRIPTION:Najaarscompetitie ronde 15 \n  Lees verder ...
URL:https://www.sv-deraadsheer.nl/item/jeugdcompetitie-2026-01-18/
CATEGORIES:Interne Jeugd Schaak Competitie,Jeugd
ORGANIZER;CN="Inge%20Oostvogels":MAILTO:inge@sv-deraadsheer.nl
END:VEVENT
BEGIN:VEVENT
DTSTART;TZID=Europe/Paris:20260125T104500
DTEND;TZID=Europe/Paris:20260125T113000
DTSTAMP:20260420T002655
CREATED:20251214T194211Z
LAST-MODIFIED:20251214T194211Z
UID:20705-1769337900-1769340600@www.sv-deraadsheer.nl
SUMMARY:Jeugdcompetitie
DESCRIPTION:Najaarscompetitie ronde 16 \n  Lees verder ...
URL:https://www.sv-deraadsheer.nl/item/jeugdcompetitie-2026-01-25/
CATEGORIES:Interne Jeugd Schaak Competitie,Jeugd
ORGANIZER;CN="Inge%20Oostvogels":MAILTO:inge@sv-deraadsheer.nl
END:VEVENT
END:VCALENDAR