BEGIN:VCALENDAR
VERSION:2.0
PRODID:-//SV de Raadsheer - ECPv6.0.8//NONSGML v1.0//EN
CALSCALE:GREGORIAN
METHOD:PUBLISH
X-WR-CALNAME:SV de Raadsheer
X-ORIGINAL-URL:https://www.sv-deraadsheer.nl
X-WR-CALDESC:Evenementen voor SV de Raadsheer
REFRESH-INTERVAL;VALUE=DURATION:PT1H
X-Robots-Tag:noindex
X-PUBLISHED-TTL:PT1H
BEGIN:VTIMEZONE
TZID:Europe/Paris
BEGIN:DAYLIGHT
TZOFFSETFROM:+0100
TZOFFSETTO:+0200
TZNAME:CEST
DTSTART:20130331T010000
END:DAYLIGHT
BEGIN:STANDARD
TZOFFSETFROM:+0200
TZOFFSETTO:+0100
TZNAME:CET
DTSTART:20131027T010000
END:STANDARD
END:VTIMEZONE
BEGIN:VEVENT
DTSTART;TZID=Europe/Paris:20131201T100000
DTEND;TZID=Europe/Paris:20131201T170000
DTSTAMP:20260425T171851
CREATED:20131113T213943Z
LAST-MODIFIED:20131125T200758Z
UID:1231-1385892000-1385917200@www.sv-deraadsheer.nl
SUMMARY:Halve Finale Brabants Jeugdkampioenschap
DESCRIPTION:Halve Finale Persoonlijk Kampioenschap Jeugd categorie ABCDE \n  Lees verder ...
URL:https://www.sv-deraadsheer.nl/item/halve-finale-brabants-jeugdkampioenschap-2/
LOCATION:Multifunctioneel Centrum De Werft\, Huygenstraat 73\, Kaatsheuvel\, 5171 EP\, Nederland
CATEGORIES:Jeugd,Jeugd Schaak Toernooi
END:VEVENT
BEGIN:VEVENT
DTSTART;TZID=Europe/Paris:20131215T000000
DTEND;TZID=Europe/Paris:20131215T000000
DTSTAMP:20260425T171851
CREATED:20131113T214603Z
LAST-MODIFIED:20131113T214603Z
UID:1234-1387065600-1387065600@www.sv-deraadsheer.nl
SUMMARY:Brabants Meisjeskampioenschap
DESCRIPTION:NBSB Meisjeskampioenschappen \n  Lees verder ...
URL:https://www.sv-deraadsheer.nl/item/brabants-meisjeskampioenschap/
LOCATION:Unnamed Venue\, Waalwijk
CATEGORIES:Jeugd,Jeugd Schaak Toernooi
END:VEVENT
BEGIN:VEVENT
DTSTART;TZID=Europe/Paris:20131215T130000
DTEND;TZID=Europe/Paris:20131215T170000
DTSTAMP:20260425T171851
CREATED:20131015T190458Z
LAST-MODIFIED:20131125T195209Z
UID:877-1387112400-1387126800@www.sv-deraadsheer.nl
SUMMARY:Grand Prix 1
DESCRIPTION:Lees verder ...
URL:https://www.sv-deraadsheer.nl/item/grand-prix-2/
LOCATION:Unnamed Venue\, Breda
CATEGORIES:Jeugd,Jeugd Schaak Toernooi
END:VEVENT
BEGIN:VEVENT
DTSTART;TZID=Europe/Paris:20131227T100000
DTEND;TZID=Europe/Paris:20131227T170000
DTSTAMP:20260425T171851
CREATED:20131020T192427Z
LAST-MODIFIED:20131125T200340Z
UID:998-1388138400-1388163600@www.sv-deraadsheer.nl
SUMMARY:PK Jeugd ABCD
DESCRIPTION:Persoonlijk Kampioenschap Jeugd categorie ABCD \n  Lees verder ...
URL:https://www.sv-deraadsheer.nl/item/pk-jeugd-abcd/
LOCATION:Multifunctioneel Centrum De Werft\, Huygenstraat 73\, Kaatsheuvel\, 5171 EP\, Nederland
CATEGORIES:Jeugd,Jeugd Schaak Toernooi
END:VEVENT
BEGIN:VEVENT
DTSTART;TZID=Europe/Paris:20131228T100000
DTEND;TZID=Europe/Paris:20131228T170000
DTSTAMP:20260425T171851
CREATED:20131020T192626Z
LAST-MODIFIED:20131125T200325Z
UID:1000-1388224800-1388250000@www.sv-deraadsheer.nl
SUMMARY:PK Jeugd ABCD
DESCRIPTION:Persoonlijk Kampioenschap Jeugd categorie ABCD \n  Lees verder ...
URL:https://www.sv-deraadsheer.nl/item/pk-jeugd-abcd-2/
LOCATION:Multifunctioneel Centrum De Werft\, Huygenstraat 73\, Kaatsheuvel\, 5171 EP\, Nederland
CATEGORIES:Jeugd,Jeugd Schaak Toernooi
END:VEVENT
BEGIN:VEVENT
DTSTART;TZID=Europe/Paris:20131229T100000
DTEND;TZID=Europe/Paris:20131229T170000
DTSTAMP:20260425T171851
CREATED:20131020T192904Z
LAST-MODIFIED:20131125T200307Z
UID:1002-1388311200-1388336400@www.sv-deraadsheer.nl
SUMMARY:PK Jeugd ABCD
DESCRIPTION:Persoonlijk Kampioenschap Jeugd categorie ABCD \n  Lees verder ...
URL:https://www.sv-deraadsheer.nl/item/pk-jeugd-abcd-4/
LOCATION:Multifunctioneel Centrum De Werft\, Huygenstraat 73\, Kaatsheuvel\, 5171 EP\, Nederland
CATEGORIES:Jeugd,Jeugd Schaak Toernooi
END:VEVENT
BEGIN:VEVENT
DTSTART;TZID=Europe/Paris:20131230T100000
DTEND;TZID=Europe/Paris:20131230T170000
DTSTAMP:20260425T171851
CREATED:20131020T192714Z
LAST-MODIFIED:20131125T200209Z
UID:1001-1388397600-1388422800@www.sv-deraadsheer.nl
SUMMARY:PK Jeugd ABCE
DESCRIPTION:Persoonlijk Kampioenschap Jeugd categorie ABCE \n  Lees verder ...
URL:https://www.sv-deraadsheer.nl/item/pk-jeugd-abcd-3/
LOCATION:Multifunctioneel Centrum De Werft\, Huygenstraat 73\, Kaatsheuvel\, 5171 EP\, Nederland
CATEGORIES:Jeugd,Jeugd Schaak Toernooi
END:VEVENT
END:VCALENDAR