BEGIN:VCALENDAR
VERSION:2.0
PRODID:-//SV de Raadsheer - ECPv6.0.8//NONSGML v1.0//EN
CALSCALE:GREGORIAN
METHOD:PUBLISH
X-ORIGINAL-URL:https://www.sv-deraadsheer.nl
X-WR-CALDESC:Evenementen voor SV de Raadsheer
REFRESH-INTERVAL;VALUE=DURATION:PT1H
X-Robots-Tag:noindex
X-PUBLISHED-TTL:PT1H
BEGIN:VTIMEZONE
TZID:Europe/Paris
BEGIN:DAYLIGHT
TZOFFSETFROM:+0100
TZOFFSETTO:+0200
TZNAME:CEST
DTSTART:20180325T010000
END:DAYLIGHT
BEGIN:STANDARD
TZOFFSETFROM:+0200
TZOFFSETTO:+0100
TZNAME:CET
DTSTART:20181028T010000
END:STANDARD
END:VTIMEZONE
BEGIN:VEVENT
DTSTART;TZID=Europe/Paris:20181103T000000
DTEND;TZID=Europe/Paris:20181103T000000
DTSTAMP:20260419T200735
CREATED:20180429T185350Z
LAST-MODIFIED:20180429T185350Z
UID:9247-1541203200-1541203200@www.sv-deraadsheer.nl
SUMMARY:Externe competitie KNSB/NBSB
DESCRIPTION:3e ronde: \nde Raadsheer 1 \n2e ronde: \nde Raadsheer 2 \nde Raadsheer 3 \n\n  Lees verder ...
URL:https://www.sv-deraadsheer.nl/item/externe-competitie-2018-11-03/
CATEGORIES:Externe Schaak Competitie,Senioren
END:VEVENT
BEGIN:VEVENT
DTSTART;TZID=Europe/Paris:20181124T000000
DTEND;TZID=Europe/Paris:20181124T000000
DTSTAMP:20260419T200735
CREATED:20180429T185544Z
LAST-MODIFIED:20180429T185544Z
UID:9248-1543017600-1543017600@www.sv-deraadsheer.nl
SUMMARY:Externe competitie KNSB/NBSB
DESCRIPTION:4e ronde: \nde Raadsheer 1 \n3e ronde: \nde Raadsheer 2 \nde Raadsheer 3 \n\n  Lees verder ...
URL:https://www.sv-deraadsheer.nl/item/externe-competitie-2018-11-24/
CATEGORIES:Externe Schaak Competitie,Senioren
END:VEVENT
END:VCALENDAR