BEGIN:VCALENDAR
VERSION:2.0
PRODID:-//SV de Raadsheer - ECPv6.0.8//NONSGML v1.0//EN
CALSCALE:GREGORIAN
METHOD:PUBLISH
X-ORIGINAL-URL:https://www.sv-deraadsheer.nl
X-WR-CALDESC:Evenementen voor SV de Raadsheer
REFRESH-INTERVAL;VALUE=DURATION:PT1H
X-Robots-Tag:noindex
X-PUBLISHED-TTL:PT1H
BEGIN:VTIMEZONE
TZID:Europe/Paris
BEGIN:DAYLIGHT
TZOFFSETFROM:+0100
TZOFFSETTO:+0200
TZNAME:CEST
DTSTART:20180325T010000
END:DAYLIGHT
BEGIN:STANDARD
TZOFFSETFROM:+0200
TZOFFSETTO:+0100
TZNAME:CET
DTSTART:20181028T010000
END:STANDARD
END:VTIMEZONE
BEGIN:VEVENT
DTSTART;TZID=Europe/Paris:20181215T000000
DTEND;TZID=Europe/Paris:20181215T000000
DTSTAMP:20260419T183145
CREATED:20180429T185759Z
LAST-MODIFIED:20180429T185759Z
UID:9249-1544832000-1544832000@www.sv-deraadsheer.nl
SUMMARY:Externe competitie KNSB/NBSB
DESCRIPTION:5e ronde: \nde Raadsheer 1 \n4e ronde: \nde Raadsheer 2 \nde Raadsheer 3 \n\n  Lees verder ...
URL:https://www.sv-deraadsheer.nl/item/externe-competitie-2018-12-15/
CATEGORIES:Externe Schaak Competitie,Senioren
END:VEVENT
END:VCALENDAR